BEGIN:VCALENDAR
VERSION:2.0
PRODID:-//Northern Kittitas County Tribune - ECPv6.15.20//NONSGML v1.0//EN
CALSCALE:GREGORIAN
METHOD:PUBLISH
X-WR-CALNAME:Northern Kittitas County Tribune
X-ORIGINAL-URL:https://nkctribune.com
X-WR-CALDESC:Events for Northern Kittitas County Tribune
REFRESH-INTERVAL;VALUE=DURATION:PT1H
X-Robots-Tag:noindex
X-PUBLISHED-TTL:PT1H
BEGIN:VTIMEZONE
TZID:America/Los_Angeles
BEGIN:DAYLIGHT
TZOFFSETFROM:-0800
TZOFFSETTO:-0700
TZNAME:PDT
DTSTART:20250309T100000
END:DAYLIGHT
BEGIN:STANDARD
TZOFFSETFROM:-0700
TZOFFSETTO:-0800
TZNAME:PST
DTSTART:20251102T090000
END:STANDARD
BEGIN:DAYLIGHT
TZOFFSETFROM:-0800
TZOFFSETTO:-0700
TZNAME:PDT
DTSTART:20260308T100000
END:DAYLIGHT
BEGIN:STANDARD
TZOFFSETFROM:-0700
TZOFFSETTO:-0800
TZNAME:PST
DTSTART:20261101T090000
END:STANDARD
BEGIN:DAYLIGHT
TZOFFSETFROM:-0800
TZOFFSETTO:-0700
TZNAME:PDT
DTSTART:20270314T100000
END:DAYLIGHT
BEGIN:STANDARD
TZOFFSETFROM:-0700
TZOFFSETTO:-0800
TZNAME:PST
DTSTART:20271107T090000
END:STANDARD
END:VTIMEZONE
BEGIN:VEVENT
DTSTART;VALUE=DATE:20260422
DTEND;VALUE=DATE:20260423
DTSTAMP:20260422T191541
CREATED:20260422T182744Z
LAST-MODIFIED:20260422T182744Z
UID:10014186-1776816000-1776902399@nkctribune.com
SUMMARY:Discover Pass Free Days - Earth Day
DESCRIPTION:Mark your calendars: No Discover Pass required on these 2026 days \nOLYMPIA – Washington’s state land management agencies have designated 12 Discover Pass free days for 2026\, creating more opportunities for visitors to experience our state’s beauty. \nOn these free days\, a Discover Pass is not required to park at Washington state parks or on lands managed by the Washington State Department of Natural Resources and the Washington Department of Fish and Wildlife. Sno-Park permits are still required when visiting Sno-Parks. \nEach of the Discover Pass free days celebrates an important day of the year with the opportunity to get outside and enjoy the restorative impact of nature with friends\, family or in a moment of well-deserved solitude. \nThe 2026 dates are:\nThursday\, Jan. 1 – New Year’s Day \nMonday\, Jan. 19 – Martin Luther King Jr. Day \nMonday\, March 9 – Billy Frank Jr.’s birthday \nThursday\, March 19 – State Parks’ 113th birthday \nWednesday\, April 22 – Earth Day \nSaturday and Sunday\, June 6-7 – Free Fishing Weekend \nFriday\, June 19 – Juneteenth \nSunday\, Aug. 9 – Smokey Bear’s birthday \nSaturday\, Sept. 26 – National Public Lands Day \nSaturday\, Oct. 10 – World Mental Health Day \nWednesday\, Nov. 11 – Veterans Day
URL:https://nkctribune.com/event/discover-pass-free-days-earth-day-2/
CATEGORIES:General,Outdoors,Recreation
END:VEVENT
BEGIN:VEVENT
DTSTART;VALUE=DATE:20260422
DTEND;VALUE=DATE:20260620
DTSTAMP:20260422T191541
CREATED:20260422T175716Z
LAST-MODIFIED:20260422T180142Z
UID:10014185-1776844800-1781888400@nkctribune.com
SUMMARY:2026 Pioneer Days Mushroom Queen/King Contest
DESCRIPTION:2026 Pioneer Days Mushroom Queen/King Contest: \nNow through June 19. \nGet out there and hunt a Boletus mushroom for the annual contest sponsored by Cle Elum Lodge #1968\, Order Sons and Daughters of Italy in America and Glondo’s Sausage Company. \nTrophy prizes for 1st\, 2nd\, and 3rd place based on weight. \nMushroom of genus Boletus only. Mushroom must be edible\, in good condition\, and not altered in any way\, shape\, or form. \nAll entries must be submitted to Glondo’s Sausage Company\, 216 East 1st Street\, Cle Elum by 5:00 p.m. on Friday\, June 19\, 2026.
URL:https://nkctribune.com/event/2026-pioneer-days-mushroom-queen-king-contest/2026-04-22/
CATEGORIES:Festivals, Parades & Fairs,General,Other Events,Outdoors,Recreation
END:VEVENT
BEGIN:VEVENT
DTSTART;TZID=America/Los_Angeles:20260422T120000
DTEND;TZID=America/Los_Angeles:20260422T123000
DTSTAMP:20260422T191541
CREATED:20260304T200917Z
LAST-MODIFIED:20260304T200917Z
UID:10013468-1776859200-1776861000@nkctribune.com
SUMMARY:Blood Pressure Checks by Medic One at UKC Senior Center
DESCRIPTION:Come monitor your blood pressure. Medic One is on site weekly for this service.
URL:https://nkctribune.com/event/blood-pressure-checks-by-medic-one-at-ukc-senior-center/2026-04-22/
LOCATION:UKC Senior Center\, 719 E. 3rd St.\, Cle Elum\, WA\, 98922\, United States
ATTACH;FMTTYPE=image/jpeg:https://nkctribune.com/wp-content/uploads/2026/03/BP-Check-2024-01.jpg
ORGANIZER;CN="Upper Kittitas County Senior Center":MAILTO:centerdir23@gmail.com
GEO:47.1949908;-120.923117
X-APPLE-STRUCTURED-LOCATION;VALUE=URI;X-ADDRESS=UKC Senior Center 719 E. 3rd St. Cle Elum WA 98922 United States;X-APPLE-RADIUS=500;X-TITLE=719 E. 3rd St.:geo:-120.923117,47.1949908
END:VEVENT
BEGIN:VEVENT
DTSTART;TZID=America/Los_Angeles:20260422T190000
DTEND;TZID=America/Los_Angeles:20260422T190000
DTSTAMP:20260422T191541
CREATED:20190806T192939Z
LAST-MODIFIED:20260106T220826Z
UID:10002195-1776884400-1776884400@nkctribune.com
SUMMARY:Cle  Elum Eagles Aerie #649 Meeting
DESCRIPTION:The Cle Elum Aerie #649 meets every 2nd & 4th Wednesday of the Month at 7:00 p.m. at the Club on Pennsylvania Ave.
URL:https://nkctribune.com/event/cle-elum-eagles-aerie-649-meeting-3/2026-04-22/
LOCATION:Cle Elum Eagles\, 220 N Pennsylvania Ave\, Cle Elum\, WA\, United States
CATEGORIES:Club Events,Meetings
GEO:47.195606;-120.937746
X-APPLE-STRUCTURED-LOCATION;VALUE=URI;X-ADDRESS=Cle Elum Eagles 220 N Pennsylvania Ave Cle Elum WA United States;X-APPLE-RADIUS=500;X-TITLE=220 N Pennsylvania Ave:geo:-120.937746,47.195606
END:VEVENT
END:VCALENDAR