BEGIN:VCALENDAR
VERSION:2.0
PRODID:-//Northern Kittitas County Tribune - ECPv6.15.20//NONSGML v1.0//EN
CALSCALE:GREGORIAN
METHOD:PUBLISH
X-WR-CALNAME:Northern Kittitas County Tribune
X-ORIGINAL-URL:https://nkctribune.com
X-WR-CALDESC:Events for Northern Kittitas County Tribune
REFRESH-INTERVAL;VALUE=DURATION:PT1H
X-Robots-Tag:noindex
X-PUBLISHED-TTL:PT1H
BEGIN:VTIMEZONE
TZID:America/Los_Angeles
BEGIN:DAYLIGHT
TZOFFSETFROM:-0800
TZOFFSETTO:-0700
TZNAME:PDT
DTSTART:20240310T100000
END:DAYLIGHT
BEGIN:STANDARD
TZOFFSETFROM:-0700
TZOFFSETTO:-0800
TZNAME:PST
DTSTART:20241103T090000
END:STANDARD
BEGIN:DAYLIGHT
TZOFFSETFROM:-0800
TZOFFSETTO:-0700
TZNAME:PDT
DTSTART:20250309T100000
END:DAYLIGHT
BEGIN:STANDARD
TZOFFSETFROM:-0700
TZOFFSETTO:-0800
TZNAME:PST
DTSTART:20251102T090000
END:STANDARD
BEGIN:DAYLIGHT
TZOFFSETFROM:-0800
TZOFFSETTO:-0700
TZNAME:PDT
DTSTART:20260308T100000
END:DAYLIGHT
BEGIN:STANDARD
TZOFFSETFROM:-0700
TZOFFSETTO:-0800
TZNAME:PST
DTSTART:20261101T090000
END:STANDARD
END:VTIMEZONE
BEGIN:VEVENT
DTSTART;TZID=America/Los_Angeles:20250503T090000
DTEND;TZID=America/Los_Angeles:20250503T120000
DTSTAMP:20260419T171538
CREATED:20250402T234730Z
LAST-MODIFIED:20260106T220819Z
UID:10011328-1746262800-1746273600@nkctribune.com
SUMMARY:Crafters in the Canyon
DESCRIPTION:Spring Crafters Market at Canyon River Ranch \nSaturday May 3\, 2025 – 9am-12pm – Canyon River Lodge \nKicking off the market season with you favorite local and regional artisans just in time for Mother’s and Father’s Day gifting. \n\nEnjoy lunch on the river – Book your table at the Canyon River Grill at www.CanyonRiverGrill.com\nVisit Red’s Fly Shop and book your guided fishing hunting\, and river cruises for the season.\nTour one of our luxury 2-bedroom condos and enter to win!\n\nInterested in being a vender? – Email Events@CanyonRiver.net \nFor Event Questions -Please Call (509) 933-2100
URL:https://nkctribune.com/event/crafters-in-the-canyon/
LOCATION:Canyon River Ranch\, 14700 Canyon Road\, Ellensburg\, WA\, 98926\, United States
CATEGORIES:Craft Fairs & Bazaars,Dinners, Dances & Auctions,General,Markets,Outdoors,Recreation
GEO:46.8426706;-120.4616222
X-APPLE-STRUCTURED-LOCATION;VALUE=URI;X-ADDRESS=Canyon River Ranch 14700 Canyon Road Ellensburg WA 98926 United States;X-APPLE-RADIUS=500;X-TITLE=14700 Canyon Road:geo:-120.4616222,46.8426706
END:VEVENT
END:VCALENDAR