BEGIN:VCALENDAR
VERSION:2.0
PRODID:-//Northern Kittitas County Tribune - ECPv6.15.20//NONSGML v1.0//EN
CALSCALE:GREGORIAN
METHOD:PUBLISH
X-WR-CALNAME:Northern Kittitas County Tribune
X-ORIGINAL-URL:https://nkctribune.com
X-WR-CALDESC:Events for Northern Kittitas County Tribune
REFRESH-INTERVAL;VALUE=DURATION:PT1H
X-Robots-Tag:noindex
X-PUBLISHED-TTL:PT1H
BEGIN:VTIMEZONE
TZID:America/Los_Angeles
BEGIN:DAYLIGHT
TZOFFSETFROM:-0800
TZOFFSETTO:-0700
TZNAME:PDT
DTSTART:20260308T100000
END:DAYLIGHT
BEGIN:STANDARD
TZOFFSETFROM:-0700
TZOFFSETTO:-0800
TZNAME:PST
DTSTART:20261101T090000
END:STANDARD
BEGIN:DAYLIGHT
TZOFFSETFROM:-0800
TZOFFSETTO:-0700
TZNAME:PDT
DTSTART:20270314T100000
END:DAYLIGHT
BEGIN:STANDARD
TZOFFSETFROM:-0700
TZOFFSETTO:-0800
TZNAME:PST
DTSTART:20271107T090000
END:STANDARD
BEGIN:DAYLIGHT
TZOFFSETFROM:-0800
TZOFFSETTO:-0700
TZNAME:PDT
DTSTART:20280312T100000
END:DAYLIGHT
BEGIN:STANDARD
TZOFFSETFROM:-0700
TZOFFSETTO:-0800
TZNAME:PST
DTSTART:20281105T090000
END:STANDARD
END:VTIMEZONE
BEGIN:VEVENT
DTSTART;TZID=America/Los_Angeles:20270428T190000
DTEND;TZID=America/Los_Angeles:20270428T190000
DTSTAMP:20260423T232727
CREATED:20190806T192939Z
LAST-MODIFIED:20260106T220826Z
UID:10002207-1808938800-1808938800@nkctribune.com
SUMMARY:Cle  Elum Eagles Aerie #649 Meeting
DESCRIPTION:The Cle Elum Aerie #649 meets every 2nd & 4th Wednesday of the Month at 7:00 p.m. at the Club on Pennsylvania Ave.
URL:https://nkctribune.com/event/cle-elum-eagles-aerie-649-meeting-3/2027-04-28/
LOCATION:Cle Elum Eagles\, 220 N Pennsylvania Ave\, Cle Elum\, WA\, United States
CATEGORIES:Club Events,Meetings
GEO:47.195606;-120.937746
X-APPLE-STRUCTURED-LOCATION;VALUE=URI;X-ADDRESS=Cle Elum Eagles 220 N Pennsylvania Ave Cle Elum WA United States;X-APPLE-RADIUS=500;X-TITLE=220 N Pennsylvania Ave:geo:-120.937746,47.195606
END:VEVENT
BEGIN:VEVENT
DTSTART;TZID=America/Los_Angeles:20270504T153000
DTEND;TZID=America/Los_Angeles:20270504T163000
DTSTAMP:20260423T232727
CREATED:20260126T172908Z
LAST-MODIFIED:20260126T172908Z
UID:10013146-1809444600-1809448200@nkctribune.com
SUMMARY:Roslyn Library's Lego Club
DESCRIPTION:Roslyn Library Lego Club\, Every Tuesday of the month from 3:30-4:30 p.m. at the Roslyn Library\, 201 S. First St.\, Roslyn. Free\, Lego activities geared towards kids 5-12 but all are welcome. Children must be independent or accompanied by a responsible individual.
URL:https://nkctribune.com/event/roslyn-librarys-lego-club/2027-05-04/
LOCATION:Roslyn Library\, 201 S First St\, Roslyn\, WA\, United States
CATEGORIES:Club Events,Youth
GEO:47.222532;-120.991353
X-APPLE-STRUCTURED-LOCATION;VALUE=URI;X-ADDRESS=Roslyn Library 201 S First St Roslyn WA United States;X-APPLE-RADIUS=500;X-TITLE=201 S First St:geo:-120.991353,47.222532
END:VEVENT
BEGIN:VEVENT
DTSTART;TZID=America/Los_Angeles:20270511T153000
DTEND;TZID=America/Los_Angeles:20270511T163000
DTSTAMP:20260423T232727
CREATED:20260126T172908Z
LAST-MODIFIED:20260126T172908Z
UID:10013147-1810049400-1810053000@nkctribune.com
SUMMARY:Roslyn Library's Lego Club
DESCRIPTION:Roslyn Library Lego Club\, Every Tuesday of the month from 3:30-4:30 p.m. at the Roslyn Library\, 201 S. First St.\, Roslyn. Free\, Lego activities geared towards kids 5-12 but all are welcome. Children must be independent or accompanied by a responsible individual.
URL:https://nkctribune.com/event/roslyn-librarys-lego-club/2027-05-11/
LOCATION:Roslyn Library\, 201 S First St\, Roslyn\, WA\, United States
CATEGORIES:Club Events,Youth
GEO:47.222532;-120.991353
X-APPLE-STRUCTURED-LOCATION;VALUE=URI;X-ADDRESS=Roslyn Library 201 S First St Roslyn WA United States;X-APPLE-RADIUS=500;X-TITLE=201 S First St:geo:-120.991353,47.222532
END:VEVENT
BEGIN:VEVENT
DTSTART;TZID=America/Los_Angeles:20270511T190000
DTEND;TZID=America/Los_Angeles:20270511T190000
DTSTAMP:20260423T232727
CREATED:20190806T193223Z
LAST-MODIFIED:20260106T220828Z
UID:10002040-1810062000-1810062000@nkctribune.com
SUMMARY:Cle Elum Eagles #649 Auxiliary Meeting
DESCRIPTION:The Cle Elum Eagles Auxiliary #649 meets every 2nd & 4th Tuesday of the Month at 7:00 p.m. at the Club on Pennsylvania Ave.
URL:https://nkctribune.com/event/cle-elum-eagles-649-auxiliary-meeting/2027-05-11/
LOCATION:Cle Elum Eagles Club\, 220 N. Pennsylvania Ave.\, Cle Elum\, WA\, 98922\, United States
CATEGORIES:Club Events,Meetings
GEO:47.1956022;-120.9378307
X-APPLE-STRUCTURED-LOCATION;VALUE=URI;X-ADDRESS=Cle Elum Eagles Club 220 N. Pennsylvania Ave. Cle Elum WA 98922 United States;X-APPLE-RADIUS=500;X-TITLE=220 N. Pennsylvania Ave.:geo:-120.9378307,47.1956022
END:VEVENT
BEGIN:VEVENT
DTSTART;TZID=America/Los_Angeles:20270512T190000
DTEND;TZID=America/Los_Angeles:20270512T190000
DTSTAMP:20260423T232727
CREATED:20190806T192516Z
LAST-MODIFIED:20260106T220829Z
UID:10002151-1810148400-1810148400@nkctribune.com
SUMMARY:Cle Elum Eagles Aerie #649 Meeting
DESCRIPTION:The Cle Elum Aerie #649 meets every 2nd & 4th Wednesday of the Month at 7:00 p.m. at the Club on Pennsylvania Ave.
URL:https://nkctribune.com/event/cle-elum-eagles-aerie-649-meeting-2/2027-05-12/
LOCATION:Cle Elum Eagles\, 220 N Pennsylvania Ave\, Cle Elum\, WA\, United States
CATEGORIES:Club Events,Meetings
GEO:47.195606;-120.937746
X-APPLE-STRUCTURED-LOCATION;VALUE=URI;X-ADDRESS=Cle Elum Eagles 220 N Pennsylvania Ave Cle Elum WA United States;X-APPLE-RADIUS=500;X-TITLE=220 N Pennsylvania Ave:geo:-120.937746,47.195606
END:VEVENT
BEGIN:VEVENT
DTSTART;TZID=America/Los_Angeles:20270514T183000
DTEND;TZID=America/Los_Angeles:20270514T203000
DTSTAMP:20260423T232727
CREATED:20160525T074153Z
LAST-MODIFIED:20260106T220828Z
UID:10001623-1810319400-1810326600@nkctribune.com
SUMMARY:Beekeepers of Kittitas County Monthly Meeting
DESCRIPTION:Beekeepers of Kittitas County Monthly Meeting\, Meets 2nd Tuesday of every month\, 6:30-8:30 p.m.\, Naneum Bee Farm\, 4451 Naneum Rd.\, Ellensburg. For info\, call 509-962-4043\, www.wasba.org.
URL:https://nkctribune.com/event/beekeepers-of-kittitas-county-monthly-meeting/2027-05-14/
LOCATION:Naneum Bee Farm\, 4451 Naneum Rd.\, Ellensburg\, WA\, 98926\, United States
CATEGORIES:Club Events
GEO:47.038568;-120.468793
X-APPLE-STRUCTURED-LOCATION;VALUE=URI;X-ADDRESS=Naneum Bee Farm 4451 Naneum Rd. Ellensburg WA 98926 United States;X-APPLE-RADIUS=500;X-TITLE=4451 Naneum Rd.:geo:-120.468793,47.038568
END:VEVENT
BEGIN:VEVENT
DTSTART;TZID=America/Los_Angeles:20270518T153000
DTEND;TZID=America/Los_Angeles:20270518T163000
DTSTAMP:20260423T232727
CREATED:20260126T172908Z
LAST-MODIFIED:20260126T172908Z
UID:10013148-1810654200-1810657800@nkctribune.com
SUMMARY:Roslyn Library's Lego Club
DESCRIPTION:Roslyn Library Lego Club\, Every Tuesday of the month from 3:30-4:30 p.m. at the Roslyn Library\, 201 S. First St.\, Roslyn. Free\, Lego activities geared towards kids 5-12 but all are welcome. Children must be independent or accompanied by a responsible individual.
URL:https://nkctribune.com/event/roslyn-librarys-lego-club/2027-05-18/
LOCATION:Roslyn Library\, 201 S First St\, Roslyn\, WA\, United States
CATEGORIES:Club Events,Youth
GEO:47.222532;-120.991353
X-APPLE-STRUCTURED-LOCATION;VALUE=URI;X-ADDRESS=Roslyn Library 201 S First St Roslyn WA United States;X-APPLE-RADIUS=500;X-TITLE=201 S First St:geo:-120.991353,47.222532
END:VEVENT
BEGIN:VEVENT
DTSTART;TZID=America/Los_Angeles:20270525T153000
DTEND;TZID=America/Los_Angeles:20270525T163000
DTSTAMP:20260423T232727
CREATED:20260126T172908Z
LAST-MODIFIED:20260126T172908Z
UID:10013149-1811259000-1811262600@nkctribune.com
SUMMARY:Roslyn Library's Lego Club
DESCRIPTION:Roslyn Library Lego Club\, Every Tuesday of the month from 3:30-4:30 p.m. at the Roslyn Library\, 201 S. First St.\, Roslyn. Free\, Lego activities geared towards kids 5-12 but all are welcome. Children must be independent or accompanied by a responsible individual.
URL:https://nkctribune.com/event/roslyn-librarys-lego-club/2027-05-25/
LOCATION:Roslyn Library\, 201 S First St\, Roslyn\, WA\, United States
CATEGORIES:Club Events,Youth
GEO:47.222532;-120.991353
X-APPLE-STRUCTURED-LOCATION;VALUE=URI;X-ADDRESS=Roslyn Library 201 S First St Roslyn WA United States;X-APPLE-RADIUS=500;X-TITLE=201 S First St:geo:-120.991353,47.222532
END:VEVENT
BEGIN:VEVENT
DTSTART;TZID=America/Los_Angeles:20270526T190000
DTEND;TZID=America/Los_Angeles:20270526T190000
DTSTAMP:20260423T232727
CREATED:20190806T192939Z
LAST-MODIFIED:20260106T220826Z
UID:10002208-1811358000-1811358000@nkctribune.com
SUMMARY:Cle  Elum Eagles Aerie #649 Meeting
DESCRIPTION:The Cle Elum Aerie #649 meets every 2nd & 4th Wednesday of the Month at 7:00 p.m. at the Club on Pennsylvania Ave.
URL:https://nkctribune.com/event/cle-elum-eagles-aerie-649-meeting-3/2027-05-26/
LOCATION:Cle Elum Eagles\, 220 N Pennsylvania Ave\, Cle Elum\, WA\, United States
CATEGORIES:Club Events,Meetings
GEO:47.195606;-120.937746
X-APPLE-STRUCTURED-LOCATION;VALUE=URI;X-ADDRESS=Cle Elum Eagles 220 N Pennsylvania Ave Cle Elum WA United States;X-APPLE-RADIUS=500;X-TITLE=220 N Pennsylvania Ave:geo:-120.937746,47.195606
END:VEVENT
BEGIN:VEVENT
DTSTART;TZID=America/Los_Angeles:20270601T153000
DTEND;TZID=America/Los_Angeles:20270601T163000
DTSTAMP:20260423T232727
CREATED:20260126T172908Z
LAST-MODIFIED:20260126T172908Z
UID:10013150-1811863800-1811867400@nkctribune.com
SUMMARY:Roslyn Library's Lego Club
DESCRIPTION:Roslyn Library Lego Club\, Every Tuesday of the month from 3:30-4:30 p.m. at the Roslyn Library\, 201 S. First St.\, Roslyn. Free\, Lego activities geared towards kids 5-12 but all are welcome. Children must be independent or accompanied by a responsible individual.
URL:https://nkctribune.com/event/roslyn-librarys-lego-club/2027-06-01/
LOCATION:Roslyn Library\, 201 S First St\, Roslyn\, WA\, United States
CATEGORIES:Club Events,Youth
GEO:47.222532;-120.991353
X-APPLE-STRUCTURED-LOCATION;VALUE=URI;X-ADDRESS=Roslyn Library 201 S First St Roslyn WA United States;X-APPLE-RADIUS=500;X-TITLE=201 S First St:geo:-120.991353,47.222532
END:VEVENT
BEGIN:VEVENT
DTSTART;TZID=America/Los_Angeles:20270608T153000
DTEND;TZID=America/Los_Angeles:20270608T163000
DTSTAMP:20260423T232727
CREATED:20260126T172908Z
LAST-MODIFIED:20260126T172908Z
UID:10013151-1812468600-1812472200@nkctribune.com
SUMMARY:Roslyn Library's Lego Club
DESCRIPTION:Roslyn Library Lego Club\, Every Tuesday of the month from 3:30-4:30 p.m. at the Roslyn Library\, 201 S. First St.\, Roslyn. Free\, Lego activities geared towards kids 5-12 but all are welcome. Children must be independent or accompanied by a responsible individual.
URL:https://nkctribune.com/event/roslyn-librarys-lego-club/2027-06-08/
LOCATION:Roslyn Library\, 201 S First St\, Roslyn\, WA\, United States
CATEGORIES:Club Events,Youth
GEO:47.222532;-120.991353
X-APPLE-STRUCTURED-LOCATION;VALUE=URI;X-ADDRESS=Roslyn Library 201 S First St Roslyn WA United States;X-APPLE-RADIUS=500;X-TITLE=201 S First St:geo:-120.991353,47.222532
END:VEVENT
BEGIN:VEVENT
DTSTART;TZID=America/Los_Angeles:20270608T190000
DTEND;TZID=America/Los_Angeles:20270608T190000
DTSTAMP:20260423T232727
CREATED:20190806T193223Z
LAST-MODIFIED:20260106T220828Z
UID:10002041-1812481200-1812481200@nkctribune.com
SUMMARY:Cle Elum Eagles #649 Auxiliary Meeting
DESCRIPTION:The Cle Elum Eagles Auxiliary #649 meets every 2nd & 4th Tuesday of the Month at 7:00 p.m. at the Club on Pennsylvania Ave.
URL:https://nkctribune.com/event/cle-elum-eagles-649-auxiliary-meeting/2027-06-08/
LOCATION:Cle Elum Eagles Club\, 220 N. Pennsylvania Ave.\, Cle Elum\, WA\, 98922\, United States
CATEGORIES:Club Events,Meetings
GEO:47.1956022;-120.9378307
X-APPLE-STRUCTURED-LOCATION;VALUE=URI;X-ADDRESS=Cle Elum Eagles Club 220 N. Pennsylvania Ave. Cle Elum WA 98922 United States;X-APPLE-RADIUS=500;X-TITLE=220 N. Pennsylvania Ave.:geo:-120.9378307,47.1956022
END:VEVENT
BEGIN:VEVENT
DTSTART;TZID=America/Los_Angeles:20270609T190000
DTEND;TZID=America/Los_Angeles:20270609T190000
DTSTAMP:20260423T232727
CREATED:20190806T192516Z
LAST-MODIFIED:20260106T220829Z
UID:10002152-1812567600-1812567600@nkctribune.com
SUMMARY:Cle Elum Eagles Aerie #649 Meeting
DESCRIPTION:The Cle Elum Aerie #649 meets every 2nd & 4th Wednesday of the Month at 7:00 p.m. at the Club on Pennsylvania Ave.
URL:https://nkctribune.com/event/cle-elum-eagles-aerie-649-meeting-2/2027-06-09/
LOCATION:Cle Elum Eagles\, 220 N Pennsylvania Ave\, Cle Elum\, WA\, United States
CATEGORIES:Club Events,Meetings
GEO:47.195606;-120.937746
X-APPLE-STRUCTURED-LOCATION;VALUE=URI;X-ADDRESS=Cle Elum Eagles 220 N Pennsylvania Ave Cle Elum WA United States;X-APPLE-RADIUS=500;X-TITLE=220 N Pennsylvania Ave:geo:-120.937746,47.195606
END:VEVENT
BEGIN:VEVENT
DTSTART;TZID=America/Los_Angeles:20270614T183000
DTEND;TZID=America/Los_Angeles:20270614T203000
DTSTAMP:20260423T232727
CREATED:20160525T074153Z
LAST-MODIFIED:20260106T220828Z
UID:10001624-1812997800-1813005000@nkctribune.com
SUMMARY:Beekeepers of Kittitas County Monthly Meeting
DESCRIPTION:Beekeepers of Kittitas County Monthly Meeting\, Meets 2nd Tuesday of every month\, 6:30-8:30 p.m.\, Naneum Bee Farm\, 4451 Naneum Rd.\, Ellensburg. For info\, call 509-962-4043\, www.wasba.org.
URL:https://nkctribune.com/event/beekeepers-of-kittitas-county-monthly-meeting/2027-06-14/
LOCATION:Naneum Bee Farm\, 4451 Naneum Rd.\, Ellensburg\, WA\, 98926\, United States
CATEGORIES:Club Events
GEO:47.038568;-120.468793
X-APPLE-STRUCTURED-LOCATION;VALUE=URI;X-ADDRESS=Naneum Bee Farm 4451 Naneum Rd. Ellensburg WA 98926 United States;X-APPLE-RADIUS=500;X-TITLE=4451 Naneum Rd.:geo:-120.468793,47.038568
END:VEVENT
BEGIN:VEVENT
DTSTART;TZID=America/Los_Angeles:20270615T153000
DTEND;TZID=America/Los_Angeles:20270615T163000
DTSTAMP:20260423T232727
CREATED:20260126T172908Z
LAST-MODIFIED:20260126T172908Z
UID:10013152-1813073400-1813077000@nkctribune.com
SUMMARY:Roslyn Library's Lego Club
DESCRIPTION:Roslyn Library Lego Club\, Every Tuesday of the month from 3:30-4:30 p.m. at the Roslyn Library\, 201 S. First St.\, Roslyn. Free\, Lego activities geared towards kids 5-12 but all are welcome. Children must be independent or accompanied by a responsible individual.
URL:https://nkctribune.com/event/roslyn-librarys-lego-club/2027-06-15/
LOCATION:Roslyn Library\, 201 S First St\, Roslyn\, WA\, United States
CATEGORIES:Club Events,Youth
GEO:47.222532;-120.991353
X-APPLE-STRUCTURED-LOCATION;VALUE=URI;X-ADDRESS=Roslyn Library 201 S First St Roslyn WA United States;X-APPLE-RADIUS=500;X-TITLE=201 S First St:geo:-120.991353,47.222532
END:VEVENT
BEGIN:VEVENT
DTSTART;TZID=America/Los_Angeles:20270622T153000
DTEND;TZID=America/Los_Angeles:20270622T163000
DTSTAMP:20260423T232727
CREATED:20260126T172908Z
LAST-MODIFIED:20260126T172908Z
UID:10013153-1813678200-1813681800@nkctribune.com
SUMMARY:Roslyn Library's Lego Club
DESCRIPTION:Roslyn Library Lego Club\, Every Tuesday of the month from 3:30-4:30 p.m. at the Roslyn Library\, 201 S. First St.\, Roslyn. Free\, Lego activities geared towards kids 5-12 but all are welcome. Children must be independent or accompanied by a responsible individual.
URL:https://nkctribune.com/event/roslyn-librarys-lego-club/2027-06-22/
LOCATION:Roslyn Library\, 201 S First St\, Roslyn\, WA\, United States
CATEGORIES:Club Events,Youth
GEO:47.222532;-120.991353
X-APPLE-STRUCTURED-LOCATION;VALUE=URI;X-ADDRESS=Roslyn Library 201 S First St Roslyn WA United States;X-APPLE-RADIUS=500;X-TITLE=201 S First St:geo:-120.991353,47.222532
END:VEVENT
BEGIN:VEVENT
DTSTART;TZID=America/Los_Angeles:20270623T190000
DTEND;TZID=America/Los_Angeles:20270623T190000
DTSTAMP:20260423T232727
CREATED:20190806T192939Z
LAST-MODIFIED:20260106T220826Z
UID:10002209-1813777200-1813777200@nkctribune.com
SUMMARY:Cle  Elum Eagles Aerie #649 Meeting
DESCRIPTION:The Cle Elum Aerie #649 meets every 2nd & 4th Wednesday of the Month at 7:00 p.m. at the Club on Pennsylvania Ave.
URL:https://nkctribune.com/event/cle-elum-eagles-aerie-649-meeting-3/2027-06-23/
LOCATION:Cle Elum Eagles\, 220 N Pennsylvania Ave\, Cle Elum\, WA\, United States
CATEGORIES:Club Events,Meetings
GEO:47.195606;-120.937746
X-APPLE-STRUCTURED-LOCATION;VALUE=URI;X-ADDRESS=Cle Elum Eagles 220 N Pennsylvania Ave Cle Elum WA United States;X-APPLE-RADIUS=500;X-TITLE=220 N Pennsylvania Ave:geo:-120.937746,47.195606
END:VEVENT
BEGIN:VEVENT
DTSTART;TZID=America/Los_Angeles:20270629T153000
DTEND;TZID=America/Los_Angeles:20270629T163000
DTSTAMP:20260423T232727
CREATED:20260126T172908Z
LAST-MODIFIED:20260126T172908Z
UID:10013154-1814283000-1814286600@nkctribune.com
SUMMARY:Roslyn Library's Lego Club
DESCRIPTION:Roslyn Library Lego Club\, Every Tuesday of the month from 3:30-4:30 p.m. at the Roslyn Library\, 201 S. First St.\, Roslyn. Free\, Lego activities geared towards kids 5-12 but all are welcome. Children must be independent or accompanied by a responsible individual.
URL:https://nkctribune.com/event/roslyn-librarys-lego-club/2027-06-29/
LOCATION:Roslyn Library\, 201 S First St\, Roslyn\, WA\, United States
CATEGORIES:Club Events,Youth
GEO:47.222532;-120.991353
X-APPLE-STRUCTURED-LOCATION;VALUE=URI;X-ADDRESS=Roslyn Library 201 S First St Roslyn WA United States;X-APPLE-RADIUS=500;X-TITLE=201 S First St:geo:-120.991353,47.222532
END:VEVENT
BEGIN:VEVENT
DTSTART;TZID=America/Los_Angeles:20270706T153000
DTEND;TZID=America/Los_Angeles:20270706T163000
DTSTAMP:20260423T232727
CREATED:20260126T172908Z
LAST-MODIFIED:20260126T172908Z
UID:10013155-1814887800-1814891400@nkctribune.com
SUMMARY:Roslyn Library's Lego Club
DESCRIPTION:Roslyn Library Lego Club\, Every Tuesday of the month from 3:30-4:30 p.m. at the Roslyn Library\, 201 S. First St.\, Roslyn. Free\, Lego activities geared towards kids 5-12 but all are welcome. Children must be independent or accompanied by a responsible individual.
URL:https://nkctribune.com/event/roslyn-librarys-lego-club/2027-07-06/
LOCATION:Roslyn Library\, 201 S First St\, Roslyn\, WA\, United States
CATEGORIES:Club Events,Youth
GEO:47.222532;-120.991353
X-APPLE-STRUCTURED-LOCATION;VALUE=URI;X-ADDRESS=Roslyn Library 201 S First St Roslyn WA United States;X-APPLE-RADIUS=500;X-TITLE=201 S First St:geo:-120.991353,47.222532
END:VEVENT
BEGIN:VEVENT
DTSTART;TZID=America/Los_Angeles:20270713T153000
DTEND;TZID=America/Los_Angeles:20270713T163000
DTSTAMP:20260423T232727
CREATED:20260126T172908Z
LAST-MODIFIED:20260126T172908Z
UID:10013156-1815492600-1815496200@nkctribune.com
SUMMARY:Roslyn Library's Lego Club
DESCRIPTION:Roslyn Library Lego Club\, Every Tuesday of the month from 3:30-4:30 p.m. at the Roslyn Library\, 201 S. First St.\, Roslyn. Free\, Lego activities geared towards kids 5-12 but all are welcome. Children must be independent or accompanied by a responsible individual.
URL:https://nkctribune.com/event/roslyn-librarys-lego-club/2027-07-13/
LOCATION:Roslyn Library\, 201 S First St\, Roslyn\, WA\, United States
CATEGORIES:Club Events,Youth
GEO:47.222532;-120.991353
X-APPLE-STRUCTURED-LOCATION;VALUE=URI;X-ADDRESS=Roslyn Library 201 S First St Roslyn WA United States;X-APPLE-RADIUS=500;X-TITLE=201 S First St:geo:-120.991353,47.222532
END:VEVENT
BEGIN:VEVENT
DTSTART;TZID=America/Los_Angeles:20270713T190000
DTEND;TZID=America/Los_Angeles:20270713T190000
DTSTAMP:20260423T232727
CREATED:20190806T193223Z
LAST-MODIFIED:20260106T220828Z
UID:10002042-1815505200-1815505200@nkctribune.com
SUMMARY:Cle Elum Eagles #649 Auxiliary Meeting
DESCRIPTION:The Cle Elum Eagles Auxiliary #649 meets every 2nd & 4th Tuesday of the Month at 7:00 p.m. at the Club on Pennsylvania Ave.
URL:https://nkctribune.com/event/cle-elum-eagles-649-auxiliary-meeting/2027-07-13/
LOCATION:Cle Elum Eagles Club\, 220 N. Pennsylvania Ave.\, Cle Elum\, WA\, 98922\, United States
CATEGORIES:Club Events,Meetings
GEO:47.1956022;-120.9378307
X-APPLE-STRUCTURED-LOCATION;VALUE=URI;X-ADDRESS=Cle Elum Eagles Club 220 N. Pennsylvania Ave. Cle Elum WA 98922 United States;X-APPLE-RADIUS=500;X-TITLE=220 N. Pennsylvania Ave.:geo:-120.9378307,47.1956022
END:VEVENT
BEGIN:VEVENT
DTSTART;TZID=America/Los_Angeles:20270714T183000
DTEND;TZID=America/Los_Angeles:20270714T203000
DTSTAMP:20260423T232727
CREATED:20160525T074153Z
LAST-MODIFIED:20260106T220828Z
UID:10001625-1815589800-1815597000@nkctribune.com
SUMMARY:Beekeepers of Kittitas County Monthly Meeting
DESCRIPTION:Beekeepers of Kittitas County Monthly Meeting\, Meets 2nd Tuesday of every month\, 6:30-8:30 p.m.\, Naneum Bee Farm\, 4451 Naneum Rd.\, Ellensburg. For info\, call 509-962-4043\, www.wasba.org.
URL:https://nkctribune.com/event/beekeepers-of-kittitas-county-monthly-meeting/2027-07-14/
LOCATION:Naneum Bee Farm\, 4451 Naneum Rd.\, Ellensburg\, WA\, 98926\, United States
CATEGORIES:Club Events
GEO:47.038568;-120.468793
X-APPLE-STRUCTURED-LOCATION;VALUE=URI;X-ADDRESS=Naneum Bee Farm 4451 Naneum Rd. Ellensburg WA 98926 United States;X-APPLE-RADIUS=500;X-TITLE=4451 Naneum Rd.:geo:-120.468793,47.038568
END:VEVENT
BEGIN:VEVENT
DTSTART;TZID=America/Los_Angeles:20270714T190000
DTEND;TZID=America/Los_Angeles:20270714T190000
DTSTAMP:20260423T232727
CREATED:20190806T192516Z
LAST-MODIFIED:20260106T220829Z
UID:10002153-1815591600-1815591600@nkctribune.com
SUMMARY:Cle Elum Eagles Aerie #649 Meeting
DESCRIPTION:The Cle Elum Aerie #649 meets every 2nd & 4th Wednesday of the Month at 7:00 p.m. at the Club on Pennsylvania Ave.
URL:https://nkctribune.com/event/cle-elum-eagles-aerie-649-meeting-2/2027-07-14/
LOCATION:Cle Elum Eagles\, 220 N Pennsylvania Ave\, Cle Elum\, WA\, United States
CATEGORIES:Club Events,Meetings
GEO:47.195606;-120.937746
X-APPLE-STRUCTURED-LOCATION;VALUE=URI;X-ADDRESS=Cle Elum Eagles 220 N Pennsylvania Ave Cle Elum WA United States;X-APPLE-RADIUS=500;X-TITLE=220 N Pennsylvania Ave:geo:-120.937746,47.195606
END:VEVENT
BEGIN:VEVENT
DTSTART;TZID=America/Los_Angeles:20270720T153000
DTEND;TZID=America/Los_Angeles:20270720T163000
DTSTAMP:20260423T232727
CREATED:20260126T172908Z
LAST-MODIFIED:20260126T172908Z
UID:10013157-1816097400-1816101000@nkctribune.com
SUMMARY:Roslyn Library's Lego Club
DESCRIPTION:Roslyn Library Lego Club\, Every Tuesday of the month from 3:30-4:30 p.m. at the Roslyn Library\, 201 S. First St.\, Roslyn. Free\, Lego activities geared towards kids 5-12 but all are welcome. Children must be independent or accompanied by a responsible individual.
URL:https://nkctribune.com/event/roslyn-librarys-lego-club/2027-07-20/
LOCATION:Roslyn Library\, 201 S First St\, Roslyn\, WA\, United States
CATEGORIES:Club Events,Youth
GEO:47.222532;-120.991353
X-APPLE-STRUCTURED-LOCATION;VALUE=URI;X-ADDRESS=Roslyn Library 201 S First St Roslyn WA United States;X-APPLE-RADIUS=500;X-TITLE=201 S First St:geo:-120.991353,47.222532
END:VEVENT
BEGIN:VEVENT
DTSTART;TZID=America/Los_Angeles:20270727T153000
DTEND;TZID=America/Los_Angeles:20270727T163000
DTSTAMP:20260423T232727
CREATED:20260126T172908Z
LAST-MODIFIED:20260126T172908Z
UID:10013158-1816702200-1816705800@nkctribune.com
SUMMARY:Roslyn Library's Lego Club
DESCRIPTION:Roslyn Library Lego Club\, Every Tuesday of the month from 3:30-4:30 p.m. at the Roslyn Library\, 201 S. First St.\, Roslyn. Free\, Lego activities geared towards kids 5-12 but all are welcome. Children must be independent or accompanied by a responsible individual.
URL:https://nkctribune.com/event/roslyn-librarys-lego-club/2027-07-27/
LOCATION:Roslyn Library\, 201 S First St\, Roslyn\, WA\, United States
CATEGORIES:Club Events,Youth
GEO:47.222532;-120.991353
X-APPLE-STRUCTURED-LOCATION;VALUE=URI;X-ADDRESS=Roslyn Library 201 S First St Roslyn WA United States;X-APPLE-RADIUS=500;X-TITLE=201 S First St:geo:-120.991353,47.222532
END:VEVENT
BEGIN:VEVENT
DTSTART;TZID=America/Los_Angeles:20270728T190000
DTEND;TZID=America/Los_Angeles:20270728T190000
DTSTAMP:20260423T232727
CREATED:20190806T192939Z
LAST-MODIFIED:20260106T220826Z
UID:10002210-1816801200-1816801200@nkctribune.com
SUMMARY:Cle  Elum Eagles Aerie #649 Meeting
DESCRIPTION:The Cle Elum Aerie #649 meets every 2nd & 4th Wednesday of the Month at 7:00 p.m. at the Club on Pennsylvania Ave.
URL:https://nkctribune.com/event/cle-elum-eagles-aerie-649-meeting-3/2027-07-28/
LOCATION:Cle Elum Eagles\, 220 N Pennsylvania Ave\, Cle Elum\, WA\, United States
CATEGORIES:Club Events,Meetings
GEO:47.195606;-120.937746
X-APPLE-STRUCTURED-LOCATION;VALUE=URI;X-ADDRESS=Cle Elum Eagles 220 N Pennsylvania Ave Cle Elum WA United States;X-APPLE-RADIUS=500;X-TITLE=220 N Pennsylvania Ave:geo:-120.937746,47.195606
END:VEVENT
BEGIN:VEVENT
DTSTART;TZID=America/Los_Angeles:20270803T153000
DTEND;TZID=America/Los_Angeles:20270803T163000
DTSTAMP:20260423T232727
CREATED:20260126T172908Z
LAST-MODIFIED:20260126T172908Z
UID:10013159-1817307000-1817310600@nkctribune.com
SUMMARY:Roslyn Library's Lego Club
DESCRIPTION:Roslyn Library Lego Club\, Every Tuesday of the month from 3:30-4:30 p.m. at the Roslyn Library\, 201 S. First St.\, Roslyn. Free\, Lego activities geared towards kids 5-12 but all are welcome. Children must be independent or accompanied by a responsible individual.
URL:https://nkctribune.com/event/roslyn-librarys-lego-club/2027-08-03/
LOCATION:Roslyn Library\, 201 S First St\, Roslyn\, WA\, United States
CATEGORIES:Club Events,Youth
GEO:47.222532;-120.991353
X-APPLE-STRUCTURED-LOCATION;VALUE=URI;X-ADDRESS=Roslyn Library 201 S First St Roslyn WA United States;X-APPLE-RADIUS=500;X-TITLE=201 S First St:geo:-120.991353,47.222532
END:VEVENT
BEGIN:VEVENT
DTSTART;TZID=America/Los_Angeles:20270810T153000
DTEND;TZID=America/Los_Angeles:20270810T163000
DTSTAMP:20260423T232727
CREATED:20260126T172908Z
LAST-MODIFIED:20260126T172908Z
UID:10013160-1817911800-1817915400@nkctribune.com
SUMMARY:Roslyn Library's Lego Club
DESCRIPTION:Roslyn Library Lego Club\, Every Tuesday of the month from 3:30-4:30 p.m. at the Roslyn Library\, 201 S. First St.\, Roslyn. Free\, Lego activities geared towards kids 5-12 but all are welcome. Children must be independent or accompanied by a responsible individual.
URL:https://nkctribune.com/event/roslyn-librarys-lego-club/2027-08-10/
LOCATION:Roslyn Library\, 201 S First St\, Roslyn\, WA\, United States
CATEGORIES:Club Events,Youth
GEO:47.222532;-120.991353
X-APPLE-STRUCTURED-LOCATION;VALUE=URI;X-ADDRESS=Roslyn Library 201 S First St Roslyn WA United States;X-APPLE-RADIUS=500;X-TITLE=201 S First St:geo:-120.991353,47.222532
END:VEVENT
BEGIN:VEVENT
DTSTART;TZID=America/Los_Angeles:20270810T190000
DTEND;TZID=America/Los_Angeles:20270810T190000
DTSTAMP:20260423T232727
CREATED:20190806T193223Z
LAST-MODIFIED:20260106T220828Z
UID:10002043-1817924400-1817924400@nkctribune.com
SUMMARY:Cle Elum Eagles #649 Auxiliary Meeting
DESCRIPTION:The Cle Elum Eagles Auxiliary #649 meets every 2nd & 4th Tuesday of the Month at 7:00 p.m. at the Club on Pennsylvania Ave.
URL:https://nkctribune.com/event/cle-elum-eagles-649-auxiliary-meeting/2027-08-10/
LOCATION:Cle Elum Eagles Club\, 220 N. Pennsylvania Ave.\, Cle Elum\, WA\, 98922\, United States
CATEGORIES:Club Events,Meetings
GEO:47.1956022;-120.9378307
X-APPLE-STRUCTURED-LOCATION;VALUE=URI;X-ADDRESS=Cle Elum Eagles Club 220 N. Pennsylvania Ave. Cle Elum WA 98922 United States;X-APPLE-RADIUS=500;X-TITLE=220 N. Pennsylvania Ave.:geo:-120.9378307,47.1956022
END:VEVENT
BEGIN:VEVENT
DTSTART;TZID=America/Los_Angeles:20270811T190000
DTEND;TZID=America/Los_Angeles:20270811T190000
DTSTAMP:20260423T232727
CREATED:20190806T192516Z
LAST-MODIFIED:20260106T220829Z
UID:10002154-1818010800-1818010800@nkctribune.com
SUMMARY:Cle Elum Eagles Aerie #649 Meeting
DESCRIPTION:The Cle Elum Aerie #649 meets every 2nd & 4th Wednesday of the Month at 7:00 p.m. at the Club on Pennsylvania Ave.
URL:https://nkctribune.com/event/cle-elum-eagles-aerie-649-meeting-2/2027-08-11/
LOCATION:Cle Elum Eagles\, 220 N Pennsylvania Ave\, Cle Elum\, WA\, United States
CATEGORIES:Club Events,Meetings
GEO:47.195606;-120.937746
X-APPLE-STRUCTURED-LOCATION;VALUE=URI;X-ADDRESS=Cle Elum Eagles 220 N Pennsylvania Ave Cle Elum WA United States;X-APPLE-RADIUS=500;X-TITLE=220 N Pennsylvania Ave:geo:-120.937746,47.195606
END:VEVENT
END:VCALENDAR