BEGIN:VCALENDAR
VERSION:2.0
PRODID:-//Northern Kittitas County Tribune - ECPv6.15.20//NONSGML v1.0//EN
CALSCALE:GREGORIAN
METHOD:PUBLISH
X-ORIGINAL-URL:https://nkctribune.com
X-WR-CALDESC:Events for Northern Kittitas County Tribune
REFRESH-INTERVAL;VALUE=DURATION:PT1H
X-Robots-Tag:noindex
X-PUBLISHED-TTL:PT1H
BEGIN:VTIMEZONE
TZID:America/Los_Angeles
BEGIN:DAYLIGHT
TZOFFSETFROM:-0800
TZOFFSETTO:-0700
TZNAME:PDT
DTSTART:20290311T100000
END:DAYLIGHT
BEGIN:STANDARD
TZOFFSETFROM:-0700
TZOFFSETTO:-0800
TZNAME:PST
DTSTART:20291104T090000
END:STANDARD
BEGIN:DAYLIGHT
TZOFFSETFROM:-0800
TZOFFSETTO:-0700
TZNAME:PDT
DTSTART:20300310T100000
END:DAYLIGHT
BEGIN:STANDARD
TZOFFSETFROM:-0700
TZOFFSETTO:-0800
TZNAME:PST
DTSTART:20301103T090000
END:STANDARD
BEGIN:DAYLIGHT
TZOFFSETFROM:-0800
TZOFFSETTO:-0700
TZNAME:PDT
DTSTART:20310309T100000
END:DAYLIGHT
BEGIN:STANDARD
TZOFFSETFROM:-0700
TZOFFSETTO:-0800
TZNAME:PST
DTSTART:20311102T090000
END:STANDARD
END:VTIMEZONE
BEGIN:VEVENT
DTSTART;TZID=America/Los_Angeles:20300108T190000
DTEND;TZID=America/Los_Angeles:20300108T190000
DTSTAMP:20260424T120347
CREATED:20190806T193223Z
LAST-MODIFIED:20260106T220828Z
UID:10010896-1894129200-1894129200@nkctribune.com
SUMMARY:Cle Elum Eagles #649 Auxiliary Meeting
DESCRIPTION:The Cle Elum Eagles Auxiliary #649 meets every 2nd & 4th Tuesday of the Month at 7:00 p.m. at the Club on Pennsylvania Ave.
URL:https://nkctribune.com/event/cle-elum-eagles-649-auxiliary-meeting/2030-01-08/
LOCATION:Cle Elum Eagles Club\, 220 N. Pennsylvania Ave.\, Cle Elum\, WA\, 98922\, United States
CATEGORIES:Club Events,Meetings
GEO:47.1956022;-120.9378307
X-APPLE-STRUCTURED-LOCATION;VALUE=URI;X-ADDRESS=Cle Elum Eagles Club 220 N. Pennsylvania Ave. Cle Elum WA 98922 United States;X-APPLE-RADIUS=500;X-TITLE=220 N. Pennsylvania Ave.:geo:-120.9378307,47.1956022
END:VEVENT
BEGIN:VEVENT
DTSTART;TZID=America/Los_Angeles:20300109T190000
DTEND;TZID=America/Los_Angeles:20300109T190000
DTSTAMP:20260424T120347
CREATED:20190806T192516Z
LAST-MODIFIED:20260106T220829Z
UID:10010898-1894215600-1894215600@nkctribune.com
SUMMARY:Cle Elum Eagles Aerie #649 Meeting
DESCRIPTION:The Cle Elum Aerie #649 meets every 2nd & 4th Wednesday of the Month at 7:00 p.m. at the Club on Pennsylvania Ave.
URL:https://nkctribune.com/event/cle-elum-eagles-aerie-649-meeting-2/2030-01-09/
LOCATION:Cle Elum Eagles\, 220 N Pennsylvania Ave\, Cle Elum\, WA\, United States
CATEGORIES:Club Events,Meetings
GEO:47.195606;-120.937746
X-APPLE-STRUCTURED-LOCATION;VALUE=URI;X-ADDRESS=Cle Elum Eagles 220 N Pennsylvania Ave Cle Elum WA United States;X-APPLE-RADIUS=500;X-TITLE=220 N Pennsylvania Ave:geo:-120.937746,47.195606
END:VEVENT
BEGIN:VEVENT
DTSTART;TZID=America/Los_Angeles:20300114T183000
DTEND;TZID=America/Los_Angeles:20300114T203000
DTSTAMP:20260424T120347
CREATED:20160525T074153Z
LAST-MODIFIED:20260106T220828Z
UID:10010905-1894645800-1894653000@nkctribune.com
SUMMARY:Beekeepers of Kittitas County Monthly Meeting
DESCRIPTION:Beekeepers of Kittitas County Monthly Meeting\, Meets 2nd Tuesday of every month\, 6:30-8:30 p.m.\, Naneum Bee Farm\, 4451 Naneum Rd.\, Ellensburg. For info\, call 509-962-4043\, www.wasba.org.
URL:https://nkctribune.com/event/beekeepers-of-kittitas-county-monthly-meeting/2030-01-14/
LOCATION:Naneum Bee Farm\, 4451 Naneum Rd.\, Ellensburg\, WA\, 98926\, United States
CATEGORIES:Club Events
GEO:47.038568;-120.468793
X-APPLE-STRUCTURED-LOCATION;VALUE=URI;X-ADDRESS=Naneum Bee Farm 4451 Naneum Rd. Ellensburg WA 98926 United States;X-APPLE-RADIUS=500;X-TITLE=4451 Naneum Rd.:geo:-120.468793,47.038568
END:VEVENT
BEGIN:VEVENT
DTSTART;TZID=America/Los_Angeles:20300115T153000
DTEND;TZID=America/Los_Angeles:20300115T163000
DTSTAMP:20260424T120347
CREATED:20260126T172908Z
LAST-MODIFIED:20260126T172908Z
UID:10013287-1894721400-1894725000@nkctribune.com
SUMMARY:Roslyn Library's Lego Club
DESCRIPTION:Roslyn Library Lego Club\, Every Tuesday of the month from 3:30-4:30 p.m. at the Roslyn Library\, 201 S. First St.\, Roslyn. Free\, Lego activities geared towards kids 5-12 but all are welcome. Children must be independent or accompanied by a responsible individual.
URL:https://nkctribune.com/event/roslyn-librarys-lego-club/2030-01-15/
LOCATION:Roslyn Library\, 201 S First St\, Roslyn\, WA\, United States
CATEGORIES:Club Events,Youth
GEO:47.222532;-120.991353
X-APPLE-STRUCTURED-LOCATION;VALUE=URI;X-ADDRESS=Roslyn Library 201 S First St Roslyn WA United States;X-APPLE-RADIUS=500;X-TITLE=201 S First St:geo:-120.991353,47.222532
END:VEVENT
BEGIN:VEVENT
DTSTART;TZID=America/Los_Angeles:20300122T153000
DTEND;TZID=America/Los_Angeles:20300122T163000
DTSTAMP:20260424T120347
CREATED:20260126T172908Z
LAST-MODIFIED:20260126T172908Z
UID:10013288-1895326200-1895329800@nkctribune.com
SUMMARY:Roslyn Library's Lego Club
DESCRIPTION:Roslyn Library Lego Club\, Every Tuesday of the month from 3:30-4:30 p.m. at the Roslyn Library\, 201 S. First St.\, Roslyn. Free\, Lego activities geared towards kids 5-12 but all are welcome. Children must be independent or accompanied by a responsible individual.
URL:https://nkctribune.com/event/roslyn-librarys-lego-club/2030-01-22/
LOCATION:Roslyn Library\, 201 S First St\, Roslyn\, WA\, United States
CATEGORIES:Club Events,Youth
GEO:47.222532;-120.991353
X-APPLE-STRUCTURED-LOCATION;VALUE=URI;X-ADDRESS=Roslyn Library 201 S First St Roslyn WA United States;X-APPLE-RADIUS=500;X-TITLE=201 S First St:geo:-120.991353,47.222532
END:VEVENT
BEGIN:VEVENT
DTSTART;TZID=America/Los_Angeles:20300123T190000
DTEND;TZID=America/Los_Angeles:20300123T190000
DTSTAMP:20260424T120347
CREATED:20190806T192939Z
LAST-MODIFIED:20260106T220826Z
UID:10010603-1895425200-1895425200@nkctribune.com
SUMMARY:Cle  Elum Eagles Aerie #649 Meeting
DESCRIPTION:The Cle Elum Aerie #649 meets every 2nd & 4th Wednesday of the Month at 7:00 p.m. at the Club on Pennsylvania Ave.
URL:https://nkctribune.com/event/cle-elum-eagles-aerie-649-meeting-3/2030-01-23/
LOCATION:Cle Elum Eagles\, 220 N Pennsylvania Ave\, Cle Elum\, WA\, United States
CATEGORIES:Club Events,Meetings
GEO:47.195606;-120.937746
X-APPLE-STRUCTURED-LOCATION;VALUE=URI;X-ADDRESS=Cle Elum Eagles 220 N Pennsylvania Ave Cle Elum WA United States;X-APPLE-RADIUS=500;X-TITLE=220 N Pennsylvania Ave:geo:-120.937746,47.195606
END:VEVENT
BEGIN:VEVENT
DTSTART;TZID=America/Los_Angeles:20300129T153000
DTEND;TZID=America/Los_Angeles:20300129T163000
DTSTAMP:20260424T120347
CREATED:20260126T172908Z
LAST-MODIFIED:20260126T172908Z
UID:10013289-1895931000-1895934600@nkctribune.com
SUMMARY:Roslyn Library's Lego Club
DESCRIPTION:Roslyn Library Lego Club\, Every Tuesday of the month from 3:30-4:30 p.m. at the Roslyn Library\, 201 S. First St.\, Roslyn. Free\, Lego activities geared towards kids 5-12 but all are welcome. Children must be independent or accompanied by a responsible individual.
URL:https://nkctribune.com/event/roslyn-librarys-lego-club/2030-01-29/
LOCATION:Roslyn Library\, 201 S First St\, Roslyn\, WA\, United States
CATEGORIES:Club Events,Youth
GEO:47.222532;-120.991353
X-APPLE-STRUCTURED-LOCATION;VALUE=URI;X-ADDRESS=Roslyn Library 201 S First St Roslyn WA United States;X-APPLE-RADIUS=500;X-TITLE=201 S First St:geo:-120.991353,47.222532
END:VEVENT
BEGIN:VEVENT
DTSTART;TZID=America/Los_Angeles:20300205T153000
DTEND;TZID=America/Los_Angeles:20300205T163000
DTSTAMP:20260424T120347
CREATED:20260126T172908Z
LAST-MODIFIED:20260126T172908Z
UID:10013290-1896535800-1896539400@nkctribune.com
SUMMARY:Roslyn Library's Lego Club
DESCRIPTION:Roslyn Library Lego Club\, Every Tuesday of the month from 3:30-4:30 p.m. at the Roslyn Library\, 201 S. First St.\, Roslyn. Free\, Lego activities geared towards kids 5-12 but all are welcome. Children must be independent or accompanied by a responsible individual.
URL:https://nkctribune.com/event/roslyn-librarys-lego-club/2030-02-05/
LOCATION:Roslyn Library\, 201 S First St\, Roslyn\, WA\, United States
CATEGORIES:Club Events,Youth
GEO:47.222532;-120.991353
X-APPLE-STRUCTURED-LOCATION;VALUE=URI;X-ADDRESS=Roslyn Library 201 S First St Roslyn WA United States;X-APPLE-RADIUS=500;X-TITLE=201 S First St:geo:-120.991353,47.222532
END:VEVENT
BEGIN:VEVENT
DTSTART;TZID=America/Los_Angeles:20300212T153000
DTEND;TZID=America/Los_Angeles:20300212T163000
DTSTAMP:20260424T120347
CREATED:20260126T172908Z
LAST-MODIFIED:20260126T172908Z
UID:10013291-1897140600-1897144200@nkctribune.com
SUMMARY:Roslyn Library's Lego Club
DESCRIPTION:Roslyn Library Lego Club\, Every Tuesday of the month from 3:30-4:30 p.m. at the Roslyn Library\, 201 S. First St.\, Roslyn. Free\, Lego activities geared towards kids 5-12 but all are welcome. Children must be independent or accompanied by a responsible individual.
URL:https://nkctribune.com/event/roslyn-librarys-lego-club/2030-02-12/
LOCATION:Roslyn Library\, 201 S First St\, Roslyn\, WA\, United States
CATEGORIES:Club Events,Youth
GEO:47.222532;-120.991353
X-APPLE-STRUCTURED-LOCATION;VALUE=URI;X-ADDRESS=Roslyn Library 201 S First St Roslyn WA United States;X-APPLE-RADIUS=500;X-TITLE=201 S First St:geo:-120.991353,47.222532
END:VEVENT
BEGIN:VEVENT
DTSTART;TZID=America/Los_Angeles:20300212T190000
DTEND;TZID=America/Los_Angeles:20300212T190000
DTSTAMP:20260424T120347
CREATED:20190806T193223Z
LAST-MODIFIED:20260106T220828Z
UID:10010897-1897153200-1897153200@nkctribune.com
SUMMARY:Cle Elum Eagles #649 Auxiliary Meeting
DESCRIPTION:The Cle Elum Eagles Auxiliary #649 meets every 2nd & 4th Tuesday of the Month at 7:00 p.m. at the Club on Pennsylvania Ave.
URL:https://nkctribune.com/event/cle-elum-eagles-649-auxiliary-meeting/2030-02-12/
LOCATION:Cle Elum Eagles Club\, 220 N. Pennsylvania Ave.\, Cle Elum\, WA\, 98922\, United States
CATEGORIES:Club Events,Meetings
GEO:47.1956022;-120.9378307
X-APPLE-STRUCTURED-LOCATION;VALUE=URI;X-ADDRESS=Cle Elum Eagles Club 220 N. Pennsylvania Ave. Cle Elum WA 98922 United States;X-APPLE-RADIUS=500;X-TITLE=220 N. Pennsylvania Ave.:geo:-120.9378307,47.1956022
END:VEVENT
BEGIN:VEVENT
DTSTART;TZID=America/Los_Angeles:20300213T190000
DTEND;TZID=America/Los_Angeles:20300213T190000
DTSTAMP:20260424T120347
CREATED:20190806T192516Z
LAST-MODIFIED:20260106T220829Z
UID:10010899-1897239600-1897239600@nkctribune.com
SUMMARY:Cle Elum Eagles Aerie #649 Meeting
DESCRIPTION:The Cle Elum Aerie #649 meets every 2nd & 4th Wednesday of the Month at 7:00 p.m. at the Club on Pennsylvania Ave.
URL:https://nkctribune.com/event/cle-elum-eagles-aerie-649-meeting-2/2030-02-13/
LOCATION:Cle Elum Eagles\, 220 N Pennsylvania Ave\, Cle Elum\, WA\, United States
CATEGORIES:Club Events,Meetings
GEO:47.195606;-120.937746
X-APPLE-STRUCTURED-LOCATION;VALUE=URI;X-ADDRESS=Cle Elum Eagles 220 N Pennsylvania Ave Cle Elum WA United States;X-APPLE-RADIUS=500;X-TITLE=220 N Pennsylvania Ave:geo:-120.937746,47.195606
END:VEVENT
BEGIN:VEVENT
DTSTART;TZID=America/Los_Angeles:20300214T183000
DTEND;TZID=America/Los_Angeles:20300214T203000
DTSTAMP:20260424T120347
CREATED:20160525T074153Z
LAST-MODIFIED:20260106T220828Z
UID:10010906-1897324200-1897331400@nkctribune.com
SUMMARY:Beekeepers of Kittitas County Monthly Meeting
DESCRIPTION:Beekeepers of Kittitas County Monthly Meeting\, Meets 2nd Tuesday of every month\, 6:30-8:30 p.m.\, Naneum Bee Farm\, 4451 Naneum Rd.\, Ellensburg. For info\, call 509-962-4043\, www.wasba.org.
URL:https://nkctribune.com/event/beekeepers-of-kittitas-county-monthly-meeting/2030-02-14/
LOCATION:Naneum Bee Farm\, 4451 Naneum Rd.\, Ellensburg\, WA\, 98926\, United States
CATEGORIES:Club Events
GEO:47.038568;-120.468793
X-APPLE-STRUCTURED-LOCATION;VALUE=URI;X-ADDRESS=Naneum Bee Farm 4451 Naneum Rd. Ellensburg WA 98926 United States;X-APPLE-RADIUS=500;X-TITLE=4451 Naneum Rd.:geo:-120.468793,47.038568
END:VEVENT
BEGIN:VEVENT
DTSTART;TZID=America/Los_Angeles:20300219T153000
DTEND;TZID=America/Los_Angeles:20300219T163000
DTSTAMP:20260424T120347
CREATED:20260126T172908Z
LAST-MODIFIED:20260126T172908Z
UID:10013292-1897745400-1897749000@nkctribune.com
SUMMARY:Roslyn Library's Lego Club
DESCRIPTION:Roslyn Library Lego Club\, Every Tuesday of the month from 3:30-4:30 p.m. at the Roslyn Library\, 201 S. First St.\, Roslyn. Free\, Lego activities geared towards kids 5-12 but all are welcome. Children must be independent or accompanied by a responsible individual.
URL:https://nkctribune.com/event/roslyn-librarys-lego-club/2030-02-19/
LOCATION:Roslyn Library\, 201 S First St\, Roslyn\, WA\, United States
CATEGORIES:Club Events,Youth
GEO:47.222532;-120.991353
X-APPLE-STRUCTURED-LOCATION;VALUE=URI;X-ADDRESS=Roslyn Library 201 S First St Roslyn WA United States;X-APPLE-RADIUS=500;X-TITLE=201 S First St:geo:-120.991353,47.222532
END:VEVENT
BEGIN:VEVENT
DTSTART;TZID=America/Los_Angeles:20300226T153000
DTEND;TZID=America/Los_Angeles:20300226T163000
DTSTAMP:20260424T120347
CREATED:20260126T172908Z
LAST-MODIFIED:20260126T172908Z
UID:10013293-1898350200-1898353800@nkctribune.com
SUMMARY:Roslyn Library's Lego Club
DESCRIPTION:Roslyn Library Lego Club\, Every Tuesday of the month from 3:30-4:30 p.m. at the Roslyn Library\, 201 S. First St.\, Roslyn. Free\, Lego activities geared towards kids 5-12 but all are welcome. Children must be independent or accompanied by a responsible individual.
URL:https://nkctribune.com/event/roslyn-librarys-lego-club/2030-02-26/
LOCATION:Roslyn Library\, 201 S First St\, Roslyn\, WA\, United States
CATEGORIES:Club Events,Youth
GEO:47.222532;-120.991353
X-APPLE-STRUCTURED-LOCATION;VALUE=URI;X-ADDRESS=Roslyn Library 201 S First St Roslyn WA United States;X-APPLE-RADIUS=500;X-TITLE=201 S First St:geo:-120.991353,47.222532
END:VEVENT
BEGIN:VEVENT
DTSTART;TZID=America/Los_Angeles:20300227T190000
DTEND;TZID=America/Los_Angeles:20300227T190000
DTSTAMP:20260424T120347
CREATED:20190806T192939Z
LAST-MODIFIED:20260106T220826Z
UID:10010948-1898449200-1898449200@nkctribune.com
SUMMARY:Cle  Elum Eagles Aerie #649 Meeting
DESCRIPTION:The Cle Elum Aerie #649 meets every 2nd & 4th Wednesday of the Month at 7:00 p.m. at the Club on Pennsylvania Ave.
URL:https://nkctribune.com/event/cle-elum-eagles-aerie-649-meeting-3/2030-02-27/
LOCATION:Cle Elum Eagles\, 220 N Pennsylvania Ave\, Cle Elum\, WA\, United States
CATEGORIES:Club Events,Meetings
GEO:47.195606;-120.937746
X-APPLE-STRUCTURED-LOCATION;VALUE=URI;X-ADDRESS=Cle Elum Eagles 220 N Pennsylvania Ave Cle Elum WA United States;X-APPLE-RADIUS=500;X-TITLE=220 N Pennsylvania Ave:geo:-120.937746,47.195606
END:VEVENT
BEGIN:VEVENT
DTSTART;TZID=America/Los_Angeles:20300305T153000
DTEND;TZID=America/Los_Angeles:20300305T163000
DTSTAMP:20260424T120347
CREATED:20260126T172908Z
LAST-MODIFIED:20260126T172908Z
UID:10013294-1898955000-1898958600@nkctribune.com
SUMMARY:Roslyn Library's Lego Club
DESCRIPTION:Roslyn Library Lego Club\, Every Tuesday of the month from 3:30-4:30 p.m. at the Roslyn Library\, 201 S. First St.\, Roslyn. Free\, Lego activities geared towards kids 5-12 but all are welcome. Children must be independent or accompanied by a responsible individual.
URL:https://nkctribune.com/event/roslyn-librarys-lego-club/2030-03-05/
LOCATION:Roslyn Library\, 201 S First St\, Roslyn\, WA\, United States
CATEGORIES:Club Events,Youth
GEO:47.222532;-120.991353
X-APPLE-STRUCTURED-LOCATION;VALUE=URI;X-ADDRESS=Roslyn Library 201 S First St Roslyn WA United States;X-APPLE-RADIUS=500;X-TITLE=201 S First St:geo:-120.991353,47.222532
END:VEVENT
BEGIN:VEVENT
DTSTART;TZID=America/Los_Angeles:20300312T153000
DTEND;TZID=America/Los_Angeles:20300312T163000
DTSTAMP:20260424T120347
CREATED:20260126T172908Z
LAST-MODIFIED:20260126T172908Z
UID:10013295-1899559800-1899563400@nkctribune.com
SUMMARY:Roslyn Library's Lego Club
DESCRIPTION:Roslyn Library Lego Club\, Every Tuesday of the month from 3:30-4:30 p.m. at the Roslyn Library\, 201 S. First St.\, Roslyn. Free\, Lego activities geared towards kids 5-12 but all are welcome. Children must be independent or accompanied by a responsible individual.
URL:https://nkctribune.com/event/roslyn-librarys-lego-club/2030-03-12/
LOCATION:Roslyn Library\, 201 S First St\, Roslyn\, WA\, United States
CATEGORIES:Club Events,Youth
GEO:47.222532;-120.991353
X-APPLE-STRUCTURED-LOCATION;VALUE=URI;X-ADDRESS=Roslyn Library 201 S First St Roslyn WA United States;X-APPLE-RADIUS=500;X-TITLE=201 S First St:geo:-120.991353,47.222532
END:VEVENT
BEGIN:VEVENT
DTSTART;TZID=America/Los_Angeles:20300312T190000
DTEND;TZID=America/Los_Angeles:20300312T190000
DTSTAMP:20260424T120347
CREATED:20190806T193223Z
LAST-MODIFIED:20260106T220828Z
UID:10011021-1899572400-1899572400@nkctribune.com
SUMMARY:Cle Elum Eagles #649 Auxiliary Meeting
DESCRIPTION:The Cle Elum Eagles Auxiliary #649 meets every 2nd & 4th Tuesday of the Month at 7:00 p.m. at the Club on Pennsylvania Ave.
URL:https://nkctribune.com/event/cle-elum-eagles-649-auxiliary-meeting/2030-03-12/
LOCATION:Cle Elum Eagles Club\, 220 N. Pennsylvania Ave.\, Cle Elum\, WA\, 98922\, United States
CATEGORIES:Club Events,Meetings
GEO:47.1956022;-120.9378307
X-APPLE-STRUCTURED-LOCATION;VALUE=URI;X-ADDRESS=Cle Elum Eagles Club 220 N. Pennsylvania Ave. Cle Elum WA 98922 United States;X-APPLE-RADIUS=500;X-TITLE=220 N. Pennsylvania Ave.:geo:-120.9378307,47.1956022
END:VEVENT
BEGIN:VEVENT
DTSTART;TZID=America/Los_Angeles:20300313T190000
DTEND;TZID=America/Los_Angeles:20300313T190000
DTSTAMP:20260424T120347
CREATED:20190806T192516Z
LAST-MODIFIED:20260106T220829Z
UID:10011023-1899658800-1899658800@nkctribune.com
SUMMARY:Cle Elum Eagles Aerie #649 Meeting
DESCRIPTION:The Cle Elum Aerie #649 meets every 2nd & 4th Wednesday of the Month at 7:00 p.m. at the Club on Pennsylvania Ave.
URL:https://nkctribune.com/event/cle-elum-eagles-aerie-649-meeting-2/2030-03-13/
LOCATION:Cle Elum Eagles\, 220 N Pennsylvania Ave\, Cle Elum\, WA\, United States
CATEGORIES:Club Events,Meetings
GEO:47.195606;-120.937746
X-APPLE-STRUCTURED-LOCATION;VALUE=URI;X-ADDRESS=Cle Elum Eagles 220 N Pennsylvania Ave Cle Elum WA United States;X-APPLE-RADIUS=500;X-TITLE=220 N Pennsylvania Ave:geo:-120.937746,47.195606
END:VEVENT
BEGIN:VEVENT
DTSTART;TZID=America/Los_Angeles:20300314T183000
DTEND;TZID=America/Los_Angeles:20300314T203000
DTSTAMP:20260424T120347
CREATED:20160525T074153Z
LAST-MODIFIED:20260106T220828Z
UID:10011028-1899743400-1899750600@nkctribune.com
SUMMARY:Beekeepers of Kittitas County Monthly Meeting
DESCRIPTION:Beekeepers of Kittitas County Monthly Meeting\, Meets 2nd Tuesday of every month\, 6:30-8:30 p.m.\, Naneum Bee Farm\, 4451 Naneum Rd.\, Ellensburg. For info\, call 509-962-4043\, www.wasba.org.
URL:https://nkctribune.com/event/beekeepers-of-kittitas-county-monthly-meeting/2030-03-14/
LOCATION:Naneum Bee Farm\, 4451 Naneum Rd.\, Ellensburg\, WA\, 98926\, United States
CATEGORIES:Club Events
GEO:47.038568;-120.468793
X-APPLE-STRUCTURED-LOCATION;VALUE=URI;X-ADDRESS=Naneum Bee Farm 4451 Naneum Rd. Ellensburg WA 98926 United States;X-APPLE-RADIUS=500;X-TITLE=4451 Naneum Rd.:geo:-120.468793,47.038568
END:VEVENT
BEGIN:VEVENT
DTSTART;TZID=America/Los_Angeles:20300319T153000
DTEND;TZID=America/Los_Angeles:20300319T163000
DTSTAMP:20260424T120348
CREATED:20260126T172908Z
LAST-MODIFIED:20260126T172908Z
UID:10013296-1900164600-1900168200@nkctribune.com
SUMMARY:Roslyn Library's Lego Club
DESCRIPTION:Roslyn Library Lego Club\, Every Tuesday of the month from 3:30-4:30 p.m. at the Roslyn Library\, 201 S. First St.\, Roslyn. Free\, Lego activities geared towards kids 5-12 but all are welcome. Children must be independent or accompanied by a responsible individual.
URL:https://nkctribune.com/event/roslyn-librarys-lego-club/2030-03-19/
LOCATION:Roslyn Library\, 201 S First St\, Roslyn\, WA\, United States
CATEGORIES:Club Events,Youth
GEO:47.222532;-120.991353
X-APPLE-STRUCTURED-LOCATION;VALUE=URI;X-ADDRESS=Roslyn Library 201 S First St Roslyn WA United States;X-APPLE-RADIUS=500;X-TITLE=201 S First St:geo:-120.991353,47.222532
END:VEVENT
BEGIN:VEVENT
DTSTART;TZID=America/Los_Angeles:20300326T153000
DTEND;TZID=America/Los_Angeles:20300326T163000
DTSTAMP:20260424T120348
CREATED:20260126T172908Z
LAST-MODIFIED:20260126T172908Z
UID:10013297-1900769400-1900773000@nkctribune.com
SUMMARY:Roslyn Library's Lego Club
DESCRIPTION:Roslyn Library Lego Club\, Every Tuesday of the month from 3:30-4:30 p.m. at the Roslyn Library\, 201 S. First St.\, Roslyn. Free\, Lego activities geared towards kids 5-12 but all are welcome. Children must be independent or accompanied by a responsible individual.
URL:https://nkctribune.com/event/roslyn-librarys-lego-club/2030-03-26/
LOCATION:Roslyn Library\, 201 S First St\, Roslyn\, WA\, United States
CATEGORIES:Club Events,Youth
GEO:47.222532;-120.991353
X-APPLE-STRUCTURED-LOCATION;VALUE=URI;X-ADDRESS=Roslyn Library 201 S First St Roslyn WA United States;X-APPLE-RADIUS=500;X-TITLE=201 S First St:geo:-120.991353,47.222532
END:VEVENT
BEGIN:VEVENT
DTSTART;TZID=America/Los_Angeles:20300327T190000
DTEND;TZID=America/Los_Angeles:20300327T190000
DTSTAMP:20260424T120348
CREATED:20190806T192939Z
LAST-MODIFIED:20260106T220826Z
UID:10011323-1900868400-1900868400@nkctribune.com
SUMMARY:Cle  Elum Eagles Aerie #649 Meeting
DESCRIPTION:The Cle Elum Aerie #649 meets every 2nd & 4th Wednesday of the Month at 7:00 p.m. at the Club on Pennsylvania Ave.
URL:https://nkctribune.com/event/cle-elum-eagles-aerie-649-meeting-3/2030-03-27/
LOCATION:Cle Elum Eagles\, 220 N Pennsylvania Ave\, Cle Elum\, WA\, United States
CATEGORIES:Club Events,Meetings
GEO:47.195606;-120.937746
X-APPLE-STRUCTURED-LOCATION;VALUE=URI;X-ADDRESS=Cle Elum Eagles 220 N Pennsylvania Ave Cle Elum WA United States;X-APPLE-RADIUS=500;X-TITLE=220 N Pennsylvania Ave:geo:-120.937746,47.195606
END:VEVENT
BEGIN:VEVENT
DTSTART;TZID=America/Los_Angeles:20300402T153000
DTEND;TZID=America/Los_Angeles:20300402T163000
DTSTAMP:20260424T120348
CREATED:20260126T172908Z
LAST-MODIFIED:20260126T172908Z
UID:10013298-1901374200-1901377800@nkctribune.com
SUMMARY:Roslyn Library's Lego Club
DESCRIPTION:Roslyn Library Lego Club\, Every Tuesday of the month from 3:30-4:30 p.m. at the Roslyn Library\, 201 S. First St.\, Roslyn. Free\, Lego activities geared towards kids 5-12 but all are welcome. Children must be independent or accompanied by a responsible individual.
URL:https://nkctribune.com/event/roslyn-librarys-lego-club/2030-04-02/
LOCATION:Roslyn Library\, 201 S First St\, Roslyn\, WA\, United States
CATEGORIES:Club Events,Youth
GEO:47.222532;-120.991353
X-APPLE-STRUCTURED-LOCATION;VALUE=URI;X-ADDRESS=Roslyn Library 201 S First St Roslyn WA United States;X-APPLE-RADIUS=500;X-TITLE=201 S First St:geo:-120.991353,47.222532
END:VEVENT
BEGIN:VEVENT
DTSTART;TZID=America/Los_Angeles:20300409T153000
DTEND;TZID=America/Los_Angeles:20300409T163000
DTSTAMP:20260424T120348
CREATED:20260126T172908Z
LAST-MODIFIED:20260126T172908Z
UID:10013299-1901979000-1901982600@nkctribune.com
SUMMARY:Roslyn Library's Lego Club
DESCRIPTION:Roslyn Library Lego Club\, Every Tuesday of the month from 3:30-4:30 p.m. at the Roslyn Library\, 201 S. First St.\, Roslyn. Free\, Lego activities geared towards kids 5-12 but all are welcome. Children must be independent or accompanied by a responsible individual.
URL:https://nkctribune.com/event/roslyn-librarys-lego-club/2030-04-09/
LOCATION:Roslyn Library\, 201 S First St\, Roslyn\, WA\, United States
CATEGORIES:Club Events,Youth
GEO:47.222532;-120.991353
X-APPLE-STRUCTURED-LOCATION;VALUE=URI;X-ADDRESS=Roslyn Library 201 S First St Roslyn WA United States;X-APPLE-RADIUS=500;X-TITLE=201 S First St:geo:-120.991353,47.222532
END:VEVENT
BEGIN:VEVENT
DTSTART;TZID=America/Los_Angeles:20300409T190000
DTEND;TZID=America/Los_Angeles:20300409T190000
DTSTAMP:20260424T120348
CREATED:20190806T193223Z
LAST-MODIFIED:20260106T220828Z
UID:10011342-1901991600-1901991600@nkctribune.com
SUMMARY:Cle Elum Eagles #649 Auxiliary Meeting
DESCRIPTION:The Cle Elum Eagles Auxiliary #649 meets every 2nd & 4th Tuesday of the Month at 7:00 p.m. at the Club on Pennsylvania Ave.
URL:https://nkctribune.com/event/cle-elum-eagles-649-auxiliary-meeting/2030-04-09/
LOCATION:Cle Elum Eagles Club\, 220 N. Pennsylvania Ave.\, Cle Elum\, WA\, 98922\, United States
CATEGORIES:Club Events,Meetings
GEO:47.1956022;-120.9378307
X-APPLE-STRUCTURED-LOCATION;VALUE=URI;X-ADDRESS=Cle Elum Eagles Club 220 N. Pennsylvania Ave. Cle Elum WA 98922 United States;X-APPLE-RADIUS=500;X-TITLE=220 N. Pennsylvania Ave.:geo:-120.9378307,47.1956022
END:VEVENT
BEGIN:VEVENT
DTSTART;TZID=America/Los_Angeles:20300410T190000
DTEND;TZID=America/Los_Angeles:20300410T190000
DTSTAMP:20260424T120348
CREATED:20190806T192516Z
LAST-MODIFIED:20260106T220829Z
UID:10011344-1902078000-1902078000@nkctribune.com
SUMMARY:Cle Elum Eagles Aerie #649 Meeting
DESCRIPTION:The Cle Elum Aerie #649 meets every 2nd & 4th Wednesday of the Month at 7:00 p.m. at the Club on Pennsylvania Ave.
URL:https://nkctribune.com/event/cle-elum-eagles-aerie-649-meeting-2/2030-04-10/
LOCATION:Cle Elum Eagles\, 220 N Pennsylvania Ave\, Cle Elum\, WA\, United States
CATEGORIES:Club Events,Meetings
GEO:47.195606;-120.937746
X-APPLE-STRUCTURED-LOCATION;VALUE=URI;X-ADDRESS=Cle Elum Eagles 220 N Pennsylvania Ave Cle Elum WA United States;X-APPLE-RADIUS=500;X-TITLE=220 N Pennsylvania Ave:geo:-120.937746,47.195606
END:VEVENT
BEGIN:VEVENT
DTSTART;TZID=America/Los_Angeles:20300414T183000
DTEND;TZID=America/Los_Angeles:20300414T203000
DTSTAMP:20260424T120348
CREATED:20160525T074153Z
LAST-MODIFIED:20260106T220828Z
UID:10011421-1902421800-1902429000@nkctribune.com
SUMMARY:Beekeepers of Kittitas County Monthly Meeting
DESCRIPTION:Beekeepers of Kittitas County Monthly Meeting\, Meets 2nd Tuesday of every month\, 6:30-8:30 p.m.\, Naneum Bee Farm\, 4451 Naneum Rd.\, Ellensburg. For info\, call 509-962-4043\, www.wasba.org.
URL:https://nkctribune.com/event/beekeepers-of-kittitas-county-monthly-meeting/2030-04-14/
LOCATION:Naneum Bee Farm\, 4451 Naneum Rd.\, Ellensburg\, WA\, 98926\, United States
CATEGORIES:Club Events
GEO:47.038568;-120.468793
X-APPLE-STRUCTURED-LOCATION;VALUE=URI;X-ADDRESS=Naneum Bee Farm 4451 Naneum Rd. Ellensburg WA 98926 United States;X-APPLE-RADIUS=500;X-TITLE=4451 Naneum Rd.:geo:-120.468793,47.038568
END:VEVENT
BEGIN:VEVENT
DTSTART;TZID=America/Los_Angeles:20300416T153000
DTEND;TZID=America/Los_Angeles:20300416T163000
DTSTAMP:20260424T120348
CREATED:20260126T172908Z
LAST-MODIFIED:20260126T172908Z
UID:10013300-1902583800-1902587400@nkctribune.com
SUMMARY:Roslyn Library's Lego Club
DESCRIPTION:Roslyn Library Lego Club\, Every Tuesday of the month from 3:30-4:30 p.m. at the Roslyn Library\, 201 S. First St.\, Roslyn. Free\, Lego activities geared towards kids 5-12 but all are welcome. Children must be independent or accompanied by a responsible individual.
URL:https://nkctribune.com/event/roslyn-librarys-lego-club/2030-04-16/
LOCATION:Roslyn Library\, 201 S First St\, Roslyn\, WA\, United States
CATEGORIES:Club Events,Youth
GEO:47.222532;-120.991353
X-APPLE-STRUCTURED-LOCATION;VALUE=URI;X-ADDRESS=Roslyn Library 201 S First St Roslyn WA United States;X-APPLE-RADIUS=500;X-TITLE=201 S First St:geo:-120.991353,47.222532
END:VEVENT
BEGIN:VEVENT
DTSTART;TZID=America/Los_Angeles:20300423T153000
DTEND;TZID=America/Los_Angeles:20300423T163000
DTSTAMP:20260424T120348
CREATED:20260126T172908Z
LAST-MODIFIED:20260126T172908Z
UID:10013301-1903188600-1903192200@nkctribune.com
SUMMARY:Roslyn Library's Lego Club
DESCRIPTION:Roslyn Library Lego Club\, Every Tuesday of the month from 3:30-4:30 p.m. at the Roslyn Library\, 201 S. First St.\, Roslyn. Free\, Lego activities geared towards kids 5-12 but all are welcome. Children must be independent or accompanied by a responsible individual.
URL:https://nkctribune.com/event/roslyn-librarys-lego-club/2030-04-23/
LOCATION:Roslyn Library\, 201 S First St\, Roslyn\, WA\, United States
CATEGORIES:Club Events,Youth
GEO:47.222532;-120.991353
X-APPLE-STRUCTURED-LOCATION;VALUE=URI;X-ADDRESS=Roslyn Library 201 S First St Roslyn WA United States;X-APPLE-RADIUS=500;X-TITLE=201 S First St:geo:-120.991353,47.222532
END:VEVENT
END:VCALENDAR