BEGIN:VCALENDAR
VERSION:2.0
PRODID:-//Northern Kittitas County Tribune - ECPv6.15.20//NONSGML v1.0//EN
CALSCALE:GREGORIAN
METHOD:PUBLISH
X-ORIGINAL-URL:https://nkctribune.com
X-WR-CALDESC:Events for Northern Kittitas County Tribune
REFRESH-INTERVAL;VALUE=DURATION:PT1H
X-Robots-Tag:noindex
X-PUBLISHED-TTL:PT1H
BEGIN:VTIMEZONE
TZID:America/Los_Angeles
BEGIN:DAYLIGHT
TZOFFSETFROM:-0800
TZOFFSETTO:-0700
TZNAME:PDT
DTSTART:20300310T100000
END:DAYLIGHT
BEGIN:STANDARD
TZOFFSETFROM:-0700
TZOFFSETTO:-0800
TZNAME:PST
DTSTART:20301103T090000
END:STANDARD
BEGIN:DAYLIGHT
TZOFFSETFROM:-0800
TZOFFSETTO:-0700
TZNAME:PDT
DTSTART:20310309T100000
END:DAYLIGHT
BEGIN:STANDARD
TZOFFSETFROM:-0700
TZOFFSETTO:-0800
TZNAME:PST
DTSTART:20311102T090000
END:STANDARD
BEGIN:DAYLIGHT
TZOFFSETFROM:-0800
TZOFFSETTO:-0700
TZNAME:PDT
DTSTART:20320314T100000
END:DAYLIGHT
BEGIN:STANDARD
TZOFFSETFROM:-0700
TZOFFSETTO:-0800
TZNAME:PST
DTSTART:20321107T090000
END:STANDARD
END:VTIMEZONE
BEGIN:VEVENT
DTSTART;TZID=America/Los_Angeles:20310108T190000
DTEND;TZID=America/Los_Angeles:20310108T190000
DTSTAMP:20260424T133211
CREATED:20190806T192516Z
LAST-MODIFIED:20260106T220829Z
UID:10013001-1925665200-1925665200@nkctribune.com
SUMMARY:Cle Elum Eagles Aerie #649 Meeting
DESCRIPTION:The Cle Elum Aerie #649 meets every 2nd & 4th Wednesday of the Month at 7:00 p.m. at the Club on Pennsylvania Ave.
URL:https://nkctribune.com/event/cle-elum-eagles-aerie-649-meeting-2/2031-01-08/
LOCATION:Cle Elum Eagles\, 220 N Pennsylvania Ave\, Cle Elum\, WA\, United States
CATEGORIES:Club Events,Meetings
GEO:47.195606;-120.937746
X-APPLE-STRUCTURED-LOCATION;VALUE=URI;X-ADDRESS=Cle Elum Eagles 220 N Pennsylvania Ave Cle Elum WA United States;X-APPLE-RADIUS=500;X-TITLE=220 N Pennsylvania Ave:geo:-120.937746,47.195606
END:VEVENT
BEGIN:VEVENT
DTSTART;TZID=America/Los_Angeles:20310114T153000
DTEND;TZID=America/Los_Angeles:20310114T163000
DTSTAMP:20260424T133211
CREATED:20260126T172908Z
LAST-MODIFIED:20260126T172908Z
UID:10013339-1926171000-1926174600@nkctribune.com
SUMMARY:Roslyn Library's Lego Club
DESCRIPTION:Roslyn Library Lego Club\, Every Tuesday of the month from 3:30-4:30 p.m. at the Roslyn Library\, 201 S. First St.\, Roslyn. Free\, Lego activities geared towards kids 5-12 but all are welcome. Children must be independent or accompanied by a responsible individual.
URL:https://nkctribune.com/event/roslyn-librarys-lego-club/2031-01-14/
LOCATION:Roslyn Library\, 201 S First St\, Roslyn\, WA\, United States
CATEGORIES:Club Events,Youth
GEO:47.222532;-120.991353
X-APPLE-STRUCTURED-LOCATION;VALUE=URI;X-ADDRESS=Roslyn Library 201 S First St Roslyn WA United States;X-APPLE-RADIUS=500;X-TITLE=201 S First St:geo:-120.991353,47.222532
END:VEVENT
BEGIN:VEVENT
DTSTART;TZID=America/Los_Angeles:20310114T183000
DTEND;TZID=America/Los_Angeles:20310114T203000
DTSTAMP:20260424T133211
CREATED:20160525T074153Z
LAST-MODIFIED:20260106T220828Z
UID:10013016-1926181800-1926189000@nkctribune.com
SUMMARY:Beekeepers of Kittitas County Monthly Meeting
DESCRIPTION:Beekeepers of Kittitas County Monthly Meeting\, Meets 2nd Tuesday of every month\, 6:30-8:30 p.m.\, Naneum Bee Farm\, 4451 Naneum Rd.\, Ellensburg. For info\, call 509-962-4043\, www.wasba.org.
URL:https://nkctribune.com/event/beekeepers-of-kittitas-county-monthly-meeting/2031-01-14/
LOCATION:Naneum Bee Farm\, 4451 Naneum Rd.\, Ellensburg\, WA\, 98926\, United States
CATEGORIES:Club Events
GEO:47.038568;-120.468793
X-APPLE-STRUCTURED-LOCATION;VALUE=URI;X-ADDRESS=Naneum Bee Farm 4451 Naneum Rd. Ellensburg WA 98926 United States;X-APPLE-RADIUS=500;X-TITLE=4451 Naneum Rd.:geo:-120.468793,47.038568
END:VEVENT
BEGIN:VEVENT
DTSTART;TZID=America/Los_Angeles:20310114T190000
DTEND;TZID=America/Los_Angeles:20310114T190000
DTSTAMP:20260424T133211
CREATED:20190806T193223Z
LAST-MODIFIED:20260106T220828Z
UID:10013017-1926183600-1926183600@nkctribune.com
SUMMARY:Cle Elum Eagles #649 Auxiliary Meeting
DESCRIPTION:The Cle Elum Eagles Auxiliary #649 meets every 2nd & 4th Tuesday of the Month at 7:00 p.m. at the Club on Pennsylvania Ave.
URL:https://nkctribune.com/event/cle-elum-eagles-649-auxiliary-meeting/2031-01-14/
LOCATION:Cle Elum Eagles Club\, 220 N. Pennsylvania Ave.\, Cle Elum\, WA\, 98922\, United States
CATEGORIES:Club Events,Meetings
GEO:47.1956022;-120.9378307
X-APPLE-STRUCTURED-LOCATION;VALUE=URI;X-ADDRESS=Cle Elum Eagles Club 220 N. Pennsylvania Ave. Cle Elum WA 98922 United States;X-APPLE-RADIUS=500;X-TITLE=220 N. Pennsylvania Ave.:geo:-120.9378307,47.1956022
END:VEVENT
BEGIN:VEVENT
DTSTART;TZID=America/Los_Angeles:20310121T153000
DTEND;TZID=America/Los_Angeles:20310121T163000
DTSTAMP:20260424T133211
CREATED:20260126T172908Z
LAST-MODIFIED:20260126T172908Z
UID:10013340-1926775800-1926779400@nkctribune.com
SUMMARY:Roslyn Library's Lego Club
DESCRIPTION:Roslyn Library Lego Club\, Every Tuesday of the month from 3:30-4:30 p.m. at the Roslyn Library\, 201 S. First St.\, Roslyn. Free\, Lego activities geared towards kids 5-12 but all are welcome. Children must be independent or accompanied by a responsible individual.
URL:https://nkctribune.com/event/roslyn-librarys-lego-club/2031-01-21/
LOCATION:Roslyn Library\, 201 S First St\, Roslyn\, WA\, United States
CATEGORIES:Club Events,Youth
GEO:47.222532;-120.991353
X-APPLE-STRUCTURED-LOCATION;VALUE=URI;X-ADDRESS=Roslyn Library 201 S First St Roslyn WA United States;X-APPLE-RADIUS=500;X-TITLE=201 S First St:geo:-120.991353,47.222532
END:VEVENT
BEGIN:VEVENT
DTSTART;TZID=America/Los_Angeles:20310122T190000
DTEND;TZID=America/Los_Angeles:20310122T190000
DTSTAMP:20260424T133212
CREATED:20190806T192939Z
LAST-MODIFIED:20260106T220826Z
UID:10013079-1926874800-1926874800@nkctribune.com
SUMMARY:Cle  Elum Eagles Aerie #649 Meeting
DESCRIPTION:The Cle Elum Aerie #649 meets every 2nd & 4th Wednesday of the Month at 7:00 p.m. at the Club on Pennsylvania Ave.
URL:https://nkctribune.com/event/cle-elum-eagles-aerie-649-meeting-3/2031-01-22/
LOCATION:Cle Elum Eagles\, 220 N Pennsylvania Ave\, Cle Elum\, WA\, United States
CATEGORIES:Club Events,Meetings
GEO:47.195606;-120.937746
X-APPLE-STRUCTURED-LOCATION;VALUE=URI;X-ADDRESS=Cle Elum Eagles 220 N Pennsylvania Ave Cle Elum WA United States;X-APPLE-RADIUS=500;X-TITLE=220 N Pennsylvania Ave:geo:-120.937746,47.195606
END:VEVENT
BEGIN:VEVENT
DTSTART;TZID=America/Los_Angeles:20310211T190000
DTEND;TZID=America/Los_Angeles:20310211T190000
DTSTAMP:20260424T133212
CREATED:20190806T193223Z
LAST-MODIFIED:20260106T220828Z
UID:10013415-1928602800-1928602800@nkctribune.com
SUMMARY:Cle Elum Eagles #649 Auxiliary Meeting
DESCRIPTION:The Cle Elum Eagles Auxiliary #649 meets every 2nd & 4th Tuesday of the Month at 7:00 p.m. at the Club on Pennsylvania Ave.
URL:https://nkctribune.com/event/cle-elum-eagles-649-auxiliary-meeting/2031-02-11/
LOCATION:Cle Elum Eagles Club\, 220 N. Pennsylvania Ave.\, Cle Elum\, WA\, 98922\, United States
CATEGORIES:Club Events,Meetings
GEO:47.1956022;-120.9378307
X-APPLE-STRUCTURED-LOCATION;VALUE=URI;X-ADDRESS=Cle Elum Eagles Club 220 N. Pennsylvania Ave. Cle Elum WA 98922 United States;X-APPLE-RADIUS=500;X-TITLE=220 N. Pennsylvania Ave.:geo:-120.9378307,47.1956022
END:VEVENT
BEGIN:VEVENT
DTSTART;TZID=America/Los_Angeles:20310212T190000
DTEND;TZID=America/Los_Angeles:20310212T190000
DTSTAMP:20260424T133212
CREATED:20190806T192516Z
LAST-MODIFIED:20260106T220829Z
UID:10013418-1928689200-1928689200@nkctribune.com
SUMMARY:Cle Elum Eagles Aerie #649 Meeting
DESCRIPTION:The Cle Elum Aerie #649 meets every 2nd & 4th Wednesday of the Month at 7:00 p.m. at the Club on Pennsylvania Ave.
URL:https://nkctribune.com/event/cle-elum-eagles-aerie-649-meeting-2/2031-02-12/
LOCATION:Cle Elum Eagles\, 220 N Pennsylvania Ave\, Cle Elum\, WA\, United States
CATEGORIES:Club Events,Meetings
GEO:47.195606;-120.937746
X-APPLE-STRUCTURED-LOCATION;VALUE=URI;X-ADDRESS=Cle Elum Eagles 220 N Pennsylvania Ave Cle Elum WA United States;X-APPLE-RADIUS=500;X-TITLE=220 N Pennsylvania Ave:geo:-120.937746,47.195606
END:VEVENT
BEGIN:VEVENT
DTSTART;TZID=America/Los_Angeles:20310214T183000
DTEND;TZID=America/Los_Angeles:20310214T203000
DTSTAMP:20260424T133212
CREATED:20160525T074153Z
LAST-MODIFIED:20260106T220828Z
UID:10013425-1928860200-1928867400@nkctribune.com
SUMMARY:Beekeepers of Kittitas County Monthly Meeting
DESCRIPTION:Beekeepers of Kittitas County Monthly Meeting\, Meets 2nd Tuesday of every month\, 6:30-8:30 p.m.\, Naneum Bee Farm\, 4451 Naneum Rd.\, Ellensburg. For info\, call 509-962-4043\, www.wasba.org.
URL:https://nkctribune.com/event/beekeepers-of-kittitas-county-monthly-meeting/2031-02-14/
LOCATION:Naneum Bee Farm\, 4451 Naneum Rd.\, Ellensburg\, WA\, 98926\, United States
CATEGORIES:Club Events
GEO:47.038568;-120.468793
X-APPLE-STRUCTURED-LOCATION;VALUE=URI;X-ADDRESS=Naneum Bee Farm 4451 Naneum Rd. Ellensburg WA 98926 United States;X-APPLE-RADIUS=500;X-TITLE=4451 Naneum Rd.:geo:-120.468793,47.038568
END:VEVENT
BEGIN:VEVENT
DTSTART;TZID=America/Los_Angeles:20310226T190000
DTEND;TZID=America/Los_Angeles:20310226T190000
DTSTAMP:20260424T133212
CREATED:20190806T192939Z
LAST-MODIFIED:20260106T220826Z
UID:10013436-1929898800-1929898800@nkctribune.com
SUMMARY:Cle  Elum Eagles Aerie #649 Meeting
DESCRIPTION:The Cle Elum Aerie #649 meets every 2nd & 4th Wednesday of the Month at 7:00 p.m. at the Club on Pennsylvania Ave.
URL:https://nkctribune.com/event/cle-elum-eagles-aerie-649-meeting-3/2031-02-26/
LOCATION:Cle Elum Eagles\, 220 N Pennsylvania Ave\, Cle Elum\, WA\, United States
CATEGORIES:Club Events,Meetings
GEO:47.195606;-120.937746
X-APPLE-STRUCTURED-LOCATION;VALUE=URI;X-ADDRESS=Cle Elum Eagles 220 N Pennsylvania Ave Cle Elum WA United States;X-APPLE-RADIUS=500;X-TITLE=220 N Pennsylvania Ave:geo:-120.937746,47.195606
END:VEVENT
BEGIN:VEVENT
DTSTART;TZID=America/Los_Angeles:20310311T190000
DTEND;TZID=America/Los_Angeles:20310311T190000
DTSTAMP:20260424T133212
CREATED:20190806T193223Z
LAST-MODIFIED:20260106T220828Z
UID:10013781-1931022000-1931022000@nkctribune.com
SUMMARY:Cle Elum Eagles #649 Auxiliary Meeting
DESCRIPTION:The Cle Elum Eagles Auxiliary #649 meets every 2nd & 4th Tuesday of the Month at 7:00 p.m. at the Club on Pennsylvania Ave.
URL:https://nkctribune.com/event/cle-elum-eagles-649-auxiliary-meeting/2031-03-11/
LOCATION:Cle Elum Eagles Club\, 220 N. Pennsylvania Ave.\, Cle Elum\, WA\, 98922\, United States
CATEGORIES:Club Events,Meetings
GEO:47.1956022;-120.9378307
X-APPLE-STRUCTURED-LOCATION;VALUE=URI;X-ADDRESS=Cle Elum Eagles Club 220 N. Pennsylvania Ave. Cle Elum WA 98922 United States;X-APPLE-RADIUS=500;X-TITLE=220 N. Pennsylvania Ave.:geo:-120.9378307,47.1956022
END:VEVENT
BEGIN:VEVENT
DTSTART;TZID=America/Los_Angeles:20310312T190000
DTEND;TZID=America/Los_Angeles:20310312T190000
DTSTAMP:20260424T133212
CREATED:20190806T192516Z
LAST-MODIFIED:20260106T220829Z
UID:10013788-1931108400-1931108400@nkctribune.com
SUMMARY:Cle Elum Eagles Aerie #649 Meeting
DESCRIPTION:The Cle Elum Aerie #649 meets every 2nd & 4th Wednesday of the Month at 7:00 p.m. at the Club on Pennsylvania Ave.
URL:https://nkctribune.com/event/cle-elum-eagles-aerie-649-meeting-2/2031-03-12/
LOCATION:Cle Elum Eagles\, 220 N Pennsylvania Ave\, Cle Elum\, WA\, United States
CATEGORIES:Club Events,Meetings
GEO:47.195606;-120.937746
X-APPLE-STRUCTURED-LOCATION;VALUE=URI;X-ADDRESS=Cle Elum Eagles 220 N Pennsylvania Ave Cle Elum WA United States;X-APPLE-RADIUS=500;X-TITLE=220 N Pennsylvania Ave:geo:-120.937746,47.195606
END:VEVENT
BEGIN:VEVENT
DTSTART;TZID=America/Los_Angeles:20310314T183000
DTEND;TZID=America/Los_Angeles:20310314T203000
DTSTAMP:20260424T133212
CREATED:20160525T074153Z
LAST-MODIFIED:20260106T220828Z
UID:10013791-1931279400-1931286600@nkctribune.com
SUMMARY:Beekeepers of Kittitas County Monthly Meeting
DESCRIPTION:Beekeepers of Kittitas County Monthly Meeting\, Meets 2nd Tuesday of every month\, 6:30-8:30 p.m.\, Naneum Bee Farm\, 4451 Naneum Rd.\, Ellensburg. For info\, call 509-962-4043\, www.wasba.org.
URL:https://nkctribune.com/event/beekeepers-of-kittitas-county-monthly-meeting/2031-03-14/
LOCATION:Naneum Bee Farm\, 4451 Naneum Rd.\, Ellensburg\, WA\, 98926\, United States
CATEGORIES:Club Events
GEO:47.038568;-120.468793
X-APPLE-STRUCTURED-LOCATION;VALUE=URI;X-ADDRESS=Naneum Bee Farm 4451 Naneum Rd. Ellensburg WA 98926 United States;X-APPLE-RADIUS=500;X-TITLE=4451 Naneum Rd.:geo:-120.468793,47.038568
END:VEVENT
BEGIN:VEVENT
DTSTART;TZID=America/Los_Angeles:20310326T190000
DTEND;TZID=America/Los_Angeles:20310326T190000
DTSTAMP:20260424T133212
CREATED:20190806T192939Z
LAST-MODIFIED:20260106T220826Z
UID:10013976-1932318000-1932318000@nkctribune.com
SUMMARY:Cle  Elum Eagles Aerie #649 Meeting
DESCRIPTION:The Cle Elum Aerie #649 meets every 2nd & 4th Wednesday of the Month at 7:00 p.m. at the Club on Pennsylvania Ave.
URL:https://nkctribune.com/event/cle-elum-eagles-aerie-649-meeting-3/2031-03-26/
LOCATION:Cle Elum Eagles\, 220 N Pennsylvania Ave\, Cle Elum\, WA\, United States
CATEGORIES:Club Events,Meetings
GEO:47.195606;-120.937746
X-APPLE-STRUCTURED-LOCATION;VALUE=URI;X-ADDRESS=Cle Elum Eagles 220 N Pennsylvania Ave Cle Elum WA United States;X-APPLE-RADIUS=500;X-TITLE=220 N Pennsylvania Ave:geo:-120.937746,47.195606
END:VEVENT
BEGIN:VEVENT
DTSTART;TZID=America/Los_Angeles:20310408T190000
DTEND;TZID=America/Los_Angeles:20310408T190000
DTSTAMP:20260424T133212
CREATED:20190806T193223Z
LAST-MODIFIED:20260106T220828Z
UID:10014113-1933441200-1933441200@nkctribune.com
SUMMARY:Cle Elum Eagles #649 Auxiliary Meeting
DESCRIPTION:The Cle Elum Eagles Auxiliary #649 meets every 2nd & 4th Tuesday of the Month at 7:00 p.m. at the Club on Pennsylvania Ave.
URL:https://nkctribune.com/event/cle-elum-eagles-649-auxiliary-meeting/2031-04-08/
LOCATION:Cle Elum Eagles Club\, 220 N. Pennsylvania Ave.\, Cle Elum\, WA\, 98922\, United States
CATEGORIES:Club Events,Meetings
GEO:47.1956022;-120.9378307
X-APPLE-STRUCTURED-LOCATION;VALUE=URI;X-ADDRESS=Cle Elum Eagles Club 220 N. Pennsylvania Ave. Cle Elum WA 98922 United States;X-APPLE-RADIUS=500;X-TITLE=220 N. Pennsylvania Ave.:geo:-120.9378307,47.1956022
END:VEVENT
BEGIN:VEVENT
DTSTART;TZID=America/Los_Angeles:20310409T190000
DTEND;TZID=America/Los_Angeles:20310409T190000
DTSTAMP:20260424T133212
CREATED:20190806T192516Z
LAST-MODIFIED:20260106T220829Z
UID:10014114-1933527600-1933527600@nkctribune.com
SUMMARY:Cle Elum Eagles Aerie #649 Meeting
DESCRIPTION:The Cle Elum Aerie #649 meets every 2nd & 4th Wednesday of the Month at 7:00 p.m. at the Club on Pennsylvania Ave.
URL:https://nkctribune.com/event/cle-elum-eagles-aerie-649-meeting-2/2031-04-09/
LOCATION:Cle Elum Eagles\, 220 N Pennsylvania Ave\, Cle Elum\, WA\, United States
CATEGORIES:Club Events,Meetings
GEO:47.195606;-120.937746
X-APPLE-STRUCTURED-LOCATION;VALUE=URI;X-ADDRESS=Cle Elum Eagles 220 N Pennsylvania Ave Cle Elum WA United States;X-APPLE-RADIUS=500;X-TITLE=220 N Pennsylvania Ave:geo:-120.937746,47.195606
END:VEVENT
BEGIN:VEVENT
DTSTART;TZID=America/Los_Angeles:20310414T183000
DTEND;TZID=America/Los_Angeles:20310414T203000
DTSTAMP:20260424T133212
CREATED:20160525T074153Z
LAST-MODIFIED:20260106T220828Z
UID:10014118-1933957800-1933965000@nkctribune.com
SUMMARY:Beekeepers of Kittitas County Monthly Meeting
DESCRIPTION:Beekeepers of Kittitas County Monthly Meeting\, Meets 2nd Tuesday of every month\, 6:30-8:30 p.m.\, Naneum Bee Farm\, 4451 Naneum Rd.\, Ellensburg. For info\, call 509-962-4043\, www.wasba.org.
URL:https://nkctribune.com/event/beekeepers-of-kittitas-county-monthly-meeting/2031-04-14/
LOCATION:Naneum Bee Farm\, 4451 Naneum Rd.\, Ellensburg\, WA\, 98926\, United States
CATEGORIES:Club Events
GEO:47.038568;-120.468793
X-APPLE-STRUCTURED-LOCATION;VALUE=URI;X-ADDRESS=Naneum Bee Farm 4451 Naneum Rd. Ellensburg WA 98926 United States;X-APPLE-RADIUS=500;X-TITLE=4451 Naneum Rd.:geo:-120.468793,47.038568
END:VEVENT
BEGIN:VEVENT
DTSTART;TZID=America/Los_Angeles:20310423T190000
DTEND;TZID=America/Los_Angeles:20310423T190000
DTSTAMP:20260424T133212
CREATED:20190806T192939Z
LAST-MODIFIED:20260106T220826Z
UID:10014197-1934737200-1934737200@nkctribune.com
SUMMARY:Cle  Elum Eagles Aerie #649 Meeting
DESCRIPTION:The Cle Elum Aerie #649 meets every 2nd & 4th Wednesday of the Month at 7:00 p.m. at the Club on Pennsylvania Ave.
URL:https://nkctribune.com/event/cle-elum-eagles-aerie-649-meeting-3/2031-04-23/
LOCATION:Cle Elum Eagles\, 220 N Pennsylvania Ave\, Cle Elum\, WA\, United States
CATEGORIES:Club Events,Meetings
GEO:47.195606;-120.937746
X-APPLE-STRUCTURED-LOCATION;VALUE=URI;X-ADDRESS=Cle Elum Eagles 220 N Pennsylvania Ave Cle Elum WA United States;X-APPLE-RADIUS=500;X-TITLE=220 N Pennsylvania Ave:geo:-120.937746,47.195606
END:VEVENT
END:VCALENDAR