BEGIN:VCALENDAR
VERSION:2.0
PRODID:-//Northern Kittitas County Tribune - ECPv6.15.20//NONSGML v1.0//EN
CALSCALE:GREGORIAN
METHOD:PUBLISH
X-ORIGINAL-URL:https://nkctribune.com
X-WR-CALDESC:Events for Northern Kittitas County Tribune
REFRESH-INTERVAL;VALUE=DURATION:PT1H
X-Robots-Tag:noindex
X-PUBLISHED-TTL:PT1H
BEGIN:VTIMEZONE
TZID:America/Los_Angeles
BEGIN:DAYLIGHT
TZOFFSETFROM:-0800
TZOFFSETTO:-0700
TZNAME:PDT
DTSTART:20250309T100000
END:DAYLIGHT
BEGIN:STANDARD
TZOFFSETFROM:-0700
TZOFFSETTO:-0800
TZNAME:PST
DTSTART:20251102T090000
END:STANDARD
BEGIN:DAYLIGHT
TZOFFSETFROM:-0800
TZOFFSETTO:-0700
TZNAME:PDT
DTSTART:20260308T100000
END:DAYLIGHT
BEGIN:STANDARD
TZOFFSETFROM:-0700
TZOFFSETTO:-0800
TZNAME:PST
DTSTART:20261101T090000
END:STANDARD
BEGIN:DAYLIGHT
TZOFFSETFROM:-0800
TZOFFSETTO:-0700
TZNAME:PDT
DTSTART:20270314T100000
END:DAYLIGHT
BEGIN:STANDARD
TZOFFSETFROM:-0700
TZOFFSETTO:-0800
TZNAME:PST
DTSTART:20271107T090000
END:STANDARD
END:VTIMEZONE
BEGIN:VEVENT
DTSTART;TZID=America/Los_Angeles:20260310T180000
DTEND;TZID=America/Los_Angeles:20260310T180000
DTSTAMP:20260422T192030
CREATED:20220317T204117Z
LAST-MODIFIED:20260106T220828Z
UID:10002853-1773165600-1773165600@nkctribune.com
SUMMARY:Kittitas County Water District #7 (Sunlight Waters) Meeting
DESCRIPTION:Kittitas County Water District #7 (Sunlight Waters)\, Regular Meeting of the Board of Commissioners\, 2nd Tuesday of the Month\, 6:00 p.m. at Sunlight Waters Country Clubhouse to discuss regular business. Bonnie Callecod 509-304-6133.
URL:https://nkctribune.com/event/kittitas-county-water-district-7-sunlight-waters-meeting/2026-03-10/
LOCATION:Sunlight Waters Country Clubhouse\, 150 Clubhouse Rd.\, Cle Elum\, WA\, 98922\, USA
CATEGORIES:Meetings
GEO:47.1192683;-120.7737434
X-APPLE-STRUCTURED-LOCATION;VALUE=URI;X-ADDRESS=Sunlight Waters Country Clubhouse 150 Clubhouse Rd. Cle Elum WA 98922 USA;X-APPLE-RADIUS=500;X-TITLE=150 Clubhouse Rd.:geo:-120.7737434,47.1192683
END:VEVENT
BEGIN:VEVENT
DTSTART;TZID=America/Los_Angeles:20260310T190000
DTEND;TZID=America/Los_Angeles:20260310T190000
DTSTAMP:20260422T192030
CREATED:20190806T193223Z
LAST-MODIFIED:20260106T220828Z
UID:10002026-1773169200-1773169200@nkctribune.com
SUMMARY:Cle Elum Eagles #649 Auxiliary Meeting
DESCRIPTION:The Cle Elum Eagles Auxiliary #649 meets every 2nd & 4th Tuesday of the Month at 7:00 p.m. at the Club on Pennsylvania Ave.
URL:https://nkctribune.com/event/cle-elum-eagles-649-auxiliary-meeting/2026-03-10/
LOCATION:Cle Elum Eagles Club\, 220 N. Pennsylvania Ave.\, Cle Elum\, WA\, 98922\, United States
CATEGORIES:Club Events,Meetings
GEO:47.1956022;-120.9378307
X-APPLE-STRUCTURED-LOCATION;VALUE=URI;X-ADDRESS=Cle Elum Eagles Club 220 N. Pennsylvania Ave. Cle Elum WA 98922 United States;X-APPLE-RADIUS=500;X-TITLE=220 N. Pennsylvania Ave.:geo:-120.9378307,47.1956022
END:VEVENT
BEGIN:VEVENT
DTSTART;TZID=America/Los_Angeles:20260311T190000
DTEND;TZID=America/Los_Angeles:20260311T190000
DTSTAMP:20260422T192030
CREATED:20190806T192516Z
LAST-MODIFIED:20260106T220829Z
UID:10002137-1773255600-1773255600@nkctribune.com
SUMMARY:Cle Elum Eagles Aerie #649 Meeting
DESCRIPTION:The Cle Elum Aerie #649 meets every 2nd & 4th Wednesday of the Month at 7:00 p.m. at the Club on Pennsylvania Ave.
URL:https://nkctribune.com/event/cle-elum-eagles-aerie-649-meeting-2/2026-03-11/
LOCATION:Cle Elum Eagles\, 220 N Pennsylvania Ave\, Cle Elum\, WA\, United States
CATEGORIES:Club Events,Meetings
GEO:47.195606;-120.937746
X-APPLE-STRUCTURED-LOCATION;VALUE=URI;X-ADDRESS=Cle Elum Eagles 220 N Pennsylvania Ave Cle Elum WA United States;X-APPLE-RADIUS=500;X-TITLE=220 N Pennsylvania Ave:geo:-120.937746,47.195606
END:VEVENT
BEGIN:VEVENT
DTSTART;TZID=America/Los_Angeles:20260311T190000
DTEND;TZID=America/Los_Angeles:20260311T203000
DTSTAMP:20260422T192030
CREATED:20181022T163313Z
LAST-MODIFIED:20260106T220829Z
UID:10001964-1773255600-1773261000@nkctribune.com
SUMMARY:Meeting of Commissioners of Kittitas County Water District #7
DESCRIPTION:Regular business of Kittitas County Water District #7 commissioners.
URL:https://nkctribune.com/event/meeting-of-commissioners-of-kittitas-county-water-district-7-3/2026-03-11/
LOCATION:Sunlight Waters Country Clubhouse\, 150 Clubhouse Rd.\, Cle Elum\, WA\, 98922\, USA
CATEGORIES:Meetings
ORGANIZER;CN="Mary Wise":MAILTO:kcwater7@gmail.com
GEO:47.1192683;-120.7737434
X-APPLE-STRUCTURED-LOCATION;VALUE=URI;X-ADDRESS=Sunlight Waters Country Clubhouse 150 Clubhouse Rd. Cle Elum WA 98922 USA;X-APPLE-RADIUS=500;X-TITLE=150 Clubhouse Rd.:geo:-120.7737434,47.1192683
END:VEVENT
BEGIN:VEVENT
DTSTART;TZID=America/Los_Angeles:20260311T190000
DTEND;TZID=America/Los_Angeles:20260311T203000
DTSTAMP:20260422T192030
CREATED:20210719T162910Z
LAST-MODIFIED:20260106T220828Z
UID:10002769-1773255600-1773261000@nkctribune.com
SUMMARY:Monthly Meeting of Kittitas County Water District #7 Commissioners
DESCRIPTION:Regular business meeting.
URL:https://nkctribune.com/event/monthly-meeting-of-kittitas-county-water-district-7-commissioners-3/2026-03-11/
LOCATION:Sunlight Waters Country Clubhouse\, 150 Clubhouse Rd.\, Cle Elum\, WA\, 98922\, USA
CATEGORIES:Meetings
ORGANIZER;CN="Mary Wise":MAILTO:kcwater7@gmail.com
GEO:47.1192683;-120.7737434
X-APPLE-STRUCTURED-LOCATION;VALUE=URI;X-ADDRESS=Sunlight Waters Country Clubhouse 150 Clubhouse Rd. Cle Elum WA 98922 USA;X-APPLE-RADIUS=500;X-TITLE=150 Clubhouse Rd.:geo:-120.7737434,47.1192683
END:VEVENT
BEGIN:VEVENT
DTSTART;TZID=America/Los_Angeles:20260318T130000
DTEND;TZID=America/Los_Angeles:20260318T143000
DTSTAMP:20260422T192030
CREATED:20250326T172631Z
LAST-MODIFIED:20260106T220820Z
UID:10011314-1773838800-1773844200@nkctribune.com
SUMMARY:Alzheimer's Association - Cle Elum
DESCRIPTION:Caring for someone with memory loss? Do you need information and support? Alzheimer’s Association family caregiver support groups provide a consistent and caring place for people to learn\, share and gain emotional support from others who are also on a unique journey of providing care to a person with memory loss. Meetings are held the 3rd Wednesday of the month\, 1:00- 2:30pm\, at Cle Elum Adventist Church\, 115 E 2nd Street\, Cle Elum\, WA 98922. For information email Kathleen Smith at 3crows@drizzle.com or call our 24/7 Helpline at 1-800-272-3900.
URL:https://nkctribune.com/event/alzheimers-association-cle-elum/2026-03-18/
LOCATION:Cle Elum Adventist Church\, 115 E 2nd St\, Cle Elum\, WA\, 98922\, United States
CATEGORIES:General,Health Events,Meetings,Other Events,Self Help
ATTACH;FMTTYPE=image/jpeg:https://nkctribune.com/wp-content/uploads/2025/03/EventPhotoFull_50743.jpg
GEO:47.195893;-120.9364031
X-APPLE-STRUCTURED-LOCATION;VALUE=URI;X-ADDRESS=Cle Elum Adventist Church 115 E 2nd St Cle Elum WA 98922 United States;X-APPLE-RADIUS=500;X-TITLE=115 E 2nd St:geo:-120.9364031,47.195893
END:VEVENT
BEGIN:VEVENT
DTSTART;TZID=America/Los_Angeles:20260323T180000
DTEND;TZID=America/Los_Angeles:20260323T190000
DTSTAMP:20260422T192030
CREATED:20250813T004038Z
LAST-MODIFIED:20260106T220803Z
UID:10012138-1774288800-1774292400@nkctribune.com
SUMMARY:Cle Elum-Roslyn School Board Meeting
DESCRIPTION:The Cle Elum-Roslyn School Board Meetings will be held on the 2nd & 4th Mondays of every month at 6:00 p.m. (unless the Monday is a holiday). Located at the District’s Central Office at 4244 Bullfrog Rd\, Cle Elum.
URL:https://nkctribune.com/event/cle-elum-roslyn-school-board-meeting-copy-2/2026-03-23/
LOCATION:Cle Elum-Roslyn School District’s Main Office\, 4244 Bullfrog Rd.
CATEGORIES:Meetings
GEO:39.6953802;-77.2401109
X-APPLE-STRUCTURED-LOCATION;VALUE=URI;X-ADDRESS=Cle Elum-Roslyn School District’s Main Office 4244 Bullfrog Rd.;X-APPLE-RADIUS=500;X-TITLE=4244 Bullfrog Rd.:geo:-77.2401109,39.6953802
END:VEVENT
BEGIN:VEVENT
DTSTART;TZID=America/Los_Angeles:20260325T190000
DTEND;TZID=America/Los_Angeles:20260325T190000
DTSTAMP:20260422T192030
CREATED:20190806T192939Z
LAST-MODIFIED:20260106T220826Z
UID:10002194-1774465200-1774465200@nkctribune.com
SUMMARY:Cle  Elum Eagles Aerie #649 Meeting
DESCRIPTION:The Cle Elum Aerie #649 meets every 2nd & 4th Wednesday of the Month at 7:00 p.m. at the Club on Pennsylvania Ave.
URL:https://nkctribune.com/event/cle-elum-eagles-aerie-649-meeting-3/2026-03-25/
LOCATION:Cle Elum Eagles\, 220 N Pennsylvania Ave\, Cle Elum\, WA\, United States
CATEGORIES:Club Events,Meetings
GEO:47.195606;-120.937746
X-APPLE-STRUCTURED-LOCATION;VALUE=URI;X-ADDRESS=Cle Elum Eagles 220 N Pennsylvania Ave Cle Elum WA United States;X-APPLE-RADIUS=500;X-TITLE=220 N Pennsylvania Ave:geo:-120.937746,47.195606
END:VEVENT
END:VCALENDAR