BEGIN:VCALENDAR
VERSION:2.0
PRODID:-//Northern Kittitas County Tribune - ECPv6.15.20//NONSGML v1.0//EN
CALSCALE:GREGORIAN
METHOD:PUBLISH
X-WR-CALNAME:Northern Kittitas County Tribune
X-ORIGINAL-URL:https://nkctribune.com
X-WR-CALDESC:Events for Northern Kittitas County Tribune
REFRESH-INTERVAL;VALUE=DURATION:PT1H
X-Robots-Tag:noindex
X-PUBLISHED-TTL:PT1H
BEGIN:VTIMEZONE
TZID:America/Los_Angeles
BEGIN:DAYLIGHT
TZOFFSETFROM:-0800
TZOFFSETTO:-0700
TZNAME:PDT
DTSTART:20240310T100000
END:DAYLIGHT
BEGIN:STANDARD
TZOFFSETFROM:-0700
TZOFFSETTO:-0800
TZNAME:PST
DTSTART:20241103T090000
END:STANDARD
BEGIN:DAYLIGHT
TZOFFSETFROM:-0800
TZOFFSETTO:-0700
TZNAME:PDT
DTSTART:20250309T100000
END:DAYLIGHT
BEGIN:STANDARD
TZOFFSETFROM:-0700
TZOFFSETTO:-0800
TZNAME:PST
DTSTART:20251102T090000
END:STANDARD
BEGIN:DAYLIGHT
TZOFFSETFROM:-0800
TZOFFSETTO:-0700
TZNAME:PDT
DTSTART:20260308T100000
END:DAYLIGHT
BEGIN:STANDARD
TZOFFSETFROM:-0700
TZOFFSETTO:-0800
TZNAME:PST
DTSTART:20261101T090000
END:STANDARD
END:VTIMEZONE
BEGIN:VEVENT
DTSTART;VALUE=DATE:20250612
DTEND;VALUE=DATE:20250616
DTSTAMP:20260424T133037
CREATED:20250205T190021Z
LAST-MODIFIED:20260106T220813Z
UID:10010596-1749686400-1750031999@nkctribune.com
SUMMARY:Chinook Fest 2025
DESCRIPTION:Where great music meets the great outdoors\, Chinook Fest continues to hit the mark for live music lovers and outdoor enthusiasts alike. Nestled along the scenic Naches River at Jim Sprick Park\, this one-of-a-kind festival delivers an experience you won’t find anywhere else. Returning for its 13th year from June 12-15\, 2025\, Chinook Fest sets itself apart from large-scale festivals with its intimate vibe\, breathtaking location\, and handpicked lineup of must-see artists. If you’re looking for a weekend that blends stellar live music\, outdoor lifestyle\, and an unplugged retreat\, this is it. Don’t wait—tickets are on sale now\, and they typically sell out! \nChinook Fest was founded in 2012 and is produced by Yakima musician and entrepreneur\, Cody Beebe\, and his bandmates Eric Miller\, Aaron Myers\, and Joe Catron. After over a decade as touring musicians the band decided to create something authentic and uniquely Pacific Northwest for their fans at home. What started as a one-day gathering of 250 people\, Chinook Fest has now grown into a multi-day experience welcoming 2\,000 festival-goers—all without losing its intimate\, laid-back charm. \nSet on 30 acres along the Naches River\, Chinook Fest isn’t just about the music—it’s about immersing yourself in nature\, stepping away from the digital world (yes\, there’s no cell or Wi-Fi service!)\, and reconnecting with what truly matters: great people\, great music\, and the great outdoors. \nTickets\, Camping & VIP Tables are on sale now at chinookfest.com \nThursday\, Friday\, Saturday: 21+\, Sunday: All Ages
URL:https://nkctribune.com/event/chinook-fest-2025/
LOCATION:Jim Sprick Park\, Naches\, Washington\, 98937\, United States
CATEGORIES:Festivals, Parades & Fairs,Music,Outdoors,Recreation
GEO:46.730958;-120.699516
END:VEVENT
BEGIN:VEVENT
DTSTART;TZID=America/Los_Angeles:20250628T120000
DTEND;TZID=America/Los_Angeles:20250628T200000
DTSTAMP:20260424T133037
CREATED:20250625T011420Z
LAST-MODIFIED:20260402T053205Z
UID:10011790-1751112000-1751140800@nkctribune.com
SUMMARY:Last Saturday at PUNCH! Art\, Live Music\, Food!
DESCRIPTION:Open 12-8pm for “Last Saturday” on June 28 with multiple bands from the Ellensburg 90’s music scene playing on the Punch Stage 2-8pm. The folks from Puff Puff Pizza will be here all day and in the PUNCH Gallery\, join us for the final weekend of “Cloud Break” curated by Will Bow.\n12-8pm Gallery Open\n12-8pm Puff Puff Pizza\n2-8pm Live Music!\nEllensburg 90s Bands:\n(indie rock\, hip-hop\, punk\, gutter country)\n01. Canvas\n02. Mark & Tom (of Log Hog)\n03. Digigun\n04. The Jesus Chords\nThe “Cloud Break” exhibition is a grouping of art that is inspired by moments that give us energy and a sense that the world can be and is an alright place. Sometimes it’s a cool bug or moss in the woods getting hit by light just ever so perfectly\, sometimes it’s hearing a kind-loving conversation between strangers at the grocery\, a dog booping someone in the buns\, a meal where you can taste the love … you know\, the good stuff. We need these types of moments now and again.\nExhibiting Artists:\nChad Yenney\nMaria Christalli\nTom DesLongchamp\nPhilippe Hyojung Kim\nChase Grover\nScott Mayberry\nTravis Millard\nAlina Radetsky\nWill Bow\nElectric Bill\nAnnette Provenzo\nKarl Schwiesow\n\nNot to mention\, we’ve got beverages and snacks in the Punch Snack Bar. \n\nJoin us for this free\, all-ages event at Punch Projects in Thorp\, Washington.
URL:https://nkctribune.com/event/last-saturday-at-punch-art-live-music-food/
LOCATION:PUNCH Gallery\, 10630 N Thorp Hwy\, Thorp\, 98946\, United States
CATEGORIES:Music
ATTACH;FMTTYPE=image/jpeg:https://nkctribune.com/wp-content/uploads/2025/06/mixtape-fb2.jpg
ORGANIZER;CN="PUNCH Projects":MAILTO:art@punchprojects.org
GEO:47.0691184;-120.6735653
X-APPLE-STRUCTURED-LOCATION;VALUE=URI;X-ADDRESS=PUNCH Gallery 10630 N Thorp Hwy Thorp 98946 United States;X-APPLE-RADIUS=500;X-TITLE=10630 N Thorp Hwy:geo:-120.6735653,47.0691184
END:VEVENT
END:VCALENDAR