BEGIN:VCALENDAR
VERSION:2.0
PRODID:-//Northern Kittitas County Tribune - ECPv6.15.20//NONSGML v1.0//EN
CALSCALE:GREGORIAN
METHOD:PUBLISH
X-ORIGINAL-URL:https://nkctribune.com
X-WR-CALDESC:Events for Northern Kittitas County Tribune
REFRESH-INTERVAL;VALUE=DURATION:PT1H
X-Robots-Tag:noindex
X-PUBLISHED-TTL:PT1H
BEGIN:VTIMEZONE
TZID:America/Los_Angeles
BEGIN:DAYLIGHT
TZOFFSETFROM:-0800
TZOFFSETTO:-0700
TZNAME:PDT
DTSTART:20240310T100000
END:DAYLIGHT
BEGIN:STANDARD
TZOFFSETFROM:-0700
TZOFFSETTO:-0800
TZNAME:PST
DTSTART:20241103T090000
END:STANDARD
BEGIN:DAYLIGHT
TZOFFSETFROM:-0800
TZOFFSETTO:-0700
TZNAME:PDT
DTSTART:20250309T100000
END:DAYLIGHT
BEGIN:STANDARD
TZOFFSETFROM:-0700
TZOFFSETTO:-0800
TZNAME:PST
DTSTART:20251102T090000
END:STANDARD
BEGIN:DAYLIGHT
TZOFFSETFROM:-0800
TZOFFSETTO:-0700
TZNAME:PDT
DTSTART:20260308T100000
END:DAYLIGHT
BEGIN:STANDARD
TZOFFSETFROM:-0700
TZOFFSETTO:-0800
TZNAME:PST
DTSTART:20261101T090000
END:STANDARD
END:VTIMEZONE
BEGIN:VEVENT
DTSTART;TZID=America/Los_Angeles:20250705T150000
DTEND;TZID=America/Los_Angeles:20250705T170000
DTSTAMP:20260424T120826
CREATED:20250702T164527Z
LAST-MODIFIED:20260402T053200Z
UID:10011859-1751727600-1751734800@nkctribune.com
SUMMARY:Live Music at Punch! “Chumlilies”
DESCRIPTION:Open 12-5pm Saturday\, July 5 with the“Chumlilies” playing Americana\, country and folkgrass on the Punch Stage 3-5pm. In the PUNCH Gallery\, join us for the opening weekend of “Pillow Fight: The Members Show” featuring work from folks that have joined PUNCH at the “Feather Weight” or higher membership level.\nNot to mention\, we’ve got beverages and snacks in the Punch Snack Bar.\nPlan to arrive early for a good seat!\nJoin us for this free\, all-ages event at Punch Projects in Thorp\, Washington.
URL:https://nkctribune.com/event/live-music-at-punch-chumlilies/
LOCATION:PUNCH Gallery\, 10630 N Thorp Hwy\, Thorp\, 98946\, United States
CATEGORIES:Music
ATTACH;FMTTYPE=image/jpeg:https://nkctribune.com/wp-content/uploads/2025/07/Chumlilies-IG-Square.jpg
ORGANIZER;CN="PUNCH Projects":MAILTO:art@punchprojects.org
GEO:47.0691184;-120.6735653
X-APPLE-STRUCTURED-LOCATION;VALUE=URI;X-ADDRESS=PUNCH Gallery 10630 N Thorp Hwy Thorp 98946 United States;X-APPLE-RADIUS=500;X-TITLE=10630 N Thorp Hwy:geo:-120.6735653,47.0691184
END:VEVENT
BEGIN:VEVENT
DTSTART;TZID=America/Los_Angeles:20250712T150000
DTEND;TZID=America/Los_Angeles:20250712T170000
DTSTAMP:20260424T120826
CREATED:20250709T031807Z
LAST-MODIFIED:20260402T053157Z
UID:10011861-1752332400-1752339600@nkctribune.com
SUMMARY:Live Music at Punch! “Them Badgers”
DESCRIPTION:Open 12-5pm Saturday\, July 5 with “Them Badgers” playing their unique mix of country and punk on the Punch Stage 3-5pm. In the PUNCH Gallery\, join us for the opening weekend of “Pillow Fight: The Members Show” featuring work from folks that have joined PUNCH at the “Feather Weight” or higher membership level.\nNot to mention\, we’ve got beverages and snacks in the Punch Snack Bar.\nPlan to arrive early for a good seat!\nJoin us for this free\, all-ages event at Punch Projects in Thorp\, Washington.
URL:https://nkctribune.com/event/live-music-at-punch-them-badgers/
LOCATION:PUNCH Gallery\, 10630 N Thorp Hwy\, Thorp\, 98946\, United States
CATEGORIES:Music
ATTACH;FMTTYPE=image/jpeg:https://nkctribune.com/wp-content/uploads/2025/07/Them-Badgers-Square.jpg
ORGANIZER;CN="PUNCH Projects":MAILTO:art@punchprojects.org
GEO:47.0691184;-120.6735653
X-APPLE-STRUCTURED-LOCATION;VALUE=URI;X-ADDRESS=PUNCH Gallery 10630 N Thorp Hwy Thorp 98946 United States;X-APPLE-RADIUS=500;X-TITLE=10630 N Thorp Hwy:geo:-120.6735653,47.0691184
END:VEVENT
BEGIN:VEVENT
DTSTART;TZID=America/Los_Angeles:20250717T180000
DTEND;TZID=America/Los_Angeles:20250717T200000
DTSTAMP:20260424T120826
CREATED:20250620T181311Z
LAST-MODIFIED:20260106T220808Z
UID:10011785-1752775200-1752782400@nkctribune.com
SUMMARY:Music in the Gardens
DESCRIPTION:Music in the GardensThursday\, July 17th | 6 – 8 PM$15 at the gate | Kids under 12 are free\nJoin us for Music in the Gardens\, where you’ll be surrounded by blooming flowers and live music.\n\nRuby Street will be performing live! Whether you’re a longtime fan or hearing them for the first time\, her music is the perfect backdrop for an evening in the garden.\n\nGrab a glass of wine and some charcuterie bites\, find a cozy spot\, and enjoy a laid-back evening of great music and great company.
URL:https://nkctribune.com/event/music-in-the-gardens/
LOCATION:The Brick House Gardens & Nursery\, 7243 Manastash Road\, Ellensburg\, 98926
CATEGORIES:Music
ATTACH;FMTTYPE=image/png:https://nkctribune.com/wp-content/uploads/2025/06/Peach-and-Pink-Antique-Garden-Party-Poster-1280-x-720-px-1-2.png
ORGANIZER;CN="The Brick House Gardens &amp%3B Nursery":MAILTO:marketing@thebrickhousenursery.com
GEO:46.9706542;-120.6653873
X-APPLE-STRUCTURED-LOCATION;VALUE=URI;X-ADDRESS=The Brick House Gardens & Nursery 7243 Manastash Road Ellensburg 98926;X-APPLE-RADIUS=500;X-TITLE=7243 Manastash Road:geo:-120.6653873,46.9706542
END:VEVENT
BEGIN:VEVENT
DTSTART;TZID=America/Los_Angeles:20250719T150000
DTEND;TZID=America/Los_Angeles:20250719T170000
DTSTAMP:20260424T120826
CREATED:20250717T184631Z
LAST-MODIFIED:20260402T053259Z
UID:10011871-1752937200-1752944400@nkctribune.com
SUMMARY:"North Indian Classical Music Showcase"
DESCRIPTION:Open 12-5pm Saturday\, July 19 with a “North Indian Classical Music Showcase” of Tabla\, Raga-Guitar and more on the Punch Stage 3-5pm. In the PUNCH Gallery\, join us for the opening weekend of “Pillow Fight: The Members Show” featuring work from folks that have joined PUNCH at the “Feather Weight” or higher membership level.\nNot to mention\, we’ve got beverages and snacks in the Punch Snack Bar.\nPlan to arrive early for a good seat!\nJoin us for this free\, all-ages event at Punch Projects in Thorp\, Washington.
URL:https://nkctribune.com/event/north-indian-classical-music-showcase/
LOCATION:PUNCH Gallery\, 10630 N Thorp Hwy\, Thorp\, 98946\, United States
CATEGORIES:Music
ATTACH;FMTTYPE=image/jpeg:https://nkctribune.com/wp-content/uploads/2025/07/Indian-Music-Square.jpg
ORGANIZER;CN="PUNCH Projects":MAILTO:art@punchprojects.org
GEO:47.0691184;-120.6735653
X-APPLE-STRUCTURED-LOCATION;VALUE=URI;X-ADDRESS=PUNCH Gallery 10630 N Thorp Hwy Thorp 98946 United States;X-APPLE-RADIUS=500;X-TITLE=10630 N Thorp Hwy:geo:-120.6735653,47.0691184
END:VEVENT
BEGIN:VEVENT
DTSTART;TZID=America/Los_Angeles:20250726T120000
DTEND;TZID=America/Los_Angeles:20250726T200000
DTSTAMP:20260424T120826
CREATED:20250724T160027Z
LAST-MODIFIED:20260402T053153Z
UID:10011875-1753531200-1753560000@nkctribune.com
SUMMARY:Last Saturday at PUNCH! Art\, Live Music\, Food!
DESCRIPTION:Open 12-8pm for “Last Saturday” on July 26 with multiple musicians playing on the Punch Stage 1-5pm and karaoke 5-7pm. DR BBQ will be serving up food all day and in the PUNCH Gallery\, join us for the final weekend of “Pillow Fight: The Members Show” featuring work from folks that have joined PUNCH at the “Feather Weight” or higher membership level.\n12-8pm\n“Pillow Fight” Exhibition\nFood from DR BBQ\n1-5pm \nLive music!\n1pm Birdie Fenn Cent\n2pm Mark Pickerel\n3pm Wolfpack Serenade\n5-7pm\nKaraoke\nAnd don’t forget\, we’ve got beverages and snacks in the Punch Snack Bar.\nPlan to arrive early for a good seat!\nJoin us for this free\, all-ages event at Punch Projects in Thorp\, Washington.
URL:https://nkctribune.com/event/last-saturday-at-punch-art-live-music-food-2/
LOCATION:PUNCH Gallery\, 10630 N Thorp Hwy\, Thorp\, 98946\, United States
CATEGORIES:Art Shows and Exhibits,Music
ATTACH;FMTTYPE=image/jpeg:https://nkctribune.com/wp-content/uploads/2025/07/Last-Saturday-July-FB.jpg
ORGANIZER;CN="PUNCH Projects":MAILTO:art@punchprojects.org
GEO:47.0691184;-120.6735653
X-APPLE-STRUCTURED-LOCATION;VALUE=URI;X-ADDRESS=PUNCH Gallery 10630 N Thorp Hwy Thorp 98946 United States;X-APPLE-RADIUS=500;X-TITLE=10630 N Thorp Hwy:geo:-120.6735653,47.0691184
END:VEVENT
END:VCALENDAR