BEGIN:VCALENDAR
VERSION:2.0
PRODID:-//Northern Kittitas County Tribune - ECPv6.15.20//NONSGML v1.0//EN
CALSCALE:GREGORIAN
METHOD:PUBLISH
X-ORIGINAL-URL:https://nkctribune.com
X-WR-CALDESC:Events for Northern Kittitas County Tribune
REFRESH-INTERVAL;VALUE=DURATION:PT1H
X-Robots-Tag:noindex
X-PUBLISHED-TTL:PT1H
BEGIN:VTIMEZONE
TZID:America/Los_Angeles
BEGIN:DAYLIGHT
TZOFFSETFROM:-0800
TZOFFSETTO:-0700
TZNAME:PDT
DTSTART:20240310T100000
END:DAYLIGHT
BEGIN:STANDARD
TZOFFSETFROM:-0700
TZOFFSETTO:-0800
TZNAME:PST
DTSTART:20241103T090000
END:STANDARD
BEGIN:DAYLIGHT
TZOFFSETFROM:-0800
TZOFFSETTO:-0700
TZNAME:PDT
DTSTART:20250309T100000
END:DAYLIGHT
BEGIN:STANDARD
TZOFFSETFROM:-0700
TZOFFSETTO:-0800
TZNAME:PST
DTSTART:20251102T090000
END:STANDARD
BEGIN:DAYLIGHT
TZOFFSETFROM:-0800
TZOFFSETTO:-0700
TZNAME:PDT
DTSTART:20260308T100000
END:DAYLIGHT
BEGIN:STANDARD
TZOFFSETFROM:-0700
TZOFFSETTO:-0800
TZNAME:PST
DTSTART:20261101T090000
END:STANDARD
END:VTIMEZONE
BEGIN:VEVENT
DTSTART;TZID=America/Los_Angeles:20250809T150000
DTEND;TZID=America/Los_Angeles:20250809T170000
DTSTAMP:20260424T104012
CREATED:20250806T050930Z
LAST-MODIFIED:20260402T053148Z
UID:10011943-1754751600-1754758800@nkctribune.com
SUMMARY:Live Music at Punch! “Loco Motion”
DESCRIPTION:Open 12-5pm Saturday\, August 9 with Loco Motion playing train songs and hobo ballads on the Punch Stage 3-5pm. In the PUNCH Gallery\, join us for the continuation of “Horsepower” a group exhibition of internally combusted aesthetics.\nNot to mention\, we’ve got beverages and snacks in the Punch Snack Bar.\nPlan to arrive early for a good seat!\nJoin us for this free\, all-ages event at Punch Projects in Thorp\, Washington.
URL:https://nkctribune.com/event/live-music-at-punch-loco-motion/
LOCATION:PUNCH Gallery\, 10630 N Thorp Hwy\, Thorp\, 98946\, United States
CATEGORIES:Music
ATTACH;FMTTYPE=image/jpeg:https://nkctribune.com/wp-content/uploads/2025/08/Loco-Motion-FB.jpg
ORGANIZER;CN="PUNCH Projects":MAILTO:art@punchprojects.org
GEO:47.0691184;-120.6735653
X-APPLE-STRUCTURED-LOCATION;VALUE=URI;X-ADDRESS=PUNCH Gallery 10630 N Thorp Hwy Thorp 98946 United States;X-APPLE-RADIUS=500;X-TITLE=10630 N Thorp Hwy:geo:-120.6735653,47.0691184
END:VEVENT
BEGIN:VEVENT
DTSTART;TZID=America/Los_Angeles:20250816T150000
DTEND;TZID=America/Los_Angeles:20250816T170000
DTSTAMP:20260424T104012
CREATED:20250813T010312Z
LAST-MODIFIED:20260402T053255Z
UID:10011946-1755356400-1755363600@nkctribune.com
SUMMARY:An Afternoon of Reggae with "Black Grenade"
DESCRIPTION:Open 12-5pm Saturday\, August 16 with “Black Grenade” spinning reggae vibes on the Punch Stage 3-5pm. In the PUNCH Gallery\, join us for the continuation of “Horsepower” a group exhibition of internally combusted aesthetics.\n\nNot to mention\, we’ve got beverages and snacks in the Punch Snack Bar.\n\nJoin us for this free\, all-ages event at Punch Projects in Thorp\, Washington.
URL:https://nkctribune.com/event/an-afternoon-of-reggae-with-black-grenade/
LOCATION:PUNCH Gallery\, 10630 N Thorp Hwy\, Thorp\, 98946\, United States
CATEGORIES:Music
ATTACH;FMTTYPE=image/jpeg:https://nkctribune.com/wp-content/uploads/2025/08/Black-Grenade-Square.jpg
ORGANIZER;CN="PUNCH Projects":MAILTO:art@punchprojects.org
GEO:47.0691184;-120.6735653
X-APPLE-STRUCTURED-LOCATION;VALUE=URI;X-ADDRESS=PUNCH Gallery 10630 N Thorp Hwy Thorp 98946 United States;X-APPLE-RADIUS=500;X-TITLE=10630 N Thorp Hwy:geo:-120.6735653,47.0691184
END:VEVENT
BEGIN:VEVENT
DTSTART;TZID=America/Los_Angeles:20250821T180000
DTEND;TZID=America/Los_Angeles:20250821T200000
DTSTAMP:20260424T104012
CREATED:20250620T181413Z
LAST-MODIFIED:20260106T220804Z
UID:10011786-1755799200-1755806400@nkctribune.com
SUMMARY:Music in the Gardens
DESCRIPTION:Music in the GardensThursday\, August 21st | 6 – 8 PM$15 at the gate | Kids under 12 are freeJoin us for Music in the Gardens\, where you’ll be surrounded by blooming flowers and live music.\n\nThe Roberts Band will be performing live! Whether you’re a longtime fan or hearing them for the first time\, their music is the perfect backdrop for an evening in the garden.\n\nGrab a glass of wine and some charcuterie bites\, find a cozy spot\, and enjoy a laid-back evening of great music and great company.
URL:https://nkctribune.com/event/music-in-the-gardens-2/
LOCATION:The Brick House Gardens & Nursery\, 7243 Manastash Road\, Ellensburg\, 98926
CATEGORIES:Music
ATTACH;FMTTYPE=image/png:https://nkctribune.com/wp-content/uploads/2025/06/Pink-And-Grey-Illustration-Music-Concert-Poster-1280-x-720-px-1.png
ORGANIZER;CN="The Brick House Gardens &amp%3B Nursery":MAILTO:marketing@thebrickhousenursery.com
GEO:46.9706542;-120.6653873
X-APPLE-STRUCTURED-LOCATION;VALUE=URI;X-ADDRESS=The Brick House Gardens & Nursery 7243 Manastash Road Ellensburg 98926;X-APPLE-RADIUS=500;X-TITLE=7243 Manastash Road:geo:-120.6653873,46.9706542
END:VEVENT
BEGIN:VEVENT
DTSTART;TZID=America/Los_Angeles:20250823T150000
DTEND;TZID=America/Los_Angeles:20250823T170000
DTSTAMP:20260424T104012
CREATED:20250820T001403Z
LAST-MODIFIED:20260402T053145Z
UID:10012206-1755961200-1755968400@nkctribune.com
SUMMARY:Live Music at Punch! “La Cantina”
DESCRIPTION:Open 12-5pm Saturday\, August 23 with La Cantina playing social justice-inspired Latin fusion on the Punch Stage 3-5pm. In the PUNCH Gallery\, join us for the continuation of “Horsepower” a group exhibition of internally combusted aesthetics.\nNot to mention\, we’ve got beverages and snacks in the Punch Snack Bar.\nPlan to arrive early for a good seat!\nJoin us for this free\, all-ages event at Punch Projects in Thorp\, Washington.
URL:https://nkctribune.com/event/live-music-at-punch-la-cantina/
LOCATION:PUNCH Gallery\, 10630 N Thorp Hwy\, Thorp\, 98946\, United States
CATEGORIES:Music
ATTACH;FMTTYPE=image/jpeg:https://nkctribune.com/wp-content/uploads/2025/08/La-Cantina-Square.jpg
ORGANIZER;CN="PUNCH Projects":MAILTO:art@punchprojects.org
GEO:47.0691184;-120.6735653
X-APPLE-STRUCTURED-LOCATION;VALUE=URI;X-ADDRESS=PUNCH Gallery 10630 N Thorp Hwy Thorp 98946 United States;X-APPLE-RADIUS=500;X-TITLE=10630 N Thorp Hwy:geo:-120.6735653,47.0691184
END:VEVENT
BEGIN:VEVENT
DTSTART;TZID=America/Los_Angeles:20250830T120000
DTEND;TZID=America/Los_Angeles:20250830T200000
DTSTAMP:20260424T104012
CREATED:20250828T160838Z
LAST-MODIFIED:20260402T053141Z
UID:10012274-1756555200-1756584000@nkctribune.com
SUMMARY:Last Saturday at PUNCH! Art\, Poetry\, Live Music\, Food!
DESCRIPTION:Open 12-8pm for “Last Saturday” on August 30 with an amazing group of poets invited by David Coppin Lanegan performing on the Punch Stage 3-5pm\, followed by Riley Schmit playing live music 6-8pm. DR BBQ will be serving up food starting at 2pm (until sold out) and in the PUNCH Gallery\, join us for the final weekend of “Horsepower” featuring works inspired by internally combusted aesthetics.\n12-8pm\n“Horsepower” Exhibition\n2pm – until sold out\nFood from DR BBQ\n3-5pm \nPoetry from:\nDavid Coppin Lanegan\nXavier Cavazos\nJampa Dorje\nRob Joynes\nCharles Potts\nAsher Zachman\n6-8pm\nLive Music\nRiley Schmit\nAnd don’t forget\, we’ve got beverages and snacks in the Punch Snack Bar.\nPlan to arrive early for a good seat!\nJoin us for this free\, all-ages event at Punch Projects in Thorp\, Washington.
URL:https://nkctribune.com/event/last-saturday-at-punch-art-poetry-live-music-food/
LOCATION:PUNCH Gallery\, 10630 N Thorp Hwy\, Thorp\, 98946\, United States
CATEGORIES:Art Shows and Exhibits,Music
ATTACH;FMTTYPE=image/jpeg:https://nkctribune.com/wp-content/uploads/2025/08/Last-Saturday-August-FB.jpg
ORGANIZER;CN="PUNCH Projects":MAILTO:art@punchprojects.org
GEO:47.0691184;-120.6735653
X-APPLE-STRUCTURED-LOCATION;VALUE=URI;X-ADDRESS=PUNCH Gallery 10630 N Thorp Hwy Thorp 98946 United States;X-APPLE-RADIUS=500;X-TITLE=10630 N Thorp Hwy:geo:-120.6735653,47.0691184
END:VEVENT
END:VCALENDAR