BEGIN:VCALENDAR
VERSION:2.0
PRODID:-//Northern Kittitas County Tribune - ECPv6.15.20//NONSGML v1.0//EN
CALSCALE:GREGORIAN
METHOD:PUBLISH
X-ORIGINAL-URL:https://nkctribune.com
X-WR-CALDESC:Events for Northern Kittitas County Tribune
REFRESH-INTERVAL;VALUE=DURATION:PT1H
X-Robots-Tag:noindex
X-PUBLISHED-TTL:PT1H
BEGIN:VTIMEZONE
TZID:America/Los_Angeles
BEGIN:DAYLIGHT
TZOFFSETFROM:-0800
TZOFFSETTO:-0700
TZNAME:PDT
DTSTART:20240310T100000
END:DAYLIGHT
BEGIN:STANDARD
TZOFFSETFROM:-0700
TZOFFSETTO:-0800
TZNAME:PST
DTSTART:20241103T090000
END:STANDARD
BEGIN:DAYLIGHT
TZOFFSETFROM:-0800
TZOFFSETTO:-0700
TZNAME:PDT
DTSTART:20250309T100000
END:DAYLIGHT
BEGIN:STANDARD
TZOFFSETFROM:-0700
TZOFFSETTO:-0800
TZNAME:PST
DTSTART:20251102T090000
END:STANDARD
BEGIN:DAYLIGHT
TZOFFSETFROM:-0800
TZOFFSETTO:-0700
TZNAME:PDT
DTSTART:20260308T100000
END:DAYLIGHT
BEGIN:STANDARD
TZOFFSETFROM:-0700
TZOFFSETTO:-0800
TZNAME:PST
DTSTART:20261101T090000
END:STANDARD
END:VTIMEZONE
BEGIN:VEVENT
DTSTART;TZID=America/Los_Angeles:20250903T183000
DTEND;TZID=America/Los_Angeles:20250903T203000
DTSTAMP:20260424T085705
CREATED:20250821T225510Z
LAST-MODIFIED:20260106T220803Z
UID:10012207-1756924200-1756931400@nkctribune.com
SUMMARY:Mountain Voices Christmas Choir Practices
DESCRIPTION:Sing with many others preparing for wonderful Christmas concerts. Weekly practice at Cle Elum Community Church. Questions? Call Coral Fife 509-674-8628
URL:https://nkctribune.com/event/mountain-voices-christmas-choir-practices-2/2025-09-03/
LOCATION:Cle Elum Community Church\, 201 E. Third Street\, Cle Elum\, WA\, 98922\, United States
CATEGORIES:Music
GEO:47.1966093;-120.9355259
X-APPLE-STRUCTURED-LOCATION;VALUE=URI;X-ADDRESS=Cle Elum Community Church 201 E. Third Street Cle Elum WA 98922 United States;X-APPLE-RADIUS=500;X-TITLE=201 E. Third Street:geo:-120.9355259,47.1966093
END:VEVENT
BEGIN:VEVENT
DTSTART;TZID=America/Los_Angeles:20250906T150000
DTEND;TZID=America/Los_Angeles:20250906T170000
DTSTAMP:20260424T085705
CREATED:20250904T170609Z
LAST-MODIFIED:20260402T053137Z
UID:10012285-1757170800-1757178000@nkctribune.com
SUMMARY:Live Music at Punch! “Chris King & The Gutterballs”
DESCRIPTION:Open 12-5pm Saturday\, September 6 with Chris King & The Gutterballs playing garage twang on the Punch Stage 3-5pm. In the PUNCH Gallery\, join us for the opening of “Material World” a three-person exhibition featuring the work of Renee Adams\, Michelle Elzinga and Lindsey Salmonson.\n“Material World” celebrates nature’s unending bounty of art-making supplies. In an age increasingly defined by digital detachment and disposable everything\, these artists are bringing us back to the tactile and the tangible with wood\, iron\, seed pods\, twigs\, dirt\, and uh… wasp spit?\nNot to mention\, we’ve got beverages and snacks in the Punch Snack Bar.\nPlan to arrive early for a good seat!\nJoin us for this free\, all-ages event at Punch Projects in Thorp\, Washington.
URL:https://nkctribune.com/event/live-music-at-punch-chris-king-the-gutterballs-2/
LOCATION:PUNCH Gallery\, 10630 N Thorp Hwy\, Thorp\, 98946\, United States
CATEGORIES:Music
ATTACH;FMTTYPE=image/jpeg:https://nkctribune.com/wp-content/uploads/2025/09/Chris-King-Square.jpg
ORGANIZER;CN="PUNCH Projects":MAILTO:art@punchprojects.org
GEO:47.0691184;-120.6735653
X-APPLE-STRUCTURED-LOCATION;VALUE=URI;X-ADDRESS=PUNCH Gallery 10630 N Thorp Hwy Thorp 98946 United States;X-APPLE-RADIUS=500;X-TITLE=10630 N Thorp Hwy:geo:-120.6735653,47.0691184
END:VEVENT
BEGIN:VEVENT
DTSTART;TZID=America/Los_Angeles:20250910T153000
DTEND;TZID=America/Los_Angeles:20250910T163000
DTSTAMP:20260424T085705
CREATED:20250821T230748Z
LAST-MODIFIED:20260106T224210Z
UID:10012214-1757518200-1757521800@nkctribune.com
SUMMARY:Kid's Choir
DESCRIPTION:Children Kindergarten to 7th grade welcome to join the fun preparing for winter concerts. Sing for Roslyn Tree Lighting Friday\, Nov 28 and concerts with Mountain Voices Christmas Choir December 5\, 6 and 14th. Weekly practices Wednesdays 3:30-4:30 at Calvary Chapel Cle Elum. Questions? Call Coral Fife 509-674-8628
URL:https://nkctribune.com/event/kids-choir/2025-09-10/
LOCATION:Calvary Chapel Cle Elum\, 417 E. Railroad St.\, Cle Elum\, WA\, 98922\, United States
CATEGORIES:Music
GEO:47.195893;-120.936403
X-APPLE-STRUCTURED-LOCATION;VALUE=URI;X-ADDRESS=Calvary Chapel Cle Elum 417 E. Railroad St. Cle Elum WA 98922 United States;X-APPLE-RADIUS=500;X-TITLE=417 E. Railroad St.:geo:-120.936403,47.195893
END:VEVENT
BEGIN:VEVENT
DTSTART;TZID=America/Los_Angeles:20250910T183000
DTEND;TZID=America/Los_Angeles:20250910T203000
DTSTAMP:20260424T085705
CREATED:20250821T225510Z
LAST-MODIFIED:20260106T220803Z
UID:10012208-1757529000-1757536200@nkctribune.com
SUMMARY:Mountain Voices Christmas Choir Practices
DESCRIPTION:Sing with many others preparing for wonderful Christmas concerts. Weekly practice at Cle Elum Community Church. Questions? Call Coral Fife 509-674-8628
URL:https://nkctribune.com/event/mountain-voices-christmas-choir-practices-2/2025-09-10/
LOCATION:Cle Elum Community Church\, 201 E. Third Street\, Cle Elum\, WA\, 98922\, United States
CATEGORIES:Music
GEO:47.1966093;-120.9355259
X-APPLE-STRUCTURED-LOCATION;VALUE=URI;X-ADDRESS=Cle Elum Community Church 201 E. Third Street Cle Elum WA 98922 United States;X-APPLE-RADIUS=500;X-TITLE=201 E. Third Street:geo:-120.9355259,47.1966093
END:VEVENT
BEGIN:VEVENT
DTSTART;TZID=America/Los_Angeles:20250913T150000
DTEND;TZID=America/Los_Angeles:20250913T170000
DTSTAMP:20260424T085705
CREATED:20250910T165300Z
LAST-MODIFIED:20260402T053133Z
UID:10012287-1757775600-1757782800@nkctribune.com
SUMMARY:Live Polka at Punch! The Smilin' Scandinavians
DESCRIPTION:Open 12-5pm Saturday\, September 13 with The Smilin’ Scandinavians playing Polka on the Punch Stage 3-5pm. In the PUNCH Gallery\, join us for the continuation of “Material World” a three-person exhibition featuring the work of Renee Adams\, Michelle Elzinga and Lindsey Salmonson.\n“Material World” celebrates nature’s unending bounty of art-making supplies. In an age increasingly defined by digital detachment and disposable everything\, these artists are bringing us back to the tactile and the tangible with wood\, iron\, seed pods\, twigs\, dirt\, and uh… wasp spit?\nNot to mention\, we’ve got beverages and snacks in the Punch Snack Bar.\nPlan to arrive early for a good seat!\nJoin us for this free\, all-ages event at Punch Projects in Thorp\, Washington.
URL:https://nkctribune.com/event/live-polka-at-punch-the-smilin-scandinavians/
LOCATION:PUNCH Gallery\, 10630 N Thorp Hwy\, Thorp\, 98946\, United States
CATEGORIES:Music
ATTACH;FMTTYPE=image/jpeg:https://nkctribune.com/wp-content/uploads/2025/09/Smilin-Scandinavians-Square.jpg
ORGANIZER;CN="PUNCH Projects":MAILTO:art@punchprojects.org
GEO:47.0691184;-120.6735653
X-APPLE-STRUCTURED-LOCATION;VALUE=URI;X-ADDRESS=PUNCH Gallery 10630 N Thorp Hwy Thorp 98946 United States;X-APPLE-RADIUS=500;X-TITLE=10630 N Thorp Hwy:geo:-120.6735653,47.0691184
END:VEVENT
BEGIN:VEVENT
DTSTART;TZID=America/Los_Angeles:20250917T153000
DTEND;TZID=America/Los_Angeles:20250917T163000
DTSTAMP:20260424T085705
CREATED:20250821T230748Z
LAST-MODIFIED:20260106T224210Z
UID:10012215-1758123000-1758126600@nkctribune.com
SUMMARY:Kid's Choir
DESCRIPTION:Children Kindergarten to 7th grade welcome to join the fun preparing for winter concerts. Sing for Roslyn Tree Lighting Friday\, Nov 28 and concerts with Mountain Voices Christmas Choir December 5\, 6 and 14th. Weekly practices Wednesdays 3:30-4:30 at Calvary Chapel Cle Elum. Questions? Call Coral Fife 509-674-8628
URL:https://nkctribune.com/event/kids-choir/2025-09-17/
LOCATION:Calvary Chapel Cle Elum\, 417 E. Railroad St.\, Cle Elum\, WA\, 98922\, United States
CATEGORIES:Music
GEO:47.195893;-120.936403
X-APPLE-STRUCTURED-LOCATION;VALUE=URI;X-ADDRESS=Calvary Chapel Cle Elum 417 E. Railroad St. Cle Elum WA 98922 United States;X-APPLE-RADIUS=500;X-TITLE=417 E. Railroad St.:geo:-120.936403,47.195893
END:VEVENT
BEGIN:VEVENT
DTSTART;TZID=America/Los_Angeles:20250917T183000
DTEND;TZID=America/Los_Angeles:20250917T203000
DTSTAMP:20260424T085705
CREATED:20250821T225510Z
LAST-MODIFIED:20260106T220803Z
UID:10012209-1758133800-1758141000@nkctribune.com
SUMMARY:Mountain Voices Christmas Choir Practices
DESCRIPTION:Sing with many others preparing for wonderful Christmas concerts. Weekly practice at Cle Elum Community Church. Questions? Call Coral Fife 509-674-8628
URL:https://nkctribune.com/event/mountain-voices-christmas-choir-practices-2/2025-09-17/
LOCATION:Cle Elum Community Church\, 201 E. Third Street\, Cle Elum\, WA\, 98922\, United States
CATEGORIES:Music
GEO:47.1966093;-120.9355259
X-APPLE-STRUCTURED-LOCATION;VALUE=URI;X-ADDRESS=Cle Elum Community Church 201 E. Third Street Cle Elum WA 98922 United States;X-APPLE-RADIUS=500;X-TITLE=201 E. Third Street:geo:-120.9355259,47.1966093
END:VEVENT
BEGIN:VEVENT
DTSTART;TZID=America/Los_Angeles:20250918T170000
DTEND;TZID=America/Los_Angeles:20250918T190000
DTSTAMP:20260424T085705
CREATED:20250627T185141Z
LAST-MODIFIED:20260106T220800Z
UID:10011791-1758214800-1758222000@nkctribune.com
SUMMARY:Music in the Gardens
DESCRIPTION:Music in the GardensThursday\, September 18th | 5 – 7 PM$15 at the gate | Kids under 12 are free\n\nJoin us for Music in the Gardens\, where you’ll be surrounded by blooming flowers and live music.\n\nMelany Peterson and Dré will be performing live! Whether you’re a longtime fan or hearing them for the first time\, their music is the perfect backdrop for an evening in the garden.\n\nGrab a glass of wine and some charcuterie bites\, find a cozy spot\, and enjoy a laid-back evening of great music and great company.
URL:https://nkctribune.com/event/music-in-the-gardens-3/
LOCATION:The Brick House Gardens & Nursery\, 7243 Manastash Road\, Ellensburg\, 98926
CATEGORIES:Music
ATTACH;FMTTYPE=image/png:https://nkctribune.com/wp-content/uploads/2025/06/Pink-and-Green-Geometric-Bold-Flower-Market-Ticket-Flyer-1280-x-720-px.png
ORGANIZER;CN="The Brick House Gardens &amp%3B Nursery":MAILTO:marketing@thebrickhousenursery.com
GEO:46.9706542;-120.6653873
X-APPLE-STRUCTURED-LOCATION;VALUE=URI;X-ADDRESS=The Brick House Gardens & Nursery 7243 Manastash Road Ellensburg 98926;X-APPLE-RADIUS=500;X-TITLE=7243 Manastash Road:geo:-120.6653873,46.9706542
END:VEVENT
BEGIN:VEVENT
DTSTART;TZID=America/Los_Angeles:20250920T150000
DTEND;TZID=America/Los_Angeles:20250920T170000
DTSTAMP:20260424T085705
CREATED:20250917T021227Z
LAST-MODIFIED:20260402T053129Z
UID:10012297-1758380400-1758387600@nkctribune.com
SUMMARY:Live Music at Punch! “The Canyoneros”
DESCRIPTION:Open 12-5pm Saturday\, September 20 with “The Canyoneros” playing classic country on the Punch Stage 3-5pm. In the PUNCH Gallery\, join us for the continuation of “Material World” a three-person exhibition featuring the work of Renee Adams\, Michelle Elzinga and Lindsey Salmonson.\n“Material World” celebrates nature’s unending bounty of art-making supplies. In an age increasingly defined by digital detachment and disposable everything\, these artists are bringing us back to the tactile and the tangible with wood\, iron\, seed pods\, twigs\, dirt\, and uh… wasp spit?\nNot to mention\, we’ve got beverages and snacks in the Punch Snack Bar.\nPlan to arrive early for a good spot on the dance floor!\nJoin us for this free\, all-ages event at Punch Projects in Thorp\, Washington.
URL:https://nkctribune.com/event/live-music-at-punch-the-canyoneros/
LOCATION:PUNCH Gallery\, 10630 N Thorp Hwy\, Thorp\, 98946\, United States
CATEGORIES:Art Shows and Exhibits,Music
ATTACH;FMTTYPE=image/jpeg:https://nkctribune.com/wp-content/uploads/2025/09/Canyoneros-Square.jpg
ORGANIZER;CN="PUNCH Projects":MAILTO:art@punchprojects.org
GEO:47.0691184;-120.6735653
X-APPLE-STRUCTURED-LOCATION;VALUE=URI;X-ADDRESS=PUNCH Gallery 10630 N Thorp Hwy Thorp 98946 United States;X-APPLE-RADIUS=500;X-TITLE=10630 N Thorp Hwy:geo:-120.6735653,47.0691184
END:VEVENT
BEGIN:VEVENT
DTSTART;TZID=America/Los_Angeles:20250924T183000
DTEND;TZID=America/Los_Angeles:20250924T203000
DTSTAMP:20260424T085705
CREATED:20250821T225510Z
LAST-MODIFIED:20260106T220803Z
UID:10012210-1758738600-1758745800@nkctribune.com
SUMMARY:Mountain Voices Christmas Choir Practices
DESCRIPTION:Sing with many others preparing for wonderful Christmas concerts. Weekly practice at Cle Elum Community Church. Questions? Call Coral Fife 509-674-8628
URL:https://nkctribune.com/event/mountain-voices-christmas-choir-practices-2/2025-09-24/
LOCATION:Cle Elum Community Church\, 201 E. Third Street\, Cle Elum\, WA\, 98922\, United States
CATEGORIES:Music
GEO:47.1966093;-120.9355259
X-APPLE-STRUCTURED-LOCATION;VALUE=URI;X-ADDRESS=Cle Elum Community Church 201 E. Third Street Cle Elum WA 98922 United States;X-APPLE-RADIUS=500;X-TITLE=201 E. Third Street:geo:-120.9355259,47.1966093
END:VEVENT
BEGIN:VEVENT
DTSTART;TZID=America/Los_Angeles:20250927T120000
DTEND;TZID=America/Los_Angeles:20250927T200000
DTSTAMP:20260424T085705
CREATED:20250924T180154Z
LAST-MODIFIED:20260402T053125Z
UID:10012301-1758974400-1759003200@nkctribune.com
SUMMARY:"Last Saturday" @ PUNCH! Art\, Live Music\, Puff Puff Pizza!
DESCRIPTION:Open 12-8pm for “Last Saturday” on September 27 with “The Flat Rocks” playing jazzy\, bluesy Americana on the Punch Stage 3-5pm and “SOMA” playing indie/psych rock 6-8pm. “Puff Puff Pizza” will be serving up food all day and in the PUNCH Gallery\, join us for the final weekend of “Material World” a three-person exhibition featuring the work of Renee Adams\, Michelle Elzinga and Lindsey Salmonson.\n12-8pm\n“Material World” Exhibition\nFood from Puff Puff Pizza\n3-8pm \nLive music!\n3-5pm The Flat Rocks\n6-8pm SOMA\n“Material World” celebrates nature’s unending bounty of art-making supplies. In an age increasingly defined by digital detachment and disposable everything\, these artists are bringing us back to the tactile and the tangible with wood\, iron\, seed pods\, twigs\, dirt\, and uh… wasp spit?\nNot to mention\, we’ve got beverages and snacks in the Punch Snack Bar.\nPlan to arrive early for a good seat!\nJoin us for this free\, all-ages event at Punch Projects in Thorp\, Washington.
URL:https://nkctribune.com/event/last-saturday-punch-art-live-music-puff-puff-pizza/
LOCATION:PUNCH Gallery\, 10630 N Thorp Hwy\, Thorp\, 98946\, United States
CATEGORIES:Art Shows and Exhibits,Music
ATTACH;FMTTYPE=image/jpeg:https://nkctribune.com/wp-content/uploads/2025/09/September-Last-Saturday-FB.jpg
ORGANIZER;CN="PUNCH Projects":MAILTO:art@punchprojects.org
GEO:47.0691184;-120.6735653
X-APPLE-STRUCTURED-LOCATION;VALUE=URI;X-ADDRESS=PUNCH Gallery 10630 N Thorp Hwy Thorp 98946 United States;X-APPLE-RADIUS=500;X-TITLE=10630 N Thorp Hwy:geo:-120.6735653,47.0691184
END:VEVENT
END:VCALENDAR