BEGIN:VCALENDAR
VERSION:2.0
PRODID:-//Northern Kittitas County Tribune - ECPv6.15.20//NONSGML v1.0//EN
CALSCALE:GREGORIAN
METHOD:PUBLISH
X-ORIGINAL-URL:https://nkctribune.com
X-WR-CALDESC:Events for Northern Kittitas County Tribune
REFRESH-INTERVAL;VALUE=DURATION:PT1H
X-Robots-Tag:noindex
X-PUBLISHED-TTL:PT1H
BEGIN:VTIMEZONE
TZID:America/Los_Angeles
BEGIN:DAYLIGHT
TZOFFSETFROM:-0800
TZOFFSETTO:-0700
TZNAME:PDT
DTSTART:20240310T100000
END:DAYLIGHT
BEGIN:STANDARD
TZOFFSETFROM:-0700
TZOFFSETTO:-0800
TZNAME:PST
DTSTART:20241103T090000
END:STANDARD
BEGIN:DAYLIGHT
TZOFFSETFROM:-0800
TZOFFSETTO:-0700
TZNAME:PDT
DTSTART:20250309T100000
END:DAYLIGHT
BEGIN:STANDARD
TZOFFSETFROM:-0700
TZOFFSETTO:-0800
TZNAME:PST
DTSTART:20251102T090000
END:STANDARD
BEGIN:DAYLIGHT
TZOFFSETFROM:-0800
TZOFFSETTO:-0700
TZNAME:PDT
DTSTART:20260308T100000
END:DAYLIGHT
BEGIN:STANDARD
TZOFFSETFROM:-0700
TZOFFSETTO:-0800
TZNAME:PST
DTSTART:20261101T090000
END:STANDARD
END:VTIMEZONE
BEGIN:VEVENT
DTSTART;TZID=America/Los_Angeles:20251001T153000
DTEND;TZID=America/Los_Angeles:20251001T163000
DTSTAMP:20260424T072802
CREATED:20250821T230748Z
LAST-MODIFIED:20260106T224210Z
UID:10012216-1759332600-1759336200@nkctribune.com
SUMMARY:Kid's Choir
DESCRIPTION:Children Kindergarten to 7th grade welcome to join the fun preparing for winter concerts. Sing for Roslyn Tree Lighting Friday\, Nov 28 and concerts with Mountain Voices Christmas Choir December 5\, 6 and 14th. Weekly practices Wednesdays 3:30-4:30 at Calvary Chapel Cle Elum. Questions? Call Coral Fife 509-674-8628
URL:https://nkctribune.com/event/kids-choir/2025-10-01/
LOCATION:Calvary Chapel Cle Elum\, 417 E. Railroad St.\, Cle Elum\, WA\, 98922\, United States
CATEGORIES:Music
GEO:47.195893;-120.936403
X-APPLE-STRUCTURED-LOCATION;VALUE=URI;X-ADDRESS=Calvary Chapel Cle Elum 417 E. Railroad St. Cle Elum WA 98922 United States;X-APPLE-RADIUS=500;X-TITLE=417 E. Railroad St.:geo:-120.936403,47.195893
END:VEVENT
BEGIN:VEVENT
DTSTART;TZID=America/Los_Angeles:20251001T183000
DTEND;TZID=America/Los_Angeles:20251001T203000
DTSTAMP:20260424T072802
CREATED:20250821T225510Z
LAST-MODIFIED:20260106T220803Z
UID:10012211-1759343400-1759350600@nkctribune.com
SUMMARY:Mountain Voices Christmas Choir Practices
DESCRIPTION:Sing with many others preparing for wonderful Christmas concerts. Weekly practice at Cle Elum Community Church. Questions? Call Coral Fife 509-674-8628
URL:https://nkctribune.com/event/mountain-voices-christmas-choir-practices-2/2025-10-01/
LOCATION:Cle Elum Community Church\, 201 E. Third Street\, Cle Elum\, WA\, 98922\, United States
CATEGORIES:Music
GEO:47.1966093;-120.9355259
X-APPLE-STRUCTURED-LOCATION;VALUE=URI;X-ADDRESS=Cle Elum Community Church 201 E. Third Street Cle Elum WA 98922 United States;X-APPLE-RADIUS=500;X-TITLE=201 E. Third Street:geo:-120.9355259,47.1966093
END:VEVENT
BEGIN:VEVENT
DTSTART;TZID=America/Los_Angeles:20251008T153000
DTEND;TZID=America/Los_Angeles:20251008T163000
DTSTAMP:20260424T072803
CREATED:20250821T230748Z
LAST-MODIFIED:20260106T224210Z
UID:10012217-1759937400-1759941000@nkctribune.com
SUMMARY:Kid's Choir
DESCRIPTION:Children Kindergarten to 7th grade welcome to join the fun preparing for winter concerts. Sing for Roslyn Tree Lighting Friday\, Nov 28 and concerts with Mountain Voices Christmas Choir December 5\, 6 and 14th. Weekly practices Wednesdays 3:30-4:30 at Calvary Chapel Cle Elum. Questions? Call Coral Fife 509-674-8628
URL:https://nkctribune.com/event/kids-choir/2025-10-08/
LOCATION:Calvary Chapel Cle Elum\, 417 E. Railroad St.\, Cle Elum\, WA\, 98922\, United States
CATEGORIES:Music
GEO:47.195893;-120.936403
X-APPLE-STRUCTURED-LOCATION;VALUE=URI;X-ADDRESS=Calvary Chapel Cle Elum 417 E. Railroad St. Cle Elum WA 98922 United States;X-APPLE-RADIUS=500;X-TITLE=417 E. Railroad St.:geo:-120.936403,47.195893
END:VEVENT
BEGIN:VEVENT
DTSTART;TZID=America/Los_Angeles:20251008T183000
DTEND;TZID=America/Los_Angeles:20251008T203000
DTSTAMP:20260424T072803
CREATED:20250821T225510Z
LAST-MODIFIED:20260106T220803Z
UID:10012212-1759948200-1759955400@nkctribune.com
SUMMARY:Mountain Voices Christmas Choir Practices
DESCRIPTION:Sing with many others preparing for wonderful Christmas concerts. Weekly practice at Cle Elum Community Church. Questions? Call Coral Fife 509-674-8628
URL:https://nkctribune.com/event/mountain-voices-christmas-choir-practices-2/2025-10-08/
LOCATION:Cle Elum Community Church\, 201 E. Third Street\, Cle Elum\, WA\, 98922\, United States
CATEGORIES:Music
GEO:47.1966093;-120.9355259
X-APPLE-STRUCTURED-LOCATION;VALUE=URI;X-ADDRESS=Cle Elum Community Church 201 E. Third Street Cle Elum WA 98922 United States;X-APPLE-RADIUS=500;X-TITLE=201 E. Third Street:geo:-120.9355259,47.1966093
END:VEVENT
BEGIN:VEVENT
DTSTART;TZID=America/Los_Angeles:20251011T150000
DTEND;TZID=America/Los_Angeles:20251011T170000
DTSTAMP:20260424T072803
CREATED:20251011T200243Z
LAST-MODIFIED:20260402T053116Z
UID:10012312-1760194800-1760202000@nkctribune.com
SUMMARY:Live Music at Punch! “The Collections Department”
DESCRIPTION:Open 12-5pm Saturday\, October 11 with “The Collections Department” performing instrumental funk on the Punch Stage 3-5pm. In the PUNCH Gallery\, join us for the continuation of “Monster Mash” a Halloween-inspired group exhibition.\n“Monster Mash” was an invitation to showcase your spookiest\, nastiest\, most ghoulish monstrosities ever witnessed. We asked for paintings\, collages\, drawings\, sculptures\, Polaroids\, ceramics\, fiber arts\, cartoons\, papier-mâché piñatas\, video works\, macaroni art for crying out loud! The only catch was that submitted works absolutely had to be terrifying in nature. Werewolves\, vampires\, specters\, zombies\, mummies\, mommies\, ghouls\, goblins\, politicians\, creatures that go bump in the night\, you get the point. Ask and ye shall receive!\nSome of our favorite artists have been working late in their labs\, so come and behold these eerie sights. Come a feast your eyes upon felted eyeballs\, a woodblock gargoyle\, vexing taxidermy\, a nude with boils\, medical diagram montages\, a chimera straight out of the book of revelation\, a true black metal lord\, leafless trees that would have the headless horse-folks shaking in their stirrups\, collaged crustaceans made from old bedsheets\, a CPR baby that might have you second guessing your method of chest compressions and at least one spooky coyote.\nNot to mention\, we’ve got beverages and snacks in the Punch Snack Bar.\nPlan to arrive early for a good seat!\nJoin us for this free\, all-ages event at Punch Projects in Thorp\, Washington.
URL:https://nkctribune.com/event/live-music-at-punch-the-collections-department/
LOCATION:PUNCH Gallery\, 10630 N Thorp Hwy\, Thorp\, 98946\, United States
CATEGORIES:Art Shows and Exhibits,Music
ATTACH;FMTTYPE=image/jpeg:https://nkctribune.com/wp-content/uploads/2025/10/Collections-Dept-Square.jpg
ORGANIZER;CN="PUNCH Projects":MAILTO:art@punchprojects.org
GEO:47.0691184;-120.6735653
X-APPLE-STRUCTURED-LOCATION;VALUE=URI;X-ADDRESS=PUNCH Gallery 10630 N Thorp Hwy Thorp 98946 United States;X-APPLE-RADIUS=500;X-TITLE=10630 N Thorp Hwy:geo:-120.6735653,47.0691184
END:VEVENT
BEGIN:VEVENT
DTSTART;TZID=America/Los_Angeles:20251015T153000
DTEND;TZID=America/Los_Angeles:20251015T163000
DTSTAMP:20260424T072803
CREATED:20250821T230748Z
LAST-MODIFIED:20260106T224210Z
UID:10012218-1760542200-1760545800@nkctribune.com
SUMMARY:Kid's Choir
DESCRIPTION:Children Kindergarten to 7th grade welcome to join the fun preparing for winter concerts. Sing for Roslyn Tree Lighting Friday\, Nov 28 and concerts with Mountain Voices Christmas Choir December 5\, 6 and 14th. Weekly practices Wednesdays 3:30-4:30 at Calvary Chapel Cle Elum. Questions? Call Coral Fife 509-674-8628
URL:https://nkctribune.com/event/kids-choir/2025-10-15/
LOCATION:Calvary Chapel Cle Elum\, 417 E. Railroad St.\, Cle Elum\, WA\, 98922\, United States
CATEGORIES:Music
GEO:47.195893;-120.936403
X-APPLE-STRUCTURED-LOCATION;VALUE=URI;X-ADDRESS=Calvary Chapel Cle Elum 417 E. Railroad St. Cle Elum WA 98922 United States;X-APPLE-RADIUS=500;X-TITLE=417 E. Railroad St.:geo:-120.936403,47.195893
END:VEVENT
BEGIN:VEVENT
DTSTART;TZID=America/Los_Angeles:20251015T183000
DTEND;TZID=America/Los_Angeles:20251015T203000
DTSTAMP:20260424T072803
CREATED:20250821T225510Z
LAST-MODIFIED:20260106T220803Z
UID:10012213-1760553000-1760560200@nkctribune.com
SUMMARY:Mountain Voices Christmas Choir Practices
DESCRIPTION:Sing with many others preparing for wonderful Christmas concerts. Weekly practice at Cle Elum Community Church. Questions? Call Coral Fife 509-674-8628
URL:https://nkctribune.com/event/mountain-voices-christmas-choir-practices-2/2025-10-15/
LOCATION:Cle Elum Community Church\, 201 E. Third Street\, Cle Elum\, WA\, 98922\, United States
CATEGORIES:Music
GEO:47.1966093;-120.9355259
X-APPLE-STRUCTURED-LOCATION;VALUE=URI;X-ADDRESS=Cle Elum Community Church 201 E. Third Street Cle Elum WA 98922 United States;X-APPLE-RADIUS=500;X-TITLE=201 E. Third Street:geo:-120.9355259,47.1966093
END:VEVENT
BEGIN:VEVENT
DTSTART;TZID=America/Los_Angeles:20251016T170000
DTEND;TZID=America/Los_Angeles:20251016T190000
DTSTAMP:20260424T072803
CREATED:20250807T173923Z
LAST-MODIFIED:20260106T220757Z
UID:10011944-1760634000-1760641200@nkctribune.com
SUMMARY:Music in the Gardens
DESCRIPTION:Music in the GardensThursday\, October 16th | 5 – 7 PM$15 per Person | Kids under 12 are free\n\nJoin us for Music in the Gardens\, where you’ll be surrounded by blooming flowers and live music.\n\nGrab a glass of wine and some charcuterie bites\, find a cozy spot\, and enjoy a laid-back evening of great music and great company.\nSammy Steele\, an alternative country artist\, will be performing live!\n\nWhat you can expect:Live MusicWine by Sagecliffe CellarsBuild Your Own CharcuterieGood Vibes!\n\nPlease no outside food or drinks.
URL:https://nkctribune.com/event/music-in-the-gardens-4/
LOCATION:The Brick House Gardens & Nursery\, 7243 Manastash Road\, Ellensburg\, 98926
CATEGORIES:Music
ATTACH;FMTTYPE=image/png:https://nkctribune.com/wp-content/uploads/2025/08/Oct-16-Music-Event-Listing.png
ORGANIZER;CN="The Brick House Gardens &amp%3B Nursery":MAILTO:marketing@thebrickhousenursery.com
GEO:46.9706542;-120.6653873
X-APPLE-STRUCTURED-LOCATION;VALUE=URI;X-ADDRESS=The Brick House Gardens & Nursery 7243 Manastash Road Ellensburg 98926;X-APPLE-RADIUS=500;X-TITLE=7243 Manastash Road:geo:-120.6653873,46.9706542
END:VEVENT
BEGIN:VEVENT
DTSTART;TZID=America/Los_Angeles:20251022T153000
DTEND;TZID=America/Los_Angeles:20251022T163000
DTSTAMP:20260424T072803
CREATED:20250821T230748Z
LAST-MODIFIED:20260106T224210Z
UID:10012219-1761147000-1761150600@nkctribune.com
SUMMARY:Kid's Choir
DESCRIPTION:Children Kindergarten to 7th grade welcome to join the fun preparing for winter concerts. Sing for Roslyn Tree Lighting Friday\, Nov 28 and concerts with Mountain Voices Christmas Choir December 5\, 6 and 14th. Weekly practices Wednesdays 3:30-4:30 at Calvary Chapel Cle Elum. Questions? Call Coral Fife 509-674-8628
URL:https://nkctribune.com/event/kids-choir/2025-10-22/
LOCATION:Calvary Chapel Cle Elum\, 417 E. Railroad St.\, Cle Elum\, WA\, 98922\, United States
CATEGORIES:Music
GEO:47.195893;-120.936403
X-APPLE-STRUCTURED-LOCATION;VALUE=URI;X-ADDRESS=Calvary Chapel Cle Elum 417 E. Railroad St. Cle Elum WA 98922 United States;X-APPLE-RADIUS=500;X-TITLE=417 E. Railroad St.:geo:-120.936403,47.195893
END:VEVENT
BEGIN:VEVENT
DTSTART;TZID=America/Los_Angeles:20251025T150000
DTEND;TZID=America/Los_Angeles:20251025T170000
DTSTAMP:20260424T072803
CREATED:20251021T184815Z
LAST-MODIFIED:20260402T053107Z
UID:10012329-1761404400-1761411600@nkctribune.com
SUMMARY:Live Music at Punch! “Little H Collective”
DESCRIPTION:Open 12-5pm Saturday\, October 25 with “Little H Collective” performing ambient guitar on the Punch Stage 3-5pm. In the PUNCH Gallery\, join us for the continuation of “Monster Mash” a Halloween-inspired group exhibition.\n\n\nhttps://littlehcollective.com/#music\n\n“Monster Mash” was an invitation to showcase your spookiest\, nastiest\, most ghoulish monstrosities ever witnessed. We asked for paintings\, collages\, drawings\, sculptures\, Polaroids\, ceramics\, fiber arts\, cartoons\, papier-mâché piñatas\, video works\, macaroni art for crying out loud! The only catch was that submitted works absolutely had to be terrifying in nature. Werewolves\, vampires\, specters\, zombies\, mummies\, mommies\, ghouls\, goblins\, politicians\, creatures that go bump in the night\, you get the point. Ask and ye shall receive!\nSome of our favorite artists have been working late in their labs\, so come and behold these eerie sights. Come a feast your eyes upon felted eyeballs\, a woodblock gargoyle\, vexing taxidermy\, a nude with boils\, medical diagram montages\, a chimera straight out of the book of revelation\, a true black metal lord\, leafless trees that would have the headless horse-folks shaking in their stirrups\, collaged crustaceans made from old bedsheets\, a CPR baby that might have you second guessing your method of chest compressions and at least one spooky coyote.\nNot to mention\, we’ve got beverages and snacks in the Punch Snack Bar.\nPlan to arrive early for a good seat!\nJoin us for this free\, all-ages event at Punch Projects in Thorp\, Washington.
URL:https://nkctribune.com/event/live-music-at-punch-little-h-collective/
LOCATION:PUNCH Gallery\, 10630 N Thorp Hwy\, Thorp\, 98946\, United States
CATEGORIES:Art Shows and Exhibits,Music
ATTACH;FMTTYPE=image/jpeg:https://nkctribune.com/wp-content/uploads/2025/10/little-h-square.jpg
ORGANIZER;CN="PUNCH Projects":MAILTO:art@punchprojects.org
GEO:47.0691184;-120.6735653
X-APPLE-STRUCTURED-LOCATION;VALUE=URI;X-ADDRESS=PUNCH Gallery 10630 N Thorp Hwy Thorp 98946 United States;X-APPLE-RADIUS=500;X-TITLE=10630 N Thorp Hwy:geo:-120.6735653,47.0691184
END:VEVENT
BEGIN:VEVENT
DTSTART;TZID=America/Los_Angeles:20251029T153000
DTEND;TZID=America/Los_Angeles:20251029T163000
DTSTAMP:20260424T072803
CREATED:20250821T230748Z
LAST-MODIFIED:20260106T224210Z
UID:10012220-1761751800-1761755400@nkctribune.com
SUMMARY:Kid's Choir
DESCRIPTION:Children Kindergarten to 7th grade welcome to join the fun preparing for winter concerts. Sing for Roslyn Tree Lighting Friday\, Nov 28 and concerts with Mountain Voices Christmas Choir December 5\, 6 and 14th. Weekly practices Wednesdays 3:30-4:30 at Calvary Chapel Cle Elum. Questions? Call Coral Fife 509-674-8628
URL:https://nkctribune.com/event/kids-choir/2025-10-29/
LOCATION:Calvary Chapel Cle Elum\, 417 E. Railroad St.\, Cle Elum\, WA\, 98922\, United States
CATEGORIES:Music
GEO:47.195893;-120.936403
X-APPLE-STRUCTURED-LOCATION;VALUE=URI;X-ADDRESS=Calvary Chapel Cle Elum 417 E. Railroad St. Cle Elum WA 98922 United States;X-APPLE-RADIUS=500;X-TITLE=417 E. Railroad St.:geo:-120.936403,47.195893
END:VEVENT
END:VCALENDAR