BEGIN:VCALENDAR
VERSION:2.0
PRODID:-//Northern Kittitas County Tribune - ECPv6.15.20//NONSGML v1.0//EN
CALSCALE:GREGORIAN
METHOD:PUBLISH
X-WR-CALNAME:Northern Kittitas County Tribune
X-ORIGINAL-URL:https://nkctribune.com
X-WR-CALDESC:Events for Northern Kittitas County Tribune
REFRESH-INTERVAL;VALUE=DURATION:PT1H
X-Robots-Tag:noindex
X-PUBLISHED-TTL:PT1H
BEGIN:VTIMEZONE
TZID:America/Los_Angeles
BEGIN:DAYLIGHT
TZOFFSETFROM:-0800
TZOFFSETTO:-0700
TZNAME:PDT
DTSTART:20240310T100000
END:DAYLIGHT
BEGIN:STANDARD
TZOFFSETFROM:-0700
TZOFFSETTO:-0800
TZNAME:PST
DTSTART:20241103T090000
END:STANDARD
BEGIN:DAYLIGHT
TZOFFSETFROM:-0800
TZOFFSETTO:-0700
TZNAME:PDT
DTSTART:20250309T100000
END:DAYLIGHT
BEGIN:STANDARD
TZOFFSETFROM:-0700
TZOFFSETTO:-0800
TZNAME:PST
DTSTART:20251102T090000
END:STANDARD
BEGIN:DAYLIGHT
TZOFFSETFROM:-0800
TZOFFSETTO:-0700
TZNAME:PDT
DTSTART:20260308T100000
END:DAYLIGHT
BEGIN:STANDARD
TZOFFSETFROM:-0700
TZOFFSETTO:-0800
TZNAME:PST
DTSTART:20261101T090000
END:STANDARD
END:VTIMEZONE
BEGIN:VEVENT
DTSTART;TZID=America/Los_Angeles:20251101T150000
DTEND;TZID=America/Los_Angeles:20251101T170000
DTSTAMP:20260424T060044
CREATED:20251029T191747Z
LAST-MODIFIED:20260402T053103Z
UID:10012592-1762009200-1762016400@nkctribune.com
SUMMARY:Live Music at PUNCH! “Forest Ray”
DESCRIPTION:Open 12-5pm Saturday\, November 1 with “Forest Ray” playing psychedelic folk ‘n’ roll on the PUNCH Stage 3-5pm. \nIn the PUNCH Gallery\, join us for the opening of “Thorpsgiving” a silent auction\, membership drive and month of giving to support arts and cultural programming at PUNCH. \n\nNot to mention\, we’ve got beverages and snacks in the Punch Snack Bar.\nPlan to arrive early for a good seat!\nJoin us for this free\, all-ages event at Punch Projects in Thorp\, Washington.
URL:https://nkctribune.com/event/live-music-at-punch-forest-ray/
LOCATION:PUNCH Gallery\, 10630 N Thorp Hwy\, Thorp\, 98946\, United States
CATEGORIES:Music
ATTACH;FMTTYPE=image/jpeg:https://nkctribune.com/wp-content/uploads/2025/10/Forest-Ray-Nov-Square.jpg
ORGANIZER;CN="PUNCH Projects":MAILTO:art@punchprojects.org
GEO:47.0691184;-120.6735653
X-APPLE-STRUCTURED-LOCATION;VALUE=URI;X-ADDRESS=PUNCH Gallery 10630 N Thorp Hwy Thorp 98946 United States;X-APPLE-RADIUS=500;X-TITLE=10630 N Thorp Hwy:geo:-120.6735653,47.0691184
END:VEVENT
BEGIN:VEVENT
DTSTART;TZID=America/Los_Angeles:20251105T153000
DTEND;TZID=America/Los_Angeles:20251105T163000
DTSTAMP:20260424T060044
CREATED:20250821T230748Z
LAST-MODIFIED:20260106T224210Z
UID:10012221-1762356600-1762360200@nkctribune.com
SUMMARY:Kid's Choir
DESCRIPTION:Children Kindergarten to 7th grade welcome to join the fun preparing for winter concerts. Sing for Roslyn Tree Lighting Friday\, Nov 28 and concerts with Mountain Voices Christmas Choir December 5\, 6 and 14th. Weekly practices Wednesdays 3:30-4:30 at Calvary Chapel Cle Elum. Questions? Call Coral Fife 509-674-8628
URL:https://nkctribune.com/event/kids-choir/2025-11-05/
LOCATION:Calvary Chapel Cle Elum\, 417 E. Railroad St.\, Cle Elum\, WA\, 98922\, United States
CATEGORIES:Music
GEO:47.195893;-120.936403
X-APPLE-STRUCTURED-LOCATION;VALUE=URI;X-ADDRESS=Calvary Chapel Cle Elum 417 E. Railroad St. Cle Elum WA 98922 United States;X-APPLE-RADIUS=500;X-TITLE=417 E. Railroad St.:geo:-120.936403,47.195893
END:VEVENT
BEGIN:VEVENT
DTSTART;TZID=America/Los_Angeles:20251108T150000
DTEND;TZID=America/Los_Angeles:20251108T170000
DTSTAMP:20260424T060044
CREATED:20251105T054353Z
LAST-MODIFIED:20260402T053059Z
UID:10012866-1762614000-1762621200@nkctribune.com
SUMMARY:Live Music at PUNCH! “The David Owens Band”
DESCRIPTION:Open 12-5pm Saturday\, November 8 with “The David Owens Band” playing indie folk on the Punch Stage 3-5pm. In the PUNCH Gallery\, join us for the continuation of “Thorpsgiving” a silent auction\, membership drive and month of giving to support arts and cultural programming at PUNCH.\n\n\nNot to mention\, we’ve got beverages and snacks in the Punch Snack Bar. \nPlan to arrive early for a good seat!\nJoin us for this free\, all-ages event at Punch Projects in Thorp\, Washington.
URL:https://nkctribune.com/event/live-music-at-punch-the-david-owens-band/
LOCATION:PUNCH Gallery\, 10630 N Thorp Hwy\, Thorp\, 98946\, United States
CATEGORIES:Music
ATTACH;FMTTYPE=image/jpeg:https://nkctribune.com/wp-content/uploads/2025/11/David-Owens-Square.jpg
ORGANIZER;CN="PUNCH Projects":MAILTO:art@punchprojects.org
GEO:47.0691184;-120.6735653
X-APPLE-STRUCTURED-LOCATION;VALUE=URI;X-ADDRESS=PUNCH Gallery 10630 N Thorp Hwy Thorp 98946 United States;X-APPLE-RADIUS=500;X-TITLE=10630 N Thorp Hwy:geo:-120.6735653,47.0691184
END:VEVENT
BEGIN:VEVENT
DTSTART;TZID=America/Los_Angeles:20251112T153000
DTEND;TZID=America/Los_Angeles:20251112T163000
DTSTAMP:20260424T060044
CREATED:20250821T230748Z
LAST-MODIFIED:20260106T224210Z
UID:10012222-1762961400-1762965000@nkctribune.com
SUMMARY:Kid's Choir
DESCRIPTION:Children Kindergarten to 7th grade welcome to join the fun preparing for winter concerts. Sing for Roslyn Tree Lighting Friday\, Nov 28 and concerts with Mountain Voices Christmas Choir December 5\, 6 and 14th. Weekly practices Wednesdays 3:30-4:30 at Calvary Chapel Cle Elum. Questions? Call Coral Fife 509-674-8628
URL:https://nkctribune.com/event/kids-choir/2025-11-12/
LOCATION:Calvary Chapel Cle Elum\, 417 E. Railroad St.\, Cle Elum\, WA\, 98922\, United States
CATEGORIES:Music
GEO:47.195893;-120.936403
X-APPLE-STRUCTURED-LOCATION;VALUE=URI;X-ADDRESS=Calvary Chapel Cle Elum 417 E. Railroad St. Cle Elum WA 98922 United States;X-APPLE-RADIUS=500;X-TITLE=417 E. Railroad St.:geo:-120.936403,47.195893
END:VEVENT
BEGIN:VEVENT
DTSTART;TZID=America/Los_Angeles:20251115T150000
DTEND;TZID=America/Los_Angeles:20251115T170000
DTSTAMP:20260424T060044
CREATED:20251111T192648Z
LAST-MODIFIED:20260402T053055Z
UID:10012890-1763218800-1763226000@nkctribune.com
SUMMARY:Live Music at PUNCH! “House Collective”
DESCRIPTION:Open 12-5pm Saturday\, November 15 with “House Collective” playing improvisational jams on the Punch Stage 3-5pm. In the PUNCH Gallery\, join us for the continuation of “Thorpsgiving” a silent auction\, membership drive and month of giving to support arts and cultural programming at PUNCH.\nNot to mention\, we’ve got beverages and snacks in the Punch Snack Bar.\nPlan to arrive early for a good seat!\nJoin us for this free\, all-ages event at Punch Projects in Thorp\, Washington.
URL:https://nkctribune.com/event/live-music-at-punch-house-collective/
LOCATION:PUNCH Gallery\, 10630 N Thorp Hwy\, Thorp\, 98946\, United States
CATEGORIES:Music
ATTACH;FMTTYPE=image/jpeg:https://nkctribune.com/wp-content/uploads/2025/11/House-Collective-Square.jpg
ORGANIZER;CN="PUNCH Projects":MAILTO:art@punchprojects.org
GEO:47.0691184;-120.6735653
X-APPLE-STRUCTURED-LOCATION;VALUE=URI;X-ADDRESS=PUNCH Gallery 10630 N Thorp Hwy Thorp 98946 United States;X-APPLE-RADIUS=500;X-TITLE=10630 N Thorp Hwy:geo:-120.6735653,47.0691184
END:VEVENT
BEGIN:VEVENT
DTSTART;TZID=America/Los_Angeles:20251119T153000
DTEND;TZID=America/Los_Angeles:20251119T163000
DTSTAMP:20260424T060044
CREATED:20250821T230748Z
LAST-MODIFIED:20260106T224210Z
UID:10012223-1763566200-1763569800@nkctribune.com
SUMMARY:Kid's Choir
DESCRIPTION:Children Kindergarten to 7th grade welcome to join the fun preparing for winter concerts. Sing for Roslyn Tree Lighting Friday\, Nov 28 and concerts with Mountain Voices Christmas Choir December 5\, 6 and 14th. Weekly practices Wednesdays 3:30-4:30 at Calvary Chapel Cle Elum. Questions? Call Coral Fife 509-674-8628
URL:https://nkctribune.com/event/kids-choir/2025-11-19/
LOCATION:Calvary Chapel Cle Elum\, 417 E. Railroad St.\, Cle Elum\, WA\, 98922\, United States
CATEGORIES:Music
GEO:47.195893;-120.936403
X-APPLE-STRUCTURED-LOCATION;VALUE=URI;X-ADDRESS=Calvary Chapel Cle Elum 417 E. Railroad St. Cle Elum WA 98922 United States;X-APPLE-RADIUS=500;X-TITLE=417 E. Railroad St.:geo:-120.936403,47.195893
END:VEVENT
BEGIN:VEVENT
DTSTART;TZID=America/Los_Angeles:20251122T130000
DTEND;TZID=America/Los_Angeles:20251122T170000
DTSTAMP:20260424T060044
CREATED:20251120T174907Z
LAST-MODIFIED:20260402T053050Z
UID:10012922-1763816400-1763830800@nkctribune.com
SUMMARY:Live Music & Jewelry Making at PUNCH! “Notable Exceptions”
DESCRIPTION:Open 12-5pm Saturday\, November 22 with “Notable Exceptions” performing western harmonies on the Punch Stage 3-5pm. Get there early for a hands-on jewelry making demo with the musicians 1-2:30pm! \nIn the PUNCH Gallery\, join us for the continuation of “Thorpsgiving!” A month-long silent auction and membership drive to support arts and cultural programming at PUNCH. \nArt\, music\, beer and community! \nJoin us for this free\, all-ages event at Punch Projects in Thorp\, Washington. \n12-5pm Gallery Open\n1-2:30pm Jewelry Making Demo\n3-5pm Live Music with “Notable Exceptions” \nHave you been to PUNCH to check out one or more of our exhibitions that rotate monthly in our gallery space? Perhaps you’ve popped by to catch some live music\, a poetry reading or a bona fide clown performance? Maybe you’ve had the opportunity to show work or share your craft in our space? As you probably know\, PUNCH is grassroots and volunteer based. We believe that art should be free\, inclusive and open to all\, and that a small town can be an incredible incubator for cultural experiences like these. As we’ve witnessed\, compelling and engaging art\, poetry\, music and the conversations that ensue can and do happen in places like ours. This is what we celebrate and why we’re asking for your help to keep this cultural celebration going! We have three ways you can support us this November and help raise funds to cover rent\, utilities and programming in 2026 – become a member\, bid on some sweet artwork and other cool stuff in the month-long silent auction\, or simply drop some cold\, hard cash in the money jar. \nNot to mention\, we’ve got beverages and snacks in the Punch Snack Bar. \nPlan to arrive early for a good seat!
URL:https://nkctribune.com/event/live-music-jewelry-making-at-punch-notable-exceptions/
LOCATION:PUNCH Gallery\, 10630 N Thorp Hwy\, Thorp\, 98946\, United States
CATEGORIES:Art Shows and Exhibits,Music
ATTACH;FMTTYPE=image/jpeg:https://nkctribune.com/wp-content/uploads/2025/11/notable-exceptions-IG-square.jpg
ORGANIZER;CN="PUNCH Projects":MAILTO:art@punchprojects.org
GEO:47.0691184;-120.6735653
X-APPLE-STRUCTURED-LOCATION;VALUE=URI;X-ADDRESS=PUNCH Gallery 10630 N Thorp Hwy Thorp 98946 United States;X-APPLE-RADIUS=500;X-TITLE=10630 N Thorp Hwy:geo:-120.6735653,47.0691184
END:VEVENT
BEGIN:VEVENT
DTSTART;TZID=America/Los_Angeles:20251126T153000
DTEND;TZID=America/Los_Angeles:20251126T163000
DTSTAMP:20260424T060044
CREATED:20250821T230748Z
LAST-MODIFIED:20260106T224210Z
UID:10012224-1764171000-1764174600@nkctribune.com
SUMMARY:Kid's Choir
DESCRIPTION:Children Kindergarten to 7th grade welcome to join the fun preparing for winter concerts. Sing for Roslyn Tree Lighting Friday\, Nov 28 and concerts with Mountain Voices Christmas Choir December 5\, 6 and 14th. Weekly practices Wednesdays 3:30-4:30 at Calvary Chapel Cle Elum. Questions? Call Coral Fife 509-674-8628
URL:https://nkctribune.com/event/kids-choir/2025-11-26/
LOCATION:Calvary Chapel Cle Elum\, 417 E. Railroad St.\, Cle Elum\, WA\, 98922\, United States
CATEGORIES:Music
GEO:47.195893;-120.936403
X-APPLE-STRUCTURED-LOCATION;VALUE=URI;X-ADDRESS=Calvary Chapel Cle Elum 417 E. Railroad St. Cle Elum WA 98922 United States;X-APPLE-RADIUS=500;X-TITLE=417 E. Railroad St.:geo:-120.936403,47.195893
END:VEVENT
BEGIN:VEVENT
DTSTART;TZID=America/Los_Angeles:20251129T120000
DTEND;TZID=America/Los_Angeles:20251129T200000
DTSTAMP:20260424T060044
CREATED:20251125T053129Z
LAST-MODIFIED:20260402T053046Z
UID:10012927-1764417600-1764446400@nkctribune.com
SUMMARY:Eight Bands! "Punk 'n' Pie" at PUNCH!
DESCRIPTION:Open 12-8pm for “Last Saturday” on November 29 with our annual punk rawk extravaganza “Punk ‘n’ Pie” featuring eight bands playing the PUNCH Stage all day 12-8pm.\nIn the PUNCH Gallery\, join us for the final weekend of “Thorpsgiving!” with your last chance to bid in the silent auction and join or renew your support in the membership drive.\n12-8pm\nGallery Open\nFree Pumpkin Pie\nDIY Hot Dogs!\nCampfire\nSilent Auction ends at 5pm!\nLive Music!\n12pm The 667s\n1pm The Nightmares\n2pm Full Ripley\n3pm Pannonica\n4pm Dick Rossetti & Bulk Male\n5pm The Maya Experience\n6pm Rotten Apples\n7pm Black Velvet Band\nSilent Auction Ends 5pm Sharp!\nHelp us close out November and “Thorpsgiving!” with a rocking good time! As you probably know\, PUNCH is grassroots and volunteer based. We believe that art should be free\, inclusive and open to all\, and that a small town can be an incredible incubator for cultural experiences like these. As we’ve witnessed\, compelling and engaging art\, poetry\, music and the conversations that ensue can and do happen in places like ours. This is what we celebrate and why we’re asking for your help to keep this cultural celebration going! We have three ways you can support us this November and help raise funds to cover rent\, utilities and programming in 2026 – become a member\, bid on some sweet artwork and other cool stuff in the month-long silent auction\, or simply drop some cold\, hard cash in the money jar.\nNot to mention\, we’ve got beverages and snacks in the Punch Snack Bar.\nCapacity is limited! Plan to arrive early for a good spot!\nJoin us for this free\, all-ages event at Punch Projects in Thorp\, Washington.
URL:https://nkctribune.com/event/eight-bands-punk-n-pie-at-punch/
LOCATION:PUNCH Gallery\, 10630 N Thorp Hwy\, Thorp\, 98946\, United States
CATEGORIES:Art Shows and Exhibits,Music
ATTACH;FMTTYPE=image/jpeg:https://nkctribune.com/wp-content/uploads/2025/11/punk-n-pie-square.jpg
ORGANIZER;CN="PUNCH Projects":MAILTO:art@punchprojects.org
GEO:47.0691184;-120.6735653
X-APPLE-STRUCTURED-LOCATION;VALUE=URI;X-ADDRESS=PUNCH Gallery 10630 N Thorp Hwy Thorp 98946 United States;X-APPLE-RADIUS=500;X-TITLE=10630 N Thorp Hwy:geo:-120.6735653,47.0691184
END:VEVENT
END:VCALENDAR