BEGIN:VCALENDAR
VERSION:2.0
PRODID:-//Northern Kittitas County Tribune - ECPv6.15.20//NONSGML v1.0//EN
CALSCALE:GREGORIAN
METHOD:PUBLISH
X-ORIGINAL-URL:https://nkctribune.com
X-WR-CALDESC:Events for Northern Kittitas County Tribune
REFRESH-INTERVAL;VALUE=DURATION:PT1H
X-Robots-Tag:noindex
X-PUBLISHED-TTL:PT1H
BEGIN:VTIMEZONE
TZID:America/Los_Angeles
BEGIN:DAYLIGHT
TZOFFSETFROM:-0800
TZOFFSETTO:-0700
TZNAME:PDT
DTSTART:20250309T100000
END:DAYLIGHT
BEGIN:STANDARD
TZOFFSETFROM:-0700
TZOFFSETTO:-0800
TZNAME:PST
DTSTART:20251102T090000
END:STANDARD
BEGIN:DAYLIGHT
TZOFFSETFROM:-0800
TZOFFSETTO:-0700
TZNAME:PDT
DTSTART:20260308T100000
END:DAYLIGHT
BEGIN:STANDARD
TZOFFSETFROM:-0700
TZOFFSETTO:-0800
TZNAME:PST
DTSTART:20261101T090000
END:STANDARD
BEGIN:DAYLIGHT
TZOFFSETFROM:-0800
TZOFFSETTO:-0700
TZNAME:PDT
DTSTART:20270314T100000
END:DAYLIGHT
BEGIN:STANDARD
TZOFFSETFROM:-0700
TZOFFSETTO:-0800
TZNAME:PST
DTSTART:20271107T090000
END:STANDARD
END:VTIMEZONE
BEGIN:VEVENT
DTSTART;VALUE=DATE:20260422
DTEND;VALUE=DATE:20260620
DTSTAMP:20260422T234031
CREATED:20260422T175716Z
LAST-MODIFIED:20260422T180142Z
UID:10014185-1776844800-1781888400@nkctribune.com
SUMMARY:2026 Pioneer Days Mushroom Queen/King Contest
DESCRIPTION:2026 Pioneer Days Mushroom Queen/King Contest: \nNow through June 19. \nGet out there and hunt a Boletus mushroom for the annual contest sponsored by Cle Elum Lodge #1968\, Order Sons and Daughters of Italy in America and Glondo’s Sausage Company. \nTrophy prizes for 1st\, 2nd\, and 3rd place based on weight. \nMushroom of genus Boletus only. Mushroom must be edible\, in good condition\, and not altered in any way\, shape\, or form. \nAll entries must be submitted to Glondo’s Sausage Company\, 216 East 1st Street\, Cle Elum by 5:00 p.m. on Friday\, June 19\, 2026.
URL:https://nkctribune.com/event/2026-pioneer-days-mushroom-queen-king-contest/2026-04-22/
CATEGORIES:Festivals, Parades & Fairs,General,Other Events,Outdoors,Recreation
END:VEVENT
END:VCALENDAR