BEGIN:VCALENDAR
VERSION:2.0
PRODID:-//Northern Kittitas County Tribune - ECPv6.15.20//NONSGML v1.0//EN
CALSCALE:GREGORIAN
METHOD:PUBLISH
X-WR-CALNAME:Northern Kittitas County Tribune
X-ORIGINAL-URL:https://nkctribune.com
X-WR-CALDESC:Events for Northern Kittitas County Tribune
REFRESH-INTERVAL;VALUE=DURATION:PT1H
X-Robots-Tag:noindex
X-PUBLISHED-TTL:PT1H
BEGIN:VTIMEZONE
TZID:America/Los_Angeles
BEGIN:DAYLIGHT
TZOFFSETFROM:-0800
TZOFFSETTO:-0700
TZNAME:PDT
DTSTART:20240310T100000
END:DAYLIGHT
BEGIN:STANDARD
TZOFFSETFROM:-0700
TZOFFSETTO:-0800
TZNAME:PST
DTSTART:20241103T090000
END:STANDARD
BEGIN:DAYLIGHT
TZOFFSETFROM:-0800
TZOFFSETTO:-0700
TZNAME:PDT
DTSTART:20250309T100000
END:DAYLIGHT
BEGIN:STANDARD
TZOFFSETFROM:-0700
TZOFFSETTO:-0800
TZNAME:PST
DTSTART:20251102T090000
END:STANDARD
BEGIN:DAYLIGHT
TZOFFSETFROM:-0800
TZOFFSETTO:-0700
TZNAME:PDT
DTSTART:20260308T100000
END:DAYLIGHT
BEGIN:STANDARD
TZOFFSETFROM:-0700
TZOFFSETTO:-0800
TZNAME:PST
DTSTART:20261101T090000
END:STANDARD
BEGIN:DAYLIGHT
TZOFFSETFROM:-0800
TZOFFSETTO:-0700
TZNAME:PDT
DTSTART:20270314T100000
END:DAYLIGHT
BEGIN:STANDARD
TZOFFSETFROM:-0700
TZOFFSETTO:-0800
TZNAME:PST
DTSTART:20271107T090000
END:STANDARD
END:VTIMEZONE
BEGIN:VEVENT
DTSTART;TZID=America/Los_Angeles:20260414T153000
DTEND;TZID=America/Los_Angeles:20260414T163000
DTSTAMP:20260420T020550
CREATED:20260126T172908Z
LAST-MODIFIED:20260126T172908Z
UID:10013091-1776180600-1776184200@nkctribune.com
SUMMARY:Roslyn Library's Lego Club
DESCRIPTION:Roslyn Library Lego Club\, Every Tuesday of the month from 3:30-4:30 p.m. at the Roslyn Library\, 201 S. First St.\, Roslyn. Free\, Lego activities geared towards kids 5-12 but all are welcome. Children must be independent or accompanied by a responsible individual.
URL:https://nkctribune.com/event/roslyn-librarys-lego-club/2026-04-14/
LOCATION:Roslyn Library\, 201 S First St\, Roslyn\, WA\, United States
CATEGORIES:Club Events,Youth
GEO:47.222532;-120.991353
X-APPLE-STRUCTURED-LOCATION;VALUE=URI;X-ADDRESS=Roslyn Library 201 S First St Roslyn WA United States;X-APPLE-RADIUS=500;X-TITLE=201 S First St:geo:-120.991353,47.222532
END:VEVENT
BEGIN:VEVENT
DTSTART;TZID=America/Los_Angeles:20260407T153000
DTEND;TZID=America/Los_Angeles:20260407T163000
DTSTAMP:20260420T020550
CREATED:20260126T172908Z
LAST-MODIFIED:20260126T172908Z
UID:10013090-1775575800-1775579400@nkctribune.com
SUMMARY:Roslyn Library's Lego Club
DESCRIPTION:Roslyn Library Lego Club\, Every Tuesday of the month from 3:30-4:30 p.m. at the Roslyn Library\, 201 S. First St.\, Roslyn. Free\, Lego activities geared towards kids 5-12 but all are welcome. Children must be independent or accompanied by a responsible individual.
URL:https://nkctribune.com/event/roslyn-librarys-lego-club/2026-04-07/
LOCATION:Roslyn Library\, 201 S First St\, Roslyn\, WA\, United States
CATEGORIES:Club Events,Youth
GEO:47.222532;-120.991353
X-APPLE-STRUCTURED-LOCATION;VALUE=URI;X-ADDRESS=Roslyn Library 201 S First St Roslyn WA United States;X-APPLE-RADIUS=500;X-TITLE=201 S First St:geo:-120.991353,47.222532
END:VEVENT
BEGIN:VEVENT
DTSTART;TZID=America/Los_Angeles:20260404T120000
DTEND;TZID=America/Los_Angeles:20260404T120000
DTSTAMP:20260420T020550
CREATED:20260330T230525Z
LAST-MODIFIED:20260330T230525Z
UID:10013980-1775304000-1775304000@nkctribune.com
SUMMARY:Terry Bland Memorial Easter Egg Hunt
DESCRIPTION:Saturday April 4 \nHorn blows at 12:00 p.m. at Cle Elum Firemen’s Park \nFor kids ages 0-10. Everyone leaves with a prize! Egg hunt is free. \nHosted by Cle Elum Volunteer Firefighters Association
URL:https://nkctribune.com/event/terry-bland-memorial-easter-egg-hunt/
LOCATION:Cle Elum Fireman’s Park\, 701 S Main St\, Cle Elum\, WA\, 98922\, United States
CATEGORIES:Holiday Celebration,Outdoors,Youth
GEO:47.189866;-120.9450516
X-APPLE-STRUCTURED-LOCATION;VALUE=URI;X-ADDRESS=Cle Elum Fireman’s Park 701 S Main St Cle Elum WA 98922 United States;X-APPLE-RADIUS=500;X-TITLE=701 S Main St:geo:-120.9450516,47.189866
END:VEVENT
BEGIN:VEVENT
DTSTART;TZID=America/Los_Angeles:20260404T100000
DTEND;TZID=America/Los_Angeles:20260404T120000
DTSTAMP:20260420T020550
CREATED:20260330T224527Z
LAST-MODIFIED:20260330T224527Z
UID:10013978-1775296800-1775304000@nkctribune.com
SUMMARY:Easton Easter Egg Hunt
DESCRIPTION:Easter Egg Hunt – For kids 12 and under. The Easter Bunny will be here! First 100 kids will receive a treat bag \nSaturday\, April 4 \n10:00 a.m. – 12:00 p.m. \nEaston School playground \nHosted by Easton Fire Department Auxiliary \nQuestions? Call 253-569-5143 for info \n 
URL:https://nkctribune.com/event/easton-easter-egg-hunt/
LOCATION:Easton School\, 1893 Railroad Street\, Easton\, WA\, 98925\, Kittitas
CATEGORIES:Holiday Celebration,Outdoors,Youth
GEO:47.236376;-121.177161
X-APPLE-STRUCTURED-LOCATION;VALUE=URI;X-ADDRESS=Easton School 1893 Railroad Street Easton WA 98925 Kittitas;X-APPLE-RADIUS=500;X-TITLE=1893 Railroad Street:geo:-121.177161,47.236376
END:VEVENT
BEGIN:VEVENT
DTSTART;TZID=America/Los_Angeles:20260404T100000
DTEND;TZID=America/Los_Angeles:20260404T120000
DTSTAMP:20260420T020550
CREATED:20260330T223734Z
LAST-MODIFIED:20260330T223734Z
UID:10013977-1775296800-1775304000@nkctribune.com
SUMMARY:Easter in the Park
DESCRIPTION:Easter in the Park – Free –  Everyone Welcome! \nContinuous egg hunts\, crafts\, games\, prizes\, pancake breakfast \nSaturday\, April 4 \n10:00 a.m. – 12:00 p.m. \nCle Elum City Park on 2nd St by the Skate Park \nHosted by Calvary Chapel Cle Elum
URL:https://nkctribune.com/event/easter-in-the-park/
LOCATION:Cle Elum City Park\, 519 W. Second St.\, Cle Elum\, WA\, 98922\, United States
CATEGORIES:Holiday Celebration,Outdoors,Youth
GEO:47.1969819;-120.949042
X-APPLE-STRUCTURED-LOCATION;VALUE=URI;X-ADDRESS=Cle Elum City Park 519 W. Second St. Cle Elum WA 98922 United States;X-APPLE-RADIUS=500;X-TITLE=519 W. Second St.:geo:-120.949042,47.1969819
END:VEVENT
BEGIN:VEVENT
DTSTART;TZID=America/Los_Angeles:20260404T100000
DTEND;TZID=America/Los_Angeles:20260404T100000
DTSTAMP:20260420T020550
CREATED:20260330T225814Z
LAST-MODIFIED:20260330T225814Z
UID:10013979-1775296800-1775296800@nkctribune.com
SUMMARY:Suncadia's Easter Egg Hunt
DESCRIPTION:Join us for our annual Easter Egg Hunt with thousands of eggs! After the hunt\, the fun continues with a variety of exciting activities\, including a petting zoo\, face painting\, and the chance to take photos with Sunny the Bunny. \nPlease arrive by 9:45 a.m. to ensure you’re ready for the hunt which starts promptly at 10:00 a.m.! \nThis is a rain-or-shine event\, so bring the whole family out to enjoy the day\, no matter the weather! \nSaturday\, April 4 \n10:00 a.m. \nDawson Park \nSponsored by the Suncadia Fund for Community Enhancement
URL:https://nkctribune.com/event/suncadias-easter-egg-hunt/
LOCATION:Suncadia – Dawson Park\, 431 Coal Mine Way \, Cle Elum\, WA\, 98922\, United States
CATEGORIES:Holiday Celebration,Outdoors,Youth
ORGANIZER;CN="Suncadia Fund For Community Enhancement":MAILTO:psimpson@suncadia.com
GEO:47.2070653;-120.9860456
X-APPLE-STRUCTURED-LOCATION;VALUE=URI;X-ADDRESS=Suncadia – Dawson Park 431 Coal Mine Way  Cle Elum WA 98922 United States;X-APPLE-RADIUS=500;X-TITLE=431 Coal Mine Way:geo:-120.9860456,47.2070653
END:VEVENT
BEGIN:VEVENT
DTSTART;TZID=America/Los_Angeles:20260331T153000
DTEND;TZID=America/Los_Angeles:20260331T163000
DTSTAMP:20260420T020550
CREATED:20260126T172908Z
LAST-MODIFIED:20260126T172908Z
UID:10013089-1774971000-1774974600@nkctribune.com
SUMMARY:Roslyn Library's Lego Club
DESCRIPTION:Roslyn Library Lego Club\, Every Tuesday of the month from 3:30-4:30 p.m. at the Roslyn Library\, 201 S. First St.\, Roslyn. Free\, Lego activities geared towards kids 5-12 but all are welcome. Children must be independent or accompanied by a responsible individual.
URL:https://nkctribune.com/event/roslyn-librarys-lego-club/2026-03-31/
LOCATION:Roslyn Library\, 201 S First St\, Roslyn\, WA\, United States
CATEGORIES:Club Events,Youth
GEO:47.222532;-120.991353
X-APPLE-STRUCTURED-LOCATION;VALUE=URI;X-ADDRESS=Roslyn Library 201 S First St Roslyn WA United States;X-APPLE-RADIUS=500;X-TITLE=201 S First St:geo:-120.991353,47.222532
END:VEVENT
BEGIN:VEVENT
DTSTART;TZID=America/Los_Angeles:20260324T153000
DTEND;TZID=America/Los_Angeles:20260324T163000
DTSTAMP:20260420T020550
CREATED:20260126T172908Z
LAST-MODIFIED:20260126T172908Z
UID:10013088-1774366200-1774369800@nkctribune.com
SUMMARY:Roslyn Library's Lego Club
DESCRIPTION:Roslyn Library Lego Club\, Every Tuesday of the month from 3:30-4:30 p.m. at the Roslyn Library\, 201 S. First St.\, Roslyn. Free\, Lego activities geared towards kids 5-12 but all are welcome. Children must be independent or accompanied by a responsible individual.
URL:https://nkctribune.com/event/roslyn-librarys-lego-club/2026-03-24/
LOCATION:Roslyn Library\, 201 S First St\, Roslyn\, WA\, United States
CATEGORIES:Club Events,Youth
GEO:47.222532;-120.991353
X-APPLE-STRUCTURED-LOCATION;VALUE=URI;X-ADDRESS=Roslyn Library 201 S First St Roslyn WA United States;X-APPLE-RADIUS=500;X-TITLE=201 S First St:geo:-120.991353,47.222532
END:VEVENT
BEGIN:VEVENT
DTSTART;TZID=America/Los_Angeles:20260317T153000
DTEND;TZID=America/Los_Angeles:20260317T163000
DTSTAMP:20260420T020550
CREATED:20260126T172908Z
LAST-MODIFIED:20260126T172908Z
UID:10013087-1773761400-1773765000@nkctribune.com
SUMMARY:Roslyn Library's Lego Club
DESCRIPTION:Roslyn Library Lego Club\, Every Tuesday of the month from 3:30-4:30 p.m. at the Roslyn Library\, 201 S. First St.\, Roslyn. Free\, Lego activities geared towards kids 5-12 but all are welcome. Children must be independent or accompanied by a responsible individual.
URL:https://nkctribune.com/event/roslyn-librarys-lego-club/2026-03-17/
LOCATION:Roslyn Library\, 201 S First St\, Roslyn\, WA\, United States
CATEGORIES:Club Events,Youth
GEO:47.222532;-120.991353
X-APPLE-STRUCTURED-LOCATION;VALUE=URI;X-ADDRESS=Roslyn Library 201 S First St Roslyn WA United States;X-APPLE-RADIUS=500;X-TITLE=201 S First St:geo:-120.991353,47.222532
END:VEVENT
BEGIN:VEVENT
DTSTART;TZID=America/Los_Angeles:20260310T153000
DTEND;TZID=America/Los_Angeles:20260310T163000
DTSTAMP:20260420T020550
CREATED:20260126T172908Z
LAST-MODIFIED:20260126T172908Z
UID:10013086-1773156600-1773160200@nkctribune.com
SUMMARY:Roslyn Library's Lego Club
DESCRIPTION:Roslyn Library Lego Club\, Every Tuesday of the month from 3:30-4:30 p.m. at the Roslyn Library\, 201 S. First St.\, Roslyn. Free\, Lego activities geared towards kids 5-12 but all are welcome. Children must be independent or accompanied by a responsible individual.
URL:https://nkctribune.com/event/roslyn-librarys-lego-club/2026-03-10/
LOCATION:Roslyn Library\, 201 S First St\, Roslyn\, WA\, United States
CATEGORIES:Club Events,Youth
GEO:47.222532;-120.991353
X-APPLE-STRUCTURED-LOCATION;VALUE=URI;X-ADDRESS=Roslyn Library 201 S First St Roslyn WA United States;X-APPLE-RADIUS=500;X-TITLE=201 S First St:geo:-120.991353,47.222532
END:VEVENT
BEGIN:VEVENT
DTSTART;TZID=America/Los_Angeles:20260303T153000
DTEND;TZID=America/Los_Angeles:20260303T163000
DTSTAMP:20260420T020550
CREATED:20260126T172908Z
LAST-MODIFIED:20260126T172908Z
UID:10013085-1772551800-1772555400@nkctribune.com
SUMMARY:Roslyn Library's Lego Club
DESCRIPTION:Roslyn Library Lego Club\, Every Tuesday of the month from 3:30-4:30 p.m. at the Roslyn Library\, 201 S. First St.\, Roslyn. Free\, Lego activities geared towards kids 5-12 but all are welcome. Children must be independent or accompanied by a responsible individual.
URL:https://nkctribune.com/event/roslyn-librarys-lego-club/2026-03-03/
LOCATION:Roslyn Library\, 201 S First St\, Roslyn\, WA\, United States
CATEGORIES:Club Events,Youth
GEO:47.222532;-120.991353
X-APPLE-STRUCTURED-LOCATION;VALUE=URI;X-ADDRESS=Roslyn Library 201 S First St Roslyn WA United States;X-APPLE-RADIUS=500;X-TITLE=201 S First St:geo:-120.991353,47.222532
END:VEVENT
BEGIN:VEVENT
DTSTART;TZID=America/Los_Angeles:20260224T153000
DTEND;TZID=America/Los_Angeles:20260224T163000
DTSTAMP:20260420T020550
CREATED:20260126T172908Z
LAST-MODIFIED:20260126T172908Z
UID:10013084-1771947000-1771950600@nkctribune.com
SUMMARY:Roslyn Library's Lego Club
DESCRIPTION:Roslyn Library Lego Club\, Every Tuesday of the month from 3:30-4:30 p.m. at the Roslyn Library\, 201 S. First St.\, Roslyn. Free\, Lego activities geared towards kids 5-12 but all are welcome. Children must be independent or accompanied by a responsible individual.
URL:https://nkctribune.com/event/roslyn-librarys-lego-club/2026-02-24/
LOCATION:Roslyn Library\, 201 S First St\, Roslyn\, WA\, United States
CATEGORIES:Club Events,Youth
GEO:47.222532;-120.991353
X-APPLE-STRUCTURED-LOCATION;VALUE=URI;X-ADDRESS=Roslyn Library 201 S First St Roslyn WA United States;X-APPLE-RADIUS=500;X-TITLE=201 S First St:geo:-120.991353,47.222532
END:VEVENT
BEGIN:VEVENT
DTSTART;TZID=America/Los_Angeles:20260217T153000
DTEND;TZID=America/Los_Angeles:20260217T163000
DTSTAMP:20260420T020550
CREATED:20260126T172908Z
LAST-MODIFIED:20260126T172908Z
UID:10013083-1771342200-1771345800@nkctribune.com
SUMMARY:Roslyn Library's Lego Club
DESCRIPTION:Roslyn Library Lego Club\, Every Tuesday of the month from 3:30-4:30 p.m. at the Roslyn Library\, 201 S. First St.\, Roslyn. Free\, Lego activities geared towards kids 5-12 but all are welcome. Children must be independent or accompanied by a responsible individual.
URL:https://nkctribune.com/event/roslyn-librarys-lego-club/2026-02-17/
LOCATION:Roslyn Library\, 201 S First St\, Roslyn\, WA\, United States
CATEGORIES:Club Events,Youth
GEO:47.222532;-120.991353
X-APPLE-STRUCTURED-LOCATION;VALUE=URI;X-ADDRESS=Roslyn Library 201 S First St Roslyn WA United States;X-APPLE-RADIUS=500;X-TITLE=201 S First St:geo:-120.991353,47.222532
END:VEVENT
BEGIN:VEVENT
DTSTART;TZID=America/Los_Angeles:20260210T153000
DTEND;TZID=America/Los_Angeles:20260210T163000
DTSTAMP:20260420T020551
CREATED:20260126T172908Z
LAST-MODIFIED:20260126T172908Z
UID:10013082-1770737400-1770741000@nkctribune.com
SUMMARY:Roslyn Library's Lego Club
DESCRIPTION:Roslyn Library Lego Club\, Every Tuesday of the month from 3:30-4:30 p.m. at the Roslyn Library\, 201 S. First St.\, Roslyn. Free\, Lego activities geared towards kids 5-12 but all are welcome. Children must be independent or accompanied by a responsible individual.
URL:https://nkctribune.com/event/roslyn-librarys-lego-club/2026-02-10/
LOCATION:Roslyn Library\, 201 S First St\, Roslyn\, WA\, United States
CATEGORIES:Club Events,Youth
GEO:47.222532;-120.991353
X-APPLE-STRUCTURED-LOCATION;VALUE=URI;X-ADDRESS=Roslyn Library 201 S First St Roslyn WA United States;X-APPLE-RADIUS=500;X-TITLE=201 S First St:geo:-120.991353,47.222532
END:VEVENT
BEGIN:VEVENT
DTSTART;TZID=America/Los_Angeles:20260203T153000
DTEND;TZID=America/Los_Angeles:20260203T163000
DTSTAMP:20260420T020551
CREATED:20260126T172908Z
LAST-MODIFIED:20260126T172908Z
UID:10013081-1770132600-1770136200@nkctribune.com
SUMMARY:Roslyn Library's Lego Club
DESCRIPTION:Roslyn Library Lego Club\, Every Tuesday of the month from 3:30-4:30 p.m. at the Roslyn Library\, 201 S. First St.\, Roslyn. Free\, Lego activities geared towards kids 5-12 but all are welcome. Children must be independent or accompanied by a responsible individual.
URL:https://nkctribune.com/event/roslyn-librarys-lego-club/2026-02-03/
LOCATION:Roslyn Library\, 201 S First St\, Roslyn\, WA\, United States
CATEGORIES:Club Events,Youth
GEO:47.222532;-120.991353
X-APPLE-STRUCTURED-LOCATION;VALUE=URI;X-ADDRESS=Roslyn Library 201 S First St Roslyn WA United States;X-APPLE-RADIUS=500;X-TITLE=201 S First St:geo:-120.991353,47.222532
END:VEVENT
BEGIN:VEVENT
DTSTART;TZID=America/Los_Angeles:20260127T153000
DTEND;TZID=America/Los_Angeles:20260127T163000
DTSTAMP:20260420T020551
CREATED:20260126T172908Z
LAST-MODIFIED:20260126T172908Z
UID:10013080-1769527800-1769531400@nkctribune.com
SUMMARY:Roslyn Library's Lego Club
DESCRIPTION:Roslyn Library Lego Club\, Every Tuesday of the month from 3:30-4:30 p.m. at the Roslyn Library\, 201 S. First St.\, Roslyn. Free\, Lego activities geared towards kids 5-12 but all are welcome. Children must be independent or accompanied by a responsible individual.
URL:https://nkctribune.com/event/roslyn-librarys-lego-club/2026-01-27/
LOCATION:Roslyn Library\, 201 S First St\, Roslyn\, WA\, United States
CATEGORIES:Club Events,Youth
GEO:47.222532;-120.991353
X-APPLE-STRUCTURED-LOCATION;VALUE=URI;X-ADDRESS=Roslyn Library 201 S First St Roslyn WA United States;X-APPLE-RADIUS=500;X-TITLE=201 S First St:geo:-120.991353,47.222532
END:VEVENT
BEGIN:VEVENT
DTSTART;TZID=America/Los_Angeles:20251207T120000
DTEND;TZID=America/Los_Angeles:20251207T140000
DTSTAMP:20260420T020551
CREATED:20251118T185805Z
LAST-MODIFIED:20260106T220749Z
UID:10012913-1765108800-1765116000@nkctribune.com
SUMMARY:Kid's Christmas Party at the Cle Elum Eagles
DESCRIPTION:Join Us for a Visit with Santa! \n\n\nDecember 7th • 12pm–2pm • Cle Elum Eagles\n\nBring the kids to meet Santa as he arrives with his sleigh! His reindeer will be resting up for Christmas Eve\, but Santa will be ready for photos and holiday cheer.\nThis free community event welcomes everyone. Bringing a non-perishable food item is optional but greatly appreciated.\nKids can enjoy:\n✨ Cookie decorating\n✨ A fun holiday craft station\nPlus\, delicious pizza from Miner’s Pizza for just $5 per slice!\nGuaranteed fun for the whole family!
URL:https://nkctribune.com/event/kids-christmas-party-at-the-cle-elum-eagles/
LOCATION:Cle Elum Eagles\, 220 N Pennsylvania Ave\, Cle Elum\, WA\, United States
CATEGORIES:Holiday Celebration,Youth
ATTACH;FMTTYPE=image/jpeg:https://nkctribune.com/wp-content/uploads/2025/11/Kids-Christmas-Party-Full-Page-4.jpg
GEO:47.195606;-120.937746
X-APPLE-STRUCTURED-LOCATION;VALUE=URI;X-ADDRESS=Cle Elum Eagles 220 N Pennsylvania Ave Cle Elum WA United States;X-APPLE-RADIUS=500;X-TITLE=220 N Pennsylvania Ave:geo:-120.937746,47.195606
END:VEVENT
BEGIN:VEVENT
DTSTART;TZID=America/Los_Angeles:20250806T140000
DTEND;TZID=America/Los_Angeles:20250806T150000
DTSTAMP:20260420T020551
CREATED:20250616T170035Z
LAST-MODIFIED:20260106T220806Z
UID:10011779-1754488800-1754492400@nkctribune.com
SUMMARY:The Zaniac - Childrens Entertainer
DESCRIPTION:Get ready to laugh\, gasp\, and cheer as Alex Zerbe—The Zaniac—juggles\, jokes\, and dazzles with high-energy comedy and jaw-dropping tricks! \nPresented in partnership with the Roslyn Library and Carpenter Library. Event held at the Centennial Center.
URL:https://nkctribune.com/event/the-zaniac-childrens-entertainer/
LOCATION:Centennial Center\, 719 E 3rd\, Cle Elum\, WA\, 98922\, United States
CATEGORIES:Entertain,Library & Book Events,Youth
ATTACH;FMTTYPE=image/png:https://nkctribune.com/wp-content/uploads/2025/06/Screen-Shot-2025-06-13-at-4.46.13-PM.png
ORGANIZER;CN="Roslyn Library":MAILTO:rpl@inlandnet.com
GEO:47.1949905;-120.923117
X-APPLE-STRUCTURED-LOCATION;VALUE=URI;X-ADDRESS=Centennial Center 719 E 3rd Cle Elum WA 98922 United States;X-APPLE-RADIUS=500;X-TITLE=719 E 3rd:geo:-120.923117,47.1949905
END:VEVENT
BEGIN:VEVENT
DTSTART;TZID=America/Los_Angeles:20250804T100000
DTEND;TZID=America/Los_Angeles:20250804T110000
DTSTAMP:20260420T020551
CREATED:20250730T220453Z
LAST-MODIFIED:20260106T220806Z
UID:10011941-1754301600-1754305200@nkctribune.com
SUMMARY:Discover Washington Spectrum Schools for Students K-12 with Autism
DESCRIPTION:Washington Spectrum Schools – Ellensburg Informational SessionDate: Monday\, August 4\, 2025Time: 10:00 AM – 11:00 AMLocation: Hal Holmes Community Center\, 209 N. Ruby Street\, Ellensburg\, WA 98926 \nJoin us for a special informational session to learn more about the new Washington Spectrum Schools campus opening in Ellensburg for the 2025–2026 school year. This event is designed for parents\, caregivers\, educators\, service providers\, and community members who are interested in learning about a new educational option for neurodivergent students in our region. \nWashington Spectrum Schools is a private K–12 program created specifically for children with autism\, ADHD\, sensory processing challenges\, behavioral needs\, and other learning differences. Our mission is to meet students where they are—academically\, socially\, and developmentally—and help them grow with compassion\, expertise\, and personalized instruction. \nDuring this session\, attendees will: \n\n\nHear from school leadership about our educational philosophy and whole-child approach \n\n\nLearn how our integrated academic and behavioral model supports students throughout the school day \n\n\nExplore the features of our program\, including small class sizes\, individualized instruction\, and a strengths-based learning environment \n\n\nGet details about enrollment\, tuition\, and support services \n\n\nAsk questions and connect directly with our admissions team \n\n\nWhether you’re actively looking for a school placement for your child\, exploring options for the future\, or just want to learn more about how we’re serving neurodiverse students in the Ellensburg area\, we warmly invite you to attend. \nNo RSVP required – all are welcome. \nFor more information about the school and upcoming events\, please visit:www.washingtonspectrumschools.org
URL:https://nkctribune.com/event/discover-washington-spectrum-schools-for-students-k-12-with-autism/
LOCATION:Hal Holmes Community Center\, 201 N. Ruby\, Ellensburg\, WA\, 98926\, USA
CATEGORIES:Library & Book Events,School Events,Youth
ATTACH;FMTTYPE=image/jpeg:https://nkctribune.com/wp-content/uploads/2025/07/Title-3.jpg
ORGANIZER;CN="Washington Spectrum Schools":MAILTO:lisa@washingtonspectrumschools.org
GEO:46.9934719;-120.5444509
X-APPLE-STRUCTURED-LOCATION;VALUE=URI;X-ADDRESS=Hal Holmes Community Center 201 N. Ruby Ellensburg WA 98926 USA;X-APPLE-RADIUS=500;X-TITLE=201 N. Ruby:geo:-120.5444509,46.9934719
END:VEVENT
BEGIN:VEVENT
DTSTART;TZID=America/Los_Angeles:20250701T110000
DTEND;TZID=America/Los_Angeles:20250713T160000
DTSTAMP:20260420T020551
CREATED:20250623T225415Z
LAST-MODIFIED:20260106T220811Z
UID:10011789-1751367600-1752422400@nkctribune.com
SUMMARY:Downtown Storybook Walk - Color Cle Elum
DESCRIPTION:Join the Carpenter Memorial Library\, partnered by CEDA\, for a storywalk downtown! This will include some of your local downtown businesses\, a few City municipal locations\, and a fun time! Read “Dog’s Colorful Day” by Emma Dodd\, accompanied by a parent for your downtown adventure! Experience the storywalk for the first half of July! July 1st\, all the way to July 13th! Make sure you pick up your postcard from the library or at the CEDA office! Once you have completed your storywalk and colored in your postcard\, stop at the library to pick up a special treat! Stop at the library and check out the Summer Reading Program for more fun activities perfect for all ages! After you have completed your Summer Reading Program activities! Color in your splat sheet (provided by Friends of the library) and get a cool prize!
URL:https://nkctribune.com/event/downtown-storybook-walk-color-cle-elum/
LOCATION:WA
CATEGORIES:Youth
END:VEVENT
BEGIN:VEVENT
DTSTART;TZID=America/Los_Angeles:20250508T100000
DTEND;TZID=America/Los_Angeles:20250508T150000
DTSTAMP:20260420T020551
CREATED:20250318T182146Z
LAST-MODIFIED:20260106T220818Z
UID:10011031-1746698400-1746716400@nkctribune.com
SUMMARY:Employers invited to participate in Workforce Education Career Fair at Yakima Valley College
DESCRIPTION:Yakima Valley College will hold a Career Fair for workforce education <https://yvcc.edu/academics/workforce-education.php> students on Thursday\, May 8\, 2025 from 10 a.m. – 3 p.m. in the Hopf Union Building (HUB) and registration is now open for employers interested in participating. During the event employers can discuss career opportunities and conduct interviews with YVC students. \nOrganizations interested in connecting with YVC students and recent graduates regarding employment opportunities can request to participate online <https://docs.google.com/forms/d/e/1FAIpQLSeGUKkX2p9nXBhkstH0P0HRlcQNYXvureOxdyI5dEJqymJV1A/viewform>. There is no cost to participate in the fair; space is limited\, so organizations are encouraged to sign up quickly. \nThis year’s event will also include pre- and post-fair workshops for participating students to prepare for the event and make the most of their conversations with potential employers
URL:https://nkctribune.com/event/employers-invited-to-participate-in-workforce-education-career-fair-at-yakima-valley-college/
LOCATION:YVCC\, Skills Center Rm W106\, Yakima\, WA\, United States
CATEGORIES:General,Job fairs,School Events,Youth
GEO:46.5836816;-120.529277
X-APPLE-STRUCTURED-LOCATION;VALUE=URI;X-ADDRESS=YVCC Skills Center Rm W106 Yakima WA United States;X-APPLE-RADIUS=500;X-TITLE=Skills Center Rm W106:geo:-120.529277,46.5836816
END:VEVENT
BEGIN:VEVENT
DTSTART;TZID=America/Los_Angeles:20250503T100000
DTEND;TZID=America/Los_Angeles:20250503T130000
DTSTAMP:20260420T020551
CREATED:20250421T220736Z
LAST-MODIFIED:20260106T220818Z
UID:10011432-1746266400-1746277200@nkctribune.com
SUMMARY:Free Kid's Bicycle Safety Rodeo
DESCRIPTION:Free Kid’s Bicycle Safety Rodeo\, Saturday\, May 3\, 10:00 a.m.-1:00 p.m. at the Cle Elum Fire Department\, 301 N. Pennsylvania Ave. FREE\, Bring your bicycle. Enjoy a bike safety course\, helmet fit station\, bike maintenance. https://kcfpd6.com/event/bike-rodeo/
URL:https://nkctribune.com/event/free-kids-bicycle-safety-rodeo/
LOCATION:Cle Elum Fire Dept\, 301 Pennsylvania Ave\, Cle Elum\, WA\, 98922\, United States
CATEGORIES:General,Youth
ATTACH;FMTTYPE=image/jpeg:https://nkctribune.com/wp-content/uploads/2025/04/2025-Bike-Rodeo-Flyer.jpg
GEO:47.1958572;-120.9381986
X-APPLE-STRUCTURED-LOCATION;VALUE=URI;X-ADDRESS=Cle Elum Fire Dept 301 Pennsylvania Ave Cle Elum WA 98922 United States;X-APPLE-RADIUS=500;X-TITLE=301 Pennsylvania Ave:geo:-120.9381986,47.1958572
END:VEVENT
END:VCALENDAR