BEGIN:VCALENDAR
VERSION:2.0
PRODID:-//Northern Kittitas County Tribune - ECPv6.15.20//NONSGML v1.0//EN
CALSCALE:GREGORIAN
METHOD:PUBLISH
X-ORIGINAL-URL:https://nkctribune.com
X-WR-CALDESC:Events for Northern Kittitas County Tribune
REFRESH-INTERVAL;VALUE=DURATION:PT1H
X-Robots-Tag:noindex
X-PUBLISHED-TTL:PT1H
BEGIN:VTIMEZONE
TZID:America/Los_Angeles
BEGIN:DAYLIGHT
TZOFFSETFROM:-0800
TZOFFSETTO:-0700
TZNAME:PDT
DTSTART:20240310T100000
END:DAYLIGHT
BEGIN:STANDARD
TZOFFSETFROM:-0700
TZOFFSETTO:-0800
TZNAME:PST
DTSTART:20241103T090000
END:STANDARD
BEGIN:DAYLIGHT
TZOFFSETFROM:-0800
TZOFFSETTO:-0700
TZNAME:PDT
DTSTART:20250309T100000
END:DAYLIGHT
BEGIN:STANDARD
TZOFFSETFROM:-0700
TZOFFSETTO:-0800
TZNAME:PST
DTSTART:20251102T090000
END:STANDARD
BEGIN:DAYLIGHT
TZOFFSETFROM:-0800
TZOFFSETTO:-0700
TZNAME:PDT
DTSTART:20260308T100000
END:DAYLIGHT
BEGIN:STANDARD
TZOFFSETFROM:-0700
TZOFFSETTO:-0800
TZNAME:PST
DTSTART:20261101T090000
END:STANDARD
END:VTIMEZONE
BEGIN:VEVENT
DTSTART;VALUE=DATE:20250423
DTEND;VALUE=DATE:20250424
DTSTAMP:20260423T160049
CREATED:20250411T212327Z
LAST-MODIFIED:20260106T220821Z
UID:10011359-1745366400-1745452799@nkctribune.com
SUMMARY:2025 Pioneer Days Mushroom Queen/King Contest
DESCRIPTION:2025 Pioneer Days Mushroom Queen/King Contest\, Now thru June 20\, Get out there and  hunt a Boletus mushroom for the annual contest sponsored by Cle Elum Lodge #1968\, Order Sons and Daughters of Italy in America and Glondo’s Sausage Company. Cash prizes for 1st\, 2nd\, and 3rd place based on weight. Mushroom of genus Boletus only. Mushroom must be edible\, in good condition\, and not altered in any way\, shape\, or form. All entries must be submitted to Glondo’s Sausage Company\, 216 East 1st Street\, Cle Elum by 5:00 p.m. on Friday\, June 20.
URL:https://nkctribune.com/event/2025-pioneer-days-mushroom-queen-king-contest/2025-04-23/
CATEGORIES:Festivals, Parades & Fairs,General,Other Events,Outdoors
END:VEVENT
BEGIN:VEVENT
DTSTART;TZID=America/Los_Angeles:20250423T160000
DTEND;TZID=America/Los_Angeles:20250423T180000
DTSTAMP:20260423T160049
CREATED:20250326T165912Z
LAST-MODIFIED:20260106T220823Z
UID:10011106-1745424000-1745431200@nkctribune.com
SUMMARY:Upsidedown Wine's Happy Hour!
DESCRIPTION:Join us for happy hour Monday-Thursday 4-6pm! 50% off select glasses\, $10 off Rosé bottle & charcuterie combo\, $6 mini charcuterie! See you soon 🙂
URL:https://nkctribune.com/event/upsidedown-wines-happy-hour/2025-04-23/
LOCATION:Upsidedown Wine\, 205 E 1st St Cle Elum\, Cle Elum\, 98922\, United States
CATEGORIES:General,Other Events
ATTACH;FMTTYPE=image/png:https://nkctribune.com/wp-content/uploads/2025/03/Logo_with_wine_.png
GEO:47.1948688;-120.9359408
X-APPLE-STRUCTURED-LOCATION;VALUE=URI;X-ADDRESS=Upsidedown Wine 205 E 1st St Cle Elum Cle Elum 98922 United States;X-APPLE-RADIUS=500;X-TITLE=205 E 1st St Cle Elum:geo:-120.9359408,47.1948688
END:VEVENT
BEGIN:VEVENT
DTSTART;TZID=America/Los_Angeles:20250423T190000
DTEND;TZID=America/Los_Angeles:20250423T190000
DTSTAMP:20260423T160049
CREATED:20190806T192939Z
LAST-MODIFIED:20260106T220826Z
UID:10002183-1745434800-1745434800@nkctribune.com
SUMMARY:Cle  Elum Eagles Aerie #649 Meeting
DESCRIPTION:The Cle Elum Aerie #649 meets every 2nd & 4th Wednesday of the Month at 7:00 p.m. at the Club on Pennsylvania Ave.
URL:https://nkctribune.com/event/cle-elum-eagles-aerie-649-meeting-3/2025-04-23/
LOCATION:Cle Elum Eagles\, 220 N Pennsylvania Ave\, Cle Elum\, WA\, United States
CATEGORIES:Club Events,Meetings
GEO:47.195606;-120.937746
X-APPLE-STRUCTURED-LOCATION;VALUE=URI;X-ADDRESS=Cle Elum Eagles 220 N Pennsylvania Ave Cle Elum WA United States;X-APPLE-RADIUS=500;X-TITLE=220 N Pennsylvania Ave:geo:-120.937746,47.195606
END:VEVENT
BEGIN:VEVENT
DTSTART;VALUE=DATE:20250424
DTEND;VALUE=DATE:20250425
DTSTAMP:20260423T160049
CREATED:20250321T232116Z
LAST-MODIFIED:20260106T220819Z
UID:10011048-1745452800-1745539199@nkctribune.com
SUMMARY:Karen O'Neal Clinice
DESCRIPTION:Karen O’Neal Eventing Clinic \nJoin acclaimed eventing clinician Karen O’Neal to sharpen your competitive edge and reach new riding goals. This clinic focuses on skill-building\, confidence\, and competitive strategies. \n Register online \nApril 24 – 27 \n 
URL:https://nkctribune.com/event/karen-oneal-clinice/2025-04-24/
LOCATION:Washington State Horse Park\, 1202 Douglas Munro Blvd\, Cle Elum\, WA\, 98922\, United States
CATEGORIES:Animal Events,Classes,General,Outdoors,Recreation
ATTACH;FMTTYPE=image/webp:https://nkctribune.com/wp-content/uploads/2025/03/Karen-ONeil-Clinic.webp
GEO:47.1935875;-120.9714416
X-APPLE-STRUCTURED-LOCATION;VALUE=URI;X-ADDRESS=Washington State Horse Park 1202 Douglas Munro Blvd Cle Elum WA 98922 United States;X-APPLE-RADIUS=500;X-TITLE=1202 Douglas Munro Blvd:geo:-120.9714416,47.1935875
END:VEVENT
BEGIN:VEVENT
DTSTART;VALUE=DATE:20250424
DTEND;VALUE=DATE:20250425
DTSTAMP:20260423T160049
CREATED:20250411T212327Z
LAST-MODIFIED:20260106T220821Z
UID:10011360-1745452800-1745539199@nkctribune.com
SUMMARY:2025 Pioneer Days Mushroom Queen/King Contest
DESCRIPTION:2025 Pioneer Days Mushroom Queen/King Contest\, Now thru June 20\, Get out there and  hunt a Boletus mushroom for the annual contest sponsored by Cle Elum Lodge #1968\, Order Sons and Daughters of Italy in America and Glondo’s Sausage Company. Cash prizes for 1st\, 2nd\, and 3rd place based on weight. Mushroom of genus Boletus only. Mushroom must be edible\, in good condition\, and not altered in any way\, shape\, or form. All entries must be submitted to Glondo’s Sausage Company\, 216 East 1st Street\, Cle Elum by 5:00 p.m. on Friday\, June 20.
URL:https://nkctribune.com/event/2025-pioneer-days-mushroom-queen-king-contest/2025-04-24/
CATEGORIES:Festivals, Parades & Fairs,General,Other Events,Outdoors
END:VEVENT
BEGIN:VEVENT
DTSTART;TZID=America/Los_Angeles:20250424T160000
DTEND;TZID=America/Los_Angeles:20250424T180000
DTSTAMP:20260423T160049
CREATED:20250326T165912Z
LAST-MODIFIED:20260106T220823Z
UID:10011107-1745510400-1745517600@nkctribune.com
SUMMARY:Upsidedown Wine's Happy Hour!
DESCRIPTION:Join us for happy hour Monday-Thursday 4-6pm! 50% off select glasses\, $10 off Rosé bottle & charcuterie combo\, $6 mini charcuterie! See you soon 🙂
URL:https://nkctribune.com/event/upsidedown-wines-happy-hour/2025-04-24/
LOCATION:Upsidedown Wine\, 205 E 1st St Cle Elum\, Cle Elum\, 98922\, United States
CATEGORIES:General,Other Events
ATTACH;FMTTYPE=image/png:https://nkctribune.com/wp-content/uploads/2025/03/Logo_with_wine_.png
GEO:47.1948688;-120.9359408
X-APPLE-STRUCTURED-LOCATION;VALUE=URI;X-ADDRESS=Upsidedown Wine 205 E 1st St Cle Elum Cle Elum 98922 United States;X-APPLE-RADIUS=500;X-TITLE=205 E 1st St Cle Elum:geo:-120.9359408,47.1948688
END:VEVENT
BEGIN:VEVENT
DTSTART;VALUE=DATE:20250425
DTEND;VALUE=DATE:20250426
DTSTAMP:20260423T160049
CREATED:20250321T232116Z
LAST-MODIFIED:20260106T220819Z
UID:10011049-1745539200-1745625599@nkctribune.com
SUMMARY:Karen O'Neal Clinice
DESCRIPTION:Karen O’Neal Eventing Clinic \nJoin acclaimed eventing clinician Karen O’Neal to sharpen your competitive edge and reach new riding goals. This clinic focuses on skill-building\, confidence\, and competitive strategies. \n Register online \nApril 24 – 27 \n 
URL:https://nkctribune.com/event/karen-oneal-clinice/2025-04-25/
LOCATION:Washington State Horse Park\, 1202 Douglas Munro Blvd\, Cle Elum\, WA\, 98922\, United States
CATEGORIES:Animal Events,Classes,General,Outdoors,Recreation
ATTACH;FMTTYPE=image/webp:https://nkctribune.com/wp-content/uploads/2025/03/Karen-ONeil-Clinic.webp
GEO:47.1935875;-120.9714416
X-APPLE-STRUCTURED-LOCATION;VALUE=URI;X-ADDRESS=Washington State Horse Park 1202 Douglas Munro Blvd Cle Elum WA 98922 United States;X-APPLE-RADIUS=500;X-TITLE=1202 Douglas Munro Blvd:geo:-120.9714416,47.1935875
END:VEVENT
BEGIN:VEVENT
DTSTART;VALUE=DATE:20250425
DTEND;VALUE=DATE:20250426
DTSTAMP:20260423T160049
CREATED:20250411T212327Z
LAST-MODIFIED:20260106T220821Z
UID:10011361-1745539200-1745625599@nkctribune.com
SUMMARY:2025 Pioneer Days Mushroom Queen/King Contest
DESCRIPTION:2025 Pioneer Days Mushroom Queen/King Contest\, Now thru June 20\, Get out there and  hunt a Boletus mushroom for the annual contest sponsored by Cle Elum Lodge #1968\, Order Sons and Daughters of Italy in America and Glondo’s Sausage Company. Cash prizes for 1st\, 2nd\, and 3rd place based on weight. Mushroom of genus Boletus only. Mushroom must be edible\, in good condition\, and not altered in any way\, shape\, or form. All entries must be submitted to Glondo’s Sausage Company\, 216 East 1st Street\, Cle Elum by 5:00 p.m. on Friday\, June 20.
URL:https://nkctribune.com/event/2025-pioneer-days-mushroom-queen-king-contest/2025-04-25/
CATEGORIES:Festivals, Parades & Fairs,General,Other Events,Outdoors
END:VEVENT
BEGIN:VEVENT
DTSTART;VALUE=DATE:20250426
DTEND;VALUE=DATE:20250427
DTSTAMP:20260423T160049
CREATED:20250321T232116Z
LAST-MODIFIED:20260106T220819Z
UID:10011050-1745625600-1745711999@nkctribune.com
SUMMARY:Karen O'Neal Clinice
DESCRIPTION:Karen O’Neal Eventing Clinic \nJoin acclaimed eventing clinician Karen O’Neal to sharpen your competitive edge and reach new riding goals. This clinic focuses on skill-building\, confidence\, and competitive strategies. \n Register online \nApril 24 – 27 \n 
URL:https://nkctribune.com/event/karen-oneal-clinice/2025-04-26/
LOCATION:Washington State Horse Park\, 1202 Douglas Munro Blvd\, Cle Elum\, WA\, 98922\, United States
CATEGORIES:Animal Events,Classes,General,Outdoors,Recreation
ATTACH;FMTTYPE=image/webp:https://nkctribune.com/wp-content/uploads/2025/03/Karen-ONeil-Clinic.webp
GEO:47.1935875;-120.9714416
X-APPLE-STRUCTURED-LOCATION;VALUE=URI;X-ADDRESS=Washington State Horse Park 1202 Douglas Munro Blvd Cle Elum WA 98922 United States;X-APPLE-RADIUS=500;X-TITLE=1202 Douglas Munro Blvd:geo:-120.9714416,47.1935875
END:VEVENT
BEGIN:VEVENT
DTSTART;VALUE=DATE:20250426
DTEND;VALUE=DATE:20250427
DTSTAMP:20260423T160049
CREATED:20250411T212327Z
LAST-MODIFIED:20260106T220821Z
UID:10011362-1745625600-1745711999@nkctribune.com
SUMMARY:2025 Pioneer Days Mushroom Queen/King Contest
DESCRIPTION:2025 Pioneer Days Mushroom Queen/King Contest\, Now thru June 20\, Get out there and  hunt a Boletus mushroom for the annual contest sponsored by Cle Elum Lodge #1968\, Order Sons and Daughters of Italy in America and Glondo’s Sausage Company. Cash prizes for 1st\, 2nd\, and 3rd place based on weight. Mushroom of genus Boletus only. Mushroom must be edible\, in good condition\, and not altered in any way\, shape\, or form. All entries must be submitted to Glondo’s Sausage Company\, 216 East 1st Street\, Cle Elum by 5:00 p.m. on Friday\, June 20.
URL:https://nkctribune.com/event/2025-pioneer-days-mushroom-queen-king-contest/2025-04-26/
CATEGORIES:Festivals, Parades & Fairs,General,Other Events,Outdoors
END:VEVENT
BEGIN:VEVENT
DTSTART;TZID=America/Los_Angeles:20250426T150000
DTEND;TZID=America/Los_Angeles:20250426T170000
DTSTAMP:20260423T160049
CREATED:20250422T181143Z
LAST-MODIFIED:20260402T053220Z
UID:10011435-1745679600-1745686800@nkctribune.com
SUMMARY:Live Music at Punch! “Ava Lin + Jen Borst”
DESCRIPTION:Open 12-5pm Saturday\, April 26 with “Ava Lin + Jen Borst” playing country folk on the Punch Stage 3-5pm.\nIn the PUNCH Gallery\, join us for the continuation of “Keep the Good Ones” by a.p.gath.\n“Keep the Good Ones” celebrates fleeting yet profound moments that shape our lives. These paintings and mixed media works capture both quiet and loud moments\, fragments of time when we feel truly alive. From peaceful afternoons to chaotic celebrations\, they invite viewers to pause and appreciate beauty in both calm and raucous. Each piece reflects how time shapes our experiences\, creating nostalgic memories. The aim is to preserve and honor these impermanent moments that stay with us long after they pass.\nVibrant colors and moody hues contrast with the mundane or difficult\, evoking motion\, light\, and emotion. Abstracted figures and dreamlike environments capture joy of connection and quiet solace. In a noisy world\, this series calls us to recognize and hold on to the positive\, for they make life worth living.\nNot to mention\, we’ve got beverages and snacks in the Punch Snack Bar.\nPlan to arrive early for a good seat!\nJoin us for this free\, all-ages event at Punch Projects in Thorp\, Washington.
URL:https://nkctribune.com/event/live-music-at-punch-ava-lin-jen-borst/
LOCATION:PUNCH Gallery\, 10630 N Thorp Hwy\, Thorp\, 98946\, United States
CATEGORIES:Music
ATTACH;FMTTYPE=image/jpeg:https://nkctribune.com/wp-content/uploads/2025/04/ava-and-jen-IG-Square.jpg
ORGANIZER;CN="PUNCH Projects":MAILTO:art@punchprojects.org
GEO:47.0691184;-120.6735653
X-APPLE-STRUCTURED-LOCATION;VALUE=URI;X-ADDRESS=PUNCH Gallery 10630 N Thorp Hwy Thorp 98946 United States;X-APPLE-RADIUS=500;X-TITLE=10630 N Thorp Hwy:geo:-120.6735653,47.0691184
END:VEVENT
BEGIN:VEVENT
DTSTART;VALUE=DATE:20250427
DTEND;VALUE=DATE:20250428
DTSTAMP:20260423T160049
CREATED:20250321T232116Z
LAST-MODIFIED:20260106T220819Z
UID:10011051-1745712000-1745798399@nkctribune.com
SUMMARY:Karen O'Neal Clinice
DESCRIPTION:Karen O’Neal Eventing Clinic \nJoin acclaimed eventing clinician Karen O’Neal to sharpen your competitive edge and reach new riding goals. This clinic focuses on skill-building\, confidence\, and competitive strategies. \n Register online \nApril 24 – 27 \n 
URL:https://nkctribune.com/event/karen-oneal-clinice/2025-04-27/
LOCATION:Washington State Horse Park\, 1202 Douglas Munro Blvd\, Cle Elum\, WA\, 98922\, United States
CATEGORIES:Animal Events,Classes,General,Outdoors,Recreation
ATTACH;FMTTYPE=image/webp:https://nkctribune.com/wp-content/uploads/2025/03/Karen-ONeil-Clinic.webp
GEO:47.1935875;-120.9714416
X-APPLE-STRUCTURED-LOCATION;VALUE=URI;X-ADDRESS=Washington State Horse Park 1202 Douglas Munro Blvd Cle Elum WA 98922 United States;X-APPLE-RADIUS=500;X-TITLE=1202 Douglas Munro Blvd:geo:-120.9714416,47.1935875
END:VEVENT
BEGIN:VEVENT
DTSTART;VALUE=DATE:20250427
DTEND;VALUE=DATE:20250428
DTSTAMP:20260423T160049
CREATED:20250411T212327Z
LAST-MODIFIED:20260106T220821Z
UID:10011363-1745712000-1745798399@nkctribune.com
SUMMARY:2025 Pioneer Days Mushroom Queen/King Contest
DESCRIPTION:2025 Pioneer Days Mushroom Queen/King Contest\, Now thru June 20\, Get out there and  hunt a Boletus mushroom for the annual contest sponsored by Cle Elum Lodge #1968\, Order Sons and Daughters of Italy in America and Glondo’s Sausage Company. Cash prizes for 1st\, 2nd\, and 3rd place based on weight. Mushroom of genus Boletus only. Mushroom must be edible\, in good condition\, and not altered in any way\, shape\, or form. All entries must be submitted to Glondo’s Sausage Company\, 216 East 1st Street\, Cle Elum by 5:00 p.m. on Friday\, June 20.
URL:https://nkctribune.com/event/2025-pioneer-days-mushroom-queen-king-contest/2025-04-27/
CATEGORIES:Festivals, Parades & Fairs,General,Other Events,Outdoors
END:VEVENT
BEGIN:VEVENT
DTSTART;VALUE=DATE:20250428
DTEND;VALUE=DATE:20250429
DTSTAMP:20260423T160049
CREATED:20250411T212327Z
LAST-MODIFIED:20260106T220821Z
UID:10011364-1745798400-1745884799@nkctribune.com
SUMMARY:2025 Pioneer Days Mushroom Queen/King Contest
DESCRIPTION:2025 Pioneer Days Mushroom Queen/King Contest\, Now thru June 20\, Get out there and  hunt a Boletus mushroom for the annual contest sponsored by Cle Elum Lodge #1968\, Order Sons and Daughters of Italy in America and Glondo’s Sausage Company. Cash prizes for 1st\, 2nd\, and 3rd place based on weight. Mushroom of genus Boletus only. Mushroom must be edible\, in good condition\, and not altered in any way\, shape\, or form. All entries must be submitted to Glondo’s Sausage Company\, 216 East 1st Street\, Cle Elum by 5:00 p.m. on Friday\, June 20.
URL:https://nkctribune.com/event/2025-pioneer-days-mushroom-queen-king-contest/2025-04-28/
CATEGORIES:Festivals, Parades & Fairs,General,Other Events,Outdoors
END:VEVENT
BEGIN:VEVENT
DTSTART;TZID=America/Los_Angeles:20250428T160000
DTEND;TZID=America/Los_Angeles:20250428T180000
DTSTAMP:20260423T160049
CREATED:20250326T165912Z
LAST-MODIFIED:20260106T220823Z
UID:10011108-1745856000-1745863200@nkctribune.com
SUMMARY:Upsidedown Wine's Happy Hour!
DESCRIPTION:Join us for happy hour Monday-Thursday 4-6pm! 50% off select glasses\, $10 off Rosé bottle & charcuterie combo\, $6 mini charcuterie! See you soon 🙂
URL:https://nkctribune.com/event/upsidedown-wines-happy-hour/2025-04-28/
LOCATION:Upsidedown Wine\, 205 E 1st St Cle Elum\, Cle Elum\, 98922\, United States
CATEGORIES:General,Other Events
ATTACH;FMTTYPE=image/png:https://nkctribune.com/wp-content/uploads/2025/03/Logo_with_wine_.png
GEO:47.1948688;-120.9359408
X-APPLE-STRUCTURED-LOCATION;VALUE=URI;X-ADDRESS=Upsidedown Wine 205 E 1st St Cle Elum Cle Elum 98922 United States;X-APPLE-RADIUS=500;X-TITLE=205 E 1st St Cle Elum:geo:-120.9359408,47.1948688
END:VEVENT
BEGIN:VEVENT
DTSTART;VALUE=DATE:20250429
DTEND;VALUE=DATE:20250430
DTSTAMP:20260423T160049
CREATED:20250411T212327Z
LAST-MODIFIED:20260106T220821Z
UID:10011365-1745884800-1745971199@nkctribune.com
SUMMARY:2025 Pioneer Days Mushroom Queen/King Contest
DESCRIPTION:2025 Pioneer Days Mushroom Queen/King Contest\, Now thru June 20\, Get out there and  hunt a Boletus mushroom for the annual contest sponsored by Cle Elum Lodge #1968\, Order Sons and Daughters of Italy in America and Glondo’s Sausage Company. Cash prizes for 1st\, 2nd\, and 3rd place based on weight. Mushroom of genus Boletus only. Mushroom must be edible\, in good condition\, and not altered in any way\, shape\, or form. All entries must be submitted to Glondo’s Sausage Company\, 216 East 1st Street\, Cle Elum by 5:00 p.m. on Friday\, June 20.
URL:https://nkctribune.com/event/2025-pioneer-days-mushroom-queen-king-contest/2025-04-29/
CATEGORIES:Festivals, Parades & Fairs,General,Other Events,Outdoors
END:VEVENT
BEGIN:VEVENT
DTSTART;TZID=America/Los_Angeles:20250429T120000
DTEND;TZID=America/Los_Angeles:20250429T210000
DTSTAMP:20260423T160050
CREATED:20250326T165114Z
LAST-MODIFIED:20260106T220822Z
UID:10011061-1745928000-1745960400@nkctribune.com
SUMMARY:Happy Hour at Dru Bru!
DESCRIPTION:Every Tuesday is Happy Hour\, all day! \nStop by either taproom to enjoy great specials on draft and to-go beverages: \n\n$1 off – 16oz pints\n$2 off – 25oz mugs\n$4 off – 60oz pitchers\n$2 off – growler fills\n$1 off – 6-packs\n$5 off – 24-pack cases\n\n\nDate and Time\nTuesday Apr 1\, 2025\n12:00 PM – 9:00 PM PDT \n\nEvery Tuesday\, when the taprooms are open \n\n\n\nLocation\nDru Bru – Cle Elum\n1015 E 2nd St.\nCle Elum\, WA 98922 \nFees/Admission \n\n\nPrices vary \n\n\n 
URL:https://nkctribune.com/event/happy-hour-at-dru-bru/2025-04-29/
LOCATION:Dru Bru Brewery – Cle Elum\, 1015 E 2nd St\, Cle Elum\, WA\, 98922\, United States
CATEGORIES:General,Other Events
ATTACH;FMTTYPE=image/png:https://nkctribune.com/wp-content/uploads/2025/03/DruBru_HappyHour_Tuesday_Poster_Letter.png
ORGANIZER;CN="Dru Bru":MAILTO:info@drubru.com
GEO:47.1936871;-120.9167073
X-APPLE-STRUCTURED-LOCATION;VALUE=URI;X-ADDRESS=Dru Bru Brewery – Cle Elum 1015 E 2nd St Cle Elum WA 98922 United States;X-APPLE-RADIUS=500;X-TITLE=1015 E 2nd St:geo:-120.9167073,47.1936871
END:VEVENT
BEGIN:VEVENT
DTSTART;TZID=America/Los_Angeles:20250429T160000
DTEND;TZID=America/Los_Angeles:20250429T180000
DTSTAMP:20260423T160050
CREATED:20250326T165912Z
LAST-MODIFIED:20260106T220823Z
UID:10011109-1745942400-1745949600@nkctribune.com
SUMMARY:Upsidedown Wine's Happy Hour!
DESCRIPTION:Join us for happy hour Monday-Thursday 4-6pm! 50% off select glasses\, $10 off Rosé bottle & charcuterie combo\, $6 mini charcuterie! See you soon 🙂
URL:https://nkctribune.com/event/upsidedown-wines-happy-hour/2025-04-29/
LOCATION:Upsidedown Wine\, 205 E 1st St Cle Elum\, Cle Elum\, 98922\, United States
CATEGORIES:General,Other Events
ATTACH;FMTTYPE=image/png:https://nkctribune.com/wp-content/uploads/2025/03/Logo_with_wine_.png
GEO:47.1948688;-120.9359408
X-APPLE-STRUCTURED-LOCATION;VALUE=URI;X-ADDRESS=Upsidedown Wine 205 E 1st St Cle Elum Cle Elum 98922 United States;X-APPLE-RADIUS=500;X-TITLE=205 E 1st St Cle Elum:geo:-120.9359408,47.1948688
END:VEVENT
BEGIN:VEVENT
DTSTART;VALUE=DATE:20250430
DTEND;VALUE=DATE:20250501
DTSTAMP:20260423T160050
CREATED:20250411T212327Z
LAST-MODIFIED:20260106T220821Z
UID:10011366-1745971200-1746057599@nkctribune.com
SUMMARY:2025 Pioneer Days Mushroom Queen/King Contest
DESCRIPTION:2025 Pioneer Days Mushroom Queen/King Contest\, Now thru June 20\, Get out there and  hunt a Boletus mushroom for the annual contest sponsored by Cle Elum Lodge #1968\, Order Sons and Daughters of Italy in America and Glondo’s Sausage Company. Cash prizes for 1st\, 2nd\, and 3rd place based on weight. Mushroom of genus Boletus only. Mushroom must be edible\, in good condition\, and not altered in any way\, shape\, or form. All entries must be submitted to Glondo’s Sausage Company\, 216 East 1st Street\, Cle Elum by 5:00 p.m. on Friday\, June 20.
URL:https://nkctribune.com/event/2025-pioneer-days-mushroom-queen-king-contest/2025-04-30/
CATEGORIES:Festivals, Parades & Fairs,General,Other Events,Outdoors
END:VEVENT
BEGIN:VEVENT
DTSTART;TZID=America/Los_Angeles:20250430T160000
DTEND;TZID=America/Los_Angeles:20250430T180000
DTSTAMP:20260423T160050
CREATED:20250326T165912Z
LAST-MODIFIED:20260106T220823Z
UID:10011110-1746028800-1746036000@nkctribune.com
SUMMARY:Upsidedown Wine's Happy Hour!
DESCRIPTION:Join us for happy hour Monday-Thursday 4-6pm! 50% off select glasses\, $10 off Rosé bottle & charcuterie combo\, $6 mini charcuterie! See you soon 🙂
URL:https://nkctribune.com/event/upsidedown-wines-happy-hour/2025-04-30/
LOCATION:Upsidedown Wine\, 205 E 1st St Cle Elum\, Cle Elum\, 98922\, United States
CATEGORIES:General,Other Events
ATTACH;FMTTYPE=image/png:https://nkctribune.com/wp-content/uploads/2025/03/Logo_with_wine_.png
GEO:47.1948688;-120.9359408
X-APPLE-STRUCTURED-LOCATION;VALUE=URI;X-ADDRESS=Upsidedown Wine 205 E 1st St Cle Elum Cle Elum 98922 United States;X-APPLE-RADIUS=500;X-TITLE=205 E 1st St Cle Elum:geo:-120.9359408,47.1948688
END:VEVENT
END:VCALENDAR