BEGIN:VCALENDAR
VERSION:2.0
PRODID:-//Northern Kittitas County Tribune - ECPv6.15.20//NONSGML v1.0//EN
CALSCALE:GREGORIAN
METHOD:PUBLISH
X-WR-CALNAME:Northern Kittitas County Tribune
X-ORIGINAL-URL:https://nkctribune.com
X-WR-CALDESC:Events for Northern Kittitas County Tribune
REFRESH-INTERVAL;VALUE=DURATION:PT1H
X-Robots-Tag:noindex
X-PUBLISHED-TTL:PT1H
BEGIN:VTIMEZONE
TZID:America/Los_Angeles
BEGIN:DAYLIGHT
TZOFFSETFROM:-0800
TZOFFSETTO:-0700
TZNAME:PDT
DTSTART:20250309T100000
END:DAYLIGHT
BEGIN:STANDARD
TZOFFSETFROM:-0700
TZOFFSETTO:-0800
TZNAME:PST
DTSTART:20251102T090000
END:STANDARD
BEGIN:DAYLIGHT
TZOFFSETFROM:-0800
TZOFFSETTO:-0700
TZNAME:PDT
DTSTART:20260308T100000
END:DAYLIGHT
BEGIN:STANDARD
TZOFFSETFROM:-0700
TZOFFSETTO:-0800
TZNAME:PST
DTSTART:20261101T090000
END:STANDARD
BEGIN:DAYLIGHT
TZOFFSETFROM:-0800
TZOFFSETTO:-0700
TZNAME:PDT
DTSTART:20270314T100000
END:DAYLIGHT
BEGIN:STANDARD
TZOFFSETFROM:-0700
TZOFFSETTO:-0800
TZNAME:PST
DTSTART:20271107T090000
END:STANDARD
BEGIN:DAYLIGHT
TZOFFSETFROM:-0800
TZOFFSETTO:-0700
TZNAME:PDT
DTSTART:20280312T100000
END:DAYLIGHT
BEGIN:STANDARD
TZOFFSETFROM:-0700
TZOFFSETTO:-0800
TZNAME:PST
DTSTART:20281105T090000
END:STANDARD
END:VTIMEZONE
BEGIN:VEVENT
DTSTART;TZID=America/Los_Angeles:20260507T163000
DTEND;TZID=America/Los_Angeles:20260507T200000
DTSTAMP:20260419T065616
CREATED:20260303T214149Z
LAST-MODIFIED:20260303T214149Z
UID:10013440-1778171400-1778184000@nkctribune.com
SUMMARY:Evening Bingo at UKC Senior Center
DESCRIPTION:Join us for Evening Bingo here at UKC Senior Center. Doors open at 4:30pm and calling begins at 6:00pm. Cards and daubers for sale on site. Cash bar is open\, sack lunches are available for $7\, or you can bring your own snacks!
URL:https://nkctribune.com/event/evening-bingo-at-ukc-senior-center/2026-05-07/
LOCATION:UKC Senior Center\, 719 E. 3rd St.\, Cle Elum\, WA\, 98922\, United States
ATTACH;FMTTYPE=image/jpeg:https://nkctribune.com/wp-content/uploads/2026/03/Evening-Bingo-First-Thursday-2026-Flyer-jpg.jpg
ORGANIZER;CN="Upper Kittitas County Senior Center":MAILTO:centerdir23@gmail.com
GEO:47.1949908;-120.923117
X-APPLE-STRUCTURED-LOCATION;VALUE=URI;X-ADDRESS=UKC Senior Center 719 E. 3rd St. Cle Elum WA 98922 United States;X-APPLE-RADIUS=500;X-TITLE=719 E. 3rd St.:geo:-120.923117,47.1949908
END:VEVENT
BEGIN:VEVENT
DTSTART;TZID=America/Los_Angeles:20260604T163000
DTEND;TZID=America/Los_Angeles:20260604T200000
DTSTAMP:20260419T065616
CREATED:20260303T214149Z
LAST-MODIFIED:20260303T214149Z
UID:10013441-1780590600-1780603200@nkctribune.com
SUMMARY:Evening Bingo at UKC Senior Center
DESCRIPTION:Join us for Evening Bingo here at UKC Senior Center. Doors open at 4:30pm and calling begins at 6:00pm. Cards and daubers for sale on site. Cash bar is open\, sack lunches are available for $7\, or you can bring your own snacks!
URL:https://nkctribune.com/event/evening-bingo-at-ukc-senior-center/2026-06-04/
LOCATION:UKC Senior Center\, 719 E. 3rd St.\, Cle Elum\, WA\, 98922\, United States
ATTACH;FMTTYPE=image/jpeg:https://nkctribune.com/wp-content/uploads/2026/03/Evening-Bingo-First-Thursday-2026-Flyer-jpg.jpg
ORGANIZER;CN="Upper Kittitas County Senior Center":MAILTO:centerdir23@gmail.com
GEO:47.1949908;-120.923117
X-APPLE-STRUCTURED-LOCATION;VALUE=URI;X-ADDRESS=UKC Senior Center 719 E. 3rd St. Cle Elum WA 98922 United States;X-APPLE-RADIUS=500;X-TITLE=719 E. 3rd St.:geo:-120.923117,47.1949908
END:VEVENT
BEGIN:VEVENT
DTSTART;TZID=America/Los_Angeles:20260702T163000
DTEND;TZID=America/Los_Angeles:20260702T200000
DTSTAMP:20260419T065616
CREATED:20260303T214149Z
LAST-MODIFIED:20260303T214149Z
UID:10013442-1783009800-1783022400@nkctribune.com
SUMMARY:Evening Bingo at UKC Senior Center
DESCRIPTION:Join us for Evening Bingo here at UKC Senior Center. Doors open at 4:30pm and calling begins at 6:00pm. Cards and daubers for sale on site. Cash bar is open\, sack lunches are available for $7\, or you can bring your own snacks!
URL:https://nkctribune.com/event/evening-bingo-at-ukc-senior-center/2026-07-02/
LOCATION:UKC Senior Center\, 719 E. 3rd St.\, Cle Elum\, WA\, 98922\, United States
ATTACH;FMTTYPE=image/jpeg:https://nkctribune.com/wp-content/uploads/2026/03/Evening-Bingo-First-Thursday-2026-Flyer-jpg.jpg
ORGANIZER;CN="Upper Kittitas County Senior Center":MAILTO:centerdir23@gmail.com
GEO:47.1949908;-120.923117
X-APPLE-STRUCTURED-LOCATION;VALUE=URI;X-ADDRESS=UKC Senior Center 719 E. 3rd St. Cle Elum WA 98922 United States;X-APPLE-RADIUS=500;X-TITLE=719 E. 3rd St.:geo:-120.923117,47.1949908
END:VEVENT
BEGIN:VEVENT
DTSTART;TZID=America/Los_Angeles:20260806T163000
DTEND;TZID=America/Los_Angeles:20260806T200000
DTSTAMP:20260419T065616
CREATED:20260303T214149Z
LAST-MODIFIED:20260303T214149Z
UID:10013443-1786033800-1786046400@nkctribune.com
SUMMARY:Evening Bingo at UKC Senior Center
DESCRIPTION:Join us for Evening Bingo here at UKC Senior Center. Doors open at 4:30pm and calling begins at 6:00pm. Cards and daubers for sale on site. Cash bar is open\, sack lunches are available for $7\, or you can bring your own snacks!
URL:https://nkctribune.com/event/evening-bingo-at-ukc-senior-center/2026-08-06/
LOCATION:UKC Senior Center\, 719 E. 3rd St.\, Cle Elum\, WA\, 98922\, United States
ATTACH;FMTTYPE=image/jpeg:https://nkctribune.com/wp-content/uploads/2026/03/Evening-Bingo-First-Thursday-2026-Flyer-jpg.jpg
ORGANIZER;CN="Upper Kittitas County Senior Center":MAILTO:centerdir23@gmail.com
GEO:47.1949908;-120.923117
X-APPLE-STRUCTURED-LOCATION;VALUE=URI;X-ADDRESS=UKC Senior Center 719 E. 3rd St. Cle Elum WA 98922 United States;X-APPLE-RADIUS=500;X-TITLE=719 E. 3rd St.:geo:-120.923117,47.1949908
END:VEVENT
BEGIN:VEVENT
DTSTART;TZID=America/Los_Angeles:20260903T163000
DTEND;TZID=America/Los_Angeles:20260903T200000
DTSTAMP:20260419T065616
CREATED:20260303T214149Z
LAST-MODIFIED:20260303T214149Z
UID:10013444-1788453000-1788465600@nkctribune.com
SUMMARY:Evening Bingo at UKC Senior Center
DESCRIPTION:Join us for Evening Bingo here at UKC Senior Center. Doors open at 4:30pm and calling begins at 6:00pm. Cards and daubers for sale on site. Cash bar is open\, sack lunches are available for $7\, or you can bring your own snacks!
URL:https://nkctribune.com/event/evening-bingo-at-ukc-senior-center/2026-09-03/
LOCATION:UKC Senior Center\, 719 E. 3rd St.\, Cle Elum\, WA\, 98922\, United States
ATTACH;FMTTYPE=image/jpeg:https://nkctribune.com/wp-content/uploads/2026/03/Evening-Bingo-First-Thursday-2026-Flyer-jpg.jpg
ORGANIZER;CN="Upper Kittitas County Senior Center":MAILTO:centerdir23@gmail.com
GEO:47.1949908;-120.923117
X-APPLE-STRUCTURED-LOCATION;VALUE=URI;X-ADDRESS=UKC Senior Center 719 E. 3rd St. Cle Elum WA 98922 United States;X-APPLE-RADIUS=500;X-TITLE=719 E. 3rd St.:geo:-120.923117,47.1949908
END:VEVENT
BEGIN:VEVENT
DTSTART;TZID=America/Los_Angeles:20261001T163000
DTEND;TZID=America/Los_Angeles:20261001T200000
DTSTAMP:20260419T065616
CREATED:20260303T214149Z
LAST-MODIFIED:20260303T214149Z
UID:10013445-1790872200-1790884800@nkctribune.com
SUMMARY:Evening Bingo at UKC Senior Center
DESCRIPTION:Join us for Evening Bingo here at UKC Senior Center. Doors open at 4:30pm and calling begins at 6:00pm. Cards and daubers for sale on site. Cash bar is open\, sack lunches are available for $7\, or you can bring your own snacks!
URL:https://nkctribune.com/event/evening-bingo-at-ukc-senior-center/2026-10-01/
LOCATION:UKC Senior Center\, 719 E. 3rd St.\, Cle Elum\, WA\, 98922\, United States
ATTACH;FMTTYPE=image/jpeg:https://nkctribune.com/wp-content/uploads/2026/03/Evening-Bingo-First-Thursday-2026-Flyer-jpg.jpg
ORGANIZER;CN="Upper Kittitas County Senior Center":MAILTO:centerdir23@gmail.com
GEO:47.1949908;-120.923117
X-APPLE-STRUCTURED-LOCATION;VALUE=URI;X-ADDRESS=UKC Senior Center 719 E. 3rd St. Cle Elum WA 98922 United States;X-APPLE-RADIUS=500;X-TITLE=719 E. 3rd St.:geo:-120.923117,47.1949908
END:VEVENT
BEGIN:VEVENT
DTSTART;TZID=America/Los_Angeles:20261105T163000
DTEND;TZID=America/Los_Angeles:20261105T200000
DTSTAMP:20260419T065616
CREATED:20260303T214149Z
LAST-MODIFIED:20260303T214149Z
UID:10013446-1793896200-1793908800@nkctribune.com
SUMMARY:Evening Bingo at UKC Senior Center
DESCRIPTION:Join us for Evening Bingo here at UKC Senior Center. Doors open at 4:30pm and calling begins at 6:00pm. Cards and daubers for sale on site. Cash bar is open\, sack lunches are available for $7\, or you can bring your own snacks!
URL:https://nkctribune.com/event/evening-bingo-at-ukc-senior-center/2026-11-05/
LOCATION:UKC Senior Center\, 719 E. 3rd St.\, Cle Elum\, WA\, 98922\, United States
ATTACH;FMTTYPE=image/jpeg:https://nkctribune.com/wp-content/uploads/2026/03/Evening-Bingo-First-Thursday-2026-Flyer-jpg.jpg
ORGANIZER;CN="Upper Kittitas County Senior Center":MAILTO:centerdir23@gmail.com
GEO:47.1949908;-120.923117
X-APPLE-STRUCTURED-LOCATION;VALUE=URI;X-ADDRESS=UKC Senior Center 719 E. 3rd St. Cle Elum WA 98922 United States;X-APPLE-RADIUS=500;X-TITLE=719 E. 3rd St.:geo:-120.923117,47.1949908
END:VEVENT
BEGIN:VEVENT
DTSTART;TZID=America/Los_Angeles:20261203T163000
DTEND;TZID=America/Los_Angeles:20261203T200000
DTSTAMP:20260419T065616
CREATED:20260303T214149Z
LAST-MODIFIED:20260303T214149Z
UID:10013447-1796315400-1796328000@nkctribune.com
SUMMARY:Evening Bingo at UKC Senior Center
DESCRIPTION:Join us for Evening Bingo here at UKC Senior Center. Doors open at 4:30pm and calling begins at 6:00pm. Cards and daubers for sale on site. Cash bar is open\, sack lunches are available for $7\, or you can bring your own snacks!
URL:https://nkctribune.com/event/evening-bingo-at-ukc-senior-center/2026-12-03/
LOCATION:UKC Senior Center\, 719 E. 3rd St.\, Cle Elum\, WA\, 98922\, United States
ATTACH;FMTTYPE=image/jpeg:https://nkctribune.com/wp-content/uploads/2026/03/Evening-Bingo-First-Thursday-2026-Flyer-jpg.jpg
ORGANIZER;CN="Upper Kittitas County Senior Center":MAILTO:centerdir23@gmail.com
GEO:47.1949908;-120.923117
X-APPLE-STRUCTURED-LOCATION;VALUE=URI;X-ADDRESS=UKC Senior Center 719 E. 3rd St. Cle Elum WA 98922 United States;X-APPLE-RADIUS=500;X-TITLE=719 E. 3rd St.:geo:-120.923117,47.1949908
END:VEVENT
BEGIN:VEVENT
DTSTART;TZID=America/Los_Angeles:20270107T163000
DTEND;TZID=America/Los_Angeles:20270107T200000
DTSTAMP:20260419T065616
CREATED:20260303T214149Z
LAST-MODIFIED:20260303T214149Z
UID:10013448-1799339400-1799352000@nkctribune.com
SUMMARY:Evening Bingo at UKC Senior Center
DESCRIPTION:Join us for Evening Bingo here at UKC Senior Center. Doors open at 4:30pm and calling begins at 6:00pm. Cards and daubers for sale on site. Cash bar is open\, sack lunches are available for $7\, or you can bring your own snacks!
URL:https://nkctribune.com/event/evening-bingo-at-ukc-senior-center/2027-01-07/
LOCATION:UKC Senior Center\, 719 E. 3rd St.\, Cle Elum\, WA\, 98922\, United States
ATTACH;FMTTYPE=image/jpeg:https://nkctribune.com/wp-content/uploads/2026/03/Evening-Bingo-First-Thursday-2026-Flyer-jpg.jpg
ORGANIZER;CN="Upper Kittitas County Senior Center":MAILTO:centerdir23@gmail.com
GEO:47.1949908;-120.923117
X-APPLE-STRUCTURED-LOCATION;VALUE=URI;X-ADDRESS=UKC Senior Center 719 E. 3rd St. Cle Elum WA 98922 United States;X-APPLE-RADIUS=500;X-TITLE=719 E. 3rd St.:geo:-120.923117,47.1949908
END:VEVENT
BEGIN:VEVENT
DTSTART;TZID=America/Los_Angeles:20270204T163000
DTEND;TZID=America/Los_Angeles:20270204T200000
DTSTAMP:20260419T065616
CREATED:20260303T214149Z
LAST-MODIFIED:20260303T214149Z
UID:10013449-1801758600-1801771200@nkctribune.com
SUMMARY:Evening Bingo at UKC Senior Center
DESCRIPTION:Join us for Evening Bingo here at UKC Senior Center. Doors open at 4:30pm and calling begins at 6:00pm. Cards and daubers for sale on site. Cash bar is open\, sack lunches are available for $7\, or you can bring your own snacks!
URL:https://nkctribune.com/event/evening-bingo-at-ukc-senior-center/2027-02-04/
LOCATION:UKC Senior Center\, 719 E. 3rd St.\, Cle Elum\, WA\, 98922\, United States
ATTACH;FMTTYPE=image/jpeg:https://nkctribune.com/wp-content/uploads/2026/03/Evening-Bingo-First-Thursday-2026-Flyer-jpg.jpg
ORGANIZER;CN="Upper Kittitas County Senior Center":MAILTO:centerdir23@gmail.com
GEO:47.1949908;-120.923117
X-APPLE-STRUCTURED-LOCATION;VALUE=URI;X-ADDRESS=UKC Senior Center 719 E. 3rd St. Cle Elum WA 98922 United States;X-APPLE-RADIUS=500;X-TITLE=719 E. 3rd St.:geo:-120.923117,47.1949908
END:VEVENT
BEGIN:VEVENT
DTSTART;TZID=America/Los_Angeles:20270304T163000
DTEND;TZID=America/Los_Angeles:20270304T200000
DTSTAMP:20260419T065616
CREATED:20260303T214149Z
LAST-MODIFIED:20260303T214149Z
UID:10013450-1804177800-1804190400@nkctribune.com
SUMMARY:Evening Bingo at UKC Senior Center
DESCRIPTION:Join us for Evening Bingo here at UKC Senior Center. Doors open at 4:30pm and calling begins at 6:00pm. Cards and daubers for sale on site. Cash bar is open\, sack lunches are available for $7\, or you can bring your own snacks!
URL:https://nkctribune.com/event/evening-bingo-at-ukc-senior-center/2027-03-04/
LOCATION:UKC Senior Center\, 719 E. 3rd St.\, Cle Elum\, WA\, 98922\, United States
ATTACH;FMTTYPE=image/jpeg:https://nkctribune.com/wp-content/uploads/2026/03/Evening-Bingo-First-Thursday-2026-Flyer-jpg.jpg
ORGANIZER;CN="Upper Kittitas County Senior Center":MAILTO:centerdir23@gmail.com
GEO:47.1949908;-120.923117
X-APPLE-STRUCTURED-LOCATION;VALUE=URI;X-ADDRESS=UKC Senior Center 719 E. 3rd St. Cle Elum WA 98922 United States;X-APPLE-RADIUS=500;X-TITLE=719 E. 3rd St.:geo:-120.923117,47.1949908
END:VEVENT
BEGIN:VEVENT
DTSTART;TZID=America/Los_Angeles:20270401T163000
DTEND;TZID=America/Los_Angeles:20270401T200000
DTSTAMP:20260419T065616
CREATED:20260303T214149Z
LAST-MODIFIED:20260303T214149Z
UID:10013451-1806597000-1806609600@nkctribune.com
SUMMARY:Evening Bingo at UKC Senior Center
DESCRIPTION:Join us for Evening Bingo here at UKC Senior Center. Doors open at 4:30pm and calling begins at 6:00pm. Cards and daubers for sale on site. Cash bar is open\, sack lunches are available for $7\, or you can bring your own snacks!
URL:https://nkctribune.com/event/evening-bingo-at-ukc-senior-center/2027-04-01/
LOCATION:UKC Senior Center\, 719 E. 3rd St.\, Cle Elum\, WA\, 98922\, United States
ATTACH;FMTTYPE=image/jpeg:https://nkctribune.com/wp-content/uploads/2026/03/Evening-Bingo-First-Thursday-2026-Flyer-jpg.jpg
ORGANIZER;CN="Upper Kittitas County Senior Center":MAILTO:centerdir23@gmail.com
GEO:47.1949908;-120.923117
X-APPLE-STRUCTURED-LOCATION;VALUE=URI;X-ADDRESS=UKC Senior Center 719 E. 3rd St. Cle Elum WA 98922 United States;X-APPLE-RADIUS=500;X-TITLE=719 E. 3rd St.:geo:-120.923117,47.1949908
END:VEVENT
BEGIN:VEVENT
DTSTART;TZID=America/Los_Angeles:20270506T163000
DTEND;TZID=America/Los_Angeles:20270506T200000
DTSTAMP:20260419T065616
CREATED:20260303T214149Z
LAST-MODIFIED:20260303T214149Z
UID:10013452-1809621000-1809633600@nkctribune.com
SUMMARY:Evening Bingo at UKC Senior Center
DESCRIPTION:Join us for Evening Bingo here at UKC Senior Center. Doors open at 4:30pm and calling begins at 6:00pm. Cards and daubers for sale on site. Cash bar is open\, sack lunches are available for $7\, or you can bring your own snacks!
URL:https://nkctribune.com/event/evening-bingo-at-ukc-senior-center/2027-05-06/
LOCATION:UKC Senior Center\, 719 E. 3rd St.\, Cle Elum\, WA\, 98922\, United States
ATTACH;FMTTYPE=image/jpeg:https://nkctribune.com/wp-content/uploads/2026/03/Evening-Bingo-First-Thursday-2026-Flyer-jpg.jpg
ORGANIZER;CN="Upper Kittitas County Senior Center":MAILTO:centerdir23@gmail.com
GEO:47.1949908;-120.923117
X-APPLE-STRUCTURED-LOCATION;VALUE=URI;X-ADDRESS=UKC Senior Center 719 E. 3rd St. Cle Elum WA 98922 United States;X-APPLE-RADIUS=500;X-TITLE=719 E. 3rd St.:geo:-120.923117,47.1949908
END:VEVENT
BEGIN:VEVENT
DTSTART;TZID=America/Los_Angeles:20270603T163000
DTEND;TZID=America/Los_Angeles:20270603T200000
DTSTAMP:20260419T065616
CREATED:20260303T214149Z
LAST-MODIFIED:20260303T214149Z
UID:10013453-1812040200-1812052800@nkctribune.com
SUMMARY:Evening Bingo at UKC Senior Center
DESCRIPTION:Join us for Evening Bingo here at UKC Senior Center. Doors open at 4:30pm and calling begins at 6:00pm. Cards and daubers for sale on site. Cash bar is open\, sack lunches are available for $7\, or you can bring your own snacks!
URL:https://nkctribune.com/event/evening-bingo-at-ukc-senior-center/2027-06-03/
LOCATION:UKC Senior Center\, 719 E. 3rd St.\, Cle Elum\, WA\, 98922\, United States
ATTACH;FMTTYPE=image/jpeg:https://nkctribune.com/wp-content/uploads/2026/03/Evening-Bingo-First-Thursday-2026-Flyer-jpg.jpg
ORGANIZER;CN="Upper Kittitas County Senior Center":MAILTO:centerdir23@gmail.com
GEO:47.1949908;-120.923117
X-APPLE-STRUCTURED-LOCATION;VALUE=URI;X-ADDRESS=UKC Senior Center 719 E. 3rd St. Cle Elum WA 98922 United States;X-APPLE-RADIUS=500;X-TITLE=719 E. 3rd St.:geo:-120.923117,47.1949908
END:VEVENT
BEGIN:VEVENT
DTSTART;TZID=America/Los_Angeles:20270701T163000
DTEND;TZID=America/Los_Angeles:20270701T200000
DTSTAMP:20260419T065616
CREATED:20260303T214149Z
LAST-MODIFIED:20260303T214149Z
UID:10013454-1814459400-1814472000@nkctribune.com
SUMMARY:Evening Bingo at UKC Senior Center
DESCRIPTION:Join us for Evening Bingo here at UKC Senior Center. Doors open at 4:30pm and calling begins at 6:00pm. Cards and daubers for sale on site. Cash bar is open\, sack lunches are available for $7\, or you can bring your own snacks!
URL:https://nkctribune.com/event/evening-bingo-at-ukc-senior-center/2027-07-01/
LOCATION:UKC Senior Center\, 719 E. 3rd St.\, Cle Elum\, WA\, 98922\, United States
ATTACH;FMTTYPE=image/jpeg:https://nkctribune.com/wp-content/uploads/2026/03/Evening-Bingo-First-Thursday-2026-Flyer-jpg.jpg
ORGANIZER;CN="Upper Kittitas County Senior Center":MAILTO:centerdir23@gmail.com
GEO:47.1949908;-120.923117
X-APPLE-STRUCTURED-LOCATION;VALUE=URI;X-ADDRESS=UKC Senior Center 719 E. 3rd St. Cle Elum WA 98922 United States;X-APPLE-RADIUS=500;X-TITLE=719 E. 3rd St.:geo:-120.923117,47.1949908
END:VEVENT
BEGIN:VEVENT
DTSTART;TZID=America/Los_Angeles:20270805T163000
DTEND;TZID=America/Los_Angeles:20270805T200000
DTSTAMP:20260419T065616
CREATED:20260303T214149Z
LAST-MODIFIED:20260303T214149Z
UID:10013455-1817483400-1817496000@nkctribune.com
SUMMARY:Evening Bingo at UKC Senior Center
DESCRIPTION:Join us for Evening Bingo here at UKC Senior Center. Doors open at 4:30pm and calling begins at 6:00pm. Cards and daubers for sale on site. Cash bar is open\, sack lunches are available for $7\, or you can bring your own snacks!
URL:https://nkctribune.com/event/evening-bingo-at-ukc-senior-center/2027-08-05/
LOCATION:UKC Senior Center\, 719 E. 3rd St.\, Cle Elum\, WA\, 98922\, United States
ATTACH;FMTTYPE=image/jpeg:https://nkctribune.com/wp-content/uploads/2026/03/Evening-Bingo-First-Thursday-2026-Flyer-jpg.jpg
ORGANIZER;CN="Upper Kittitas County Senior Center":MAILTO:centerdir23@gmail.com
GEO:47.1949908;-120.923117
X-APPLE-STRUCTURED-LOCATION;VALUE=URI;X-ADDRESS=UKC Senior Center 719 E. 3rd St. Cle Elum WA 98922 United States;X-APPLE-RADIUS=500;X-TITLE=719 E. 3rd St.:geo:-120.923117,47.1949908
END:VEVENT
BEGIN:VEVENT
DTSTART;TZID=America/Los_Angeles:20270902T163000
DTEND;TZID=America/Los_Angeles:20270902T200000
DTSTAMP:20260419T065616
CREATED:20260303T214149Z
LAST-MODIFIED:20260303T214149Z
UID:10013456-1819902600-1819915200@nkctribune.com
SUMMARY:Evening Bingo at UKC Senior Center
DESCRIPTION:Join us for Evening Bingo here at UKC Senior Center. Doors open at 4:30pm and calling begins at 6:00pm. Cards and daubers for sale on site. Cash bar is open\, sack lunches are available for $7\, or you can bring your own snacks!
URL:https://nkctribune.com/event/evening-bingo-at-ukc-senior-center/2027-09-02/
LOCATION:UKC Senior Center\, 719 E. 3rd St.\, Cle Elum\, WA\, 98922\, United States
ATTACH;FMTTYPE=image/jpeg:https://nkctribune.com/wp-content/uploads/2026/03/Evening-Bingo-First-Thursday-2026-Flyer-jpg.jpg
ORGANIZER;CN="Upper Kittitas County Senior Center":MAILTO:centerdir23@gmail.com
GEO:47.1949908;-120.923117
X-APPLE-STRUCTURED-LOCATION;VALUE=URI;X-ADDRESS=UKC Senior Center 719 E. 3rd St. Cle Elum WA 98922 United States;X-APPLE-RADIUS=500;X-TITLE=719 E. 3rd St.:geo:-120.923117,47.1949908
END:VEVENT
BEGIN:VEVENT
DTSTART;TZID=America/Los_Angeles:20271007T163000
DTEND;TZID=America/Los_Angeles:20271007T200000
DTSTAMP:20260419T065616
CREATED:20260303T214149Z
LAST-MODIFIED:20260303T214149Z
UID:10013457-1822926600-1822939200@nkctribune.com
SUMMARY:Evening Bingo at UKC Senior Center
DESCRIPTION:Join us for Evening Bingo here at UKC Senior Center. Doors open at 4:30pm and calling begins at 6:00pm. Cards and daubers for sale on site. Cash bar is open\, sack lunches are available for $7\, or you can bring your own snacks!
URL:https://nkctribune.com/event/evening-bingo-at-ukc-senior-center/2027-10-07/
LOCATION:UKC Senior Center\, 719 E. 3rd St.\, Cle Elum\, WA\, 98922\, United States
ATTACH;FMTTYPE=image/jpeg:https://nkctribune.com/wp-content/uploads/2026/03/Evening-Bingo-First-Thursday-2026-Flyer-jpg.jpg
ORGANIZER;CN="Upper Kittitas County Senior Center":MAILTO:centerdir23@gmail.com
GEO:47.1949908;-120.923117
X-APPLE-STRUCTURED-LOCATION;VALUE=URI;X-ADDRESS=UKC Senior Center 719 E. 3rd St. Cle Elum WA 98922 United States;X-APPLE-RADIUS=500;X-TITLE=719 E. 3rd St.:geo:-120.923117,47.1949908
END:VEVENT
BEGIN:VEVENT
DTSTART;TZID=America/Los_Angeles:20271104T163000
DTEND;TZID=America/Los_Angeles:20271104T200000
DTSTAMP:20260419T065616
CREATED:20260303T214149Z
LAST-MODIFIED:20260303T214149Z
UID:10013458-1825345800-1825358400@nkctribune.com
SUMMARY:Evening Bingo at UKC Senior Center
DESCRIPTION:Join us for Evening Bingo here at UKC Senior Center. Doors open at 4:30pm and calling begins at 6:00pm. Cards and daubers for sale on site. Cash bar is open\, sack lunches are available for $7\, or you can bring your own snacks!
URL:https://nkctribune.com/event/evening-bingo-at-ukc-senior-center/2027-11-04/
LOCATION:UKC Senior Center\, 719 E. 3rd St.\, Cle Elum\, WA\, 98922\, United States
ATTACH;FMTTYPE=image/jpeg:https://nkctribune.com/wp-content/uploads/2026/03/Evening-Bingo-First-Thursday-2026-Flyer-jpg.jpg
ORGANIZER;CN="Upper Kittitas County Senior Center":MAILTO:centerdir23@gmail.com
GEO:47.1949908;-120.923117
X-APPLE-STRUCTURED-LOCATION;VALUE=URI;X-ADDRESS=UKC Senior Center 719 E. 3rd St. Cle Elum WA 98922 United States;X-APPLE-RADIUS=500;X-TITLE=719 E. 3rd St.:geo:-120.923117,47.1949908
END:VEVENT
END:VCALENDAR