BEGIN:VCALENDAR
VERSION:2.0
PRODID:-//Northern Kittitas County Tribune - ECPv6.15.20//NONSGML v1.0//EN
CALSCALE:GREGORIAN
METHOD:PUBLISH
X-WR-CALNAME:Northern Kittitas County Tribune
X-ORIGINAL-URL:https://nkctribune.com
X-WR-CALDESC:Events for Northern Kittitas County Tribune
REFRESH-INTERVAL;VALUE=DURATION:PT1H
X-Robots-Tag:noindex
X-PUBLISHED-TTL:PT1H
BEGIN:VTIMEZONE
TZID:America/Los_Angeles
BEGIN:DAYLIGHT
TZOFFSETFROM:-0800
TZOFFSETTO:-0700
TZNAME:PDT
DTSTART:20250309T100000
END:DAYLIGHT
BEGIN:STANDARD
TZOFFSETFROM:-0700
TZOFFSETTO:-0800
TZNAME:PST
DTSTART:20251102T090000
END:STANDARD
BEGIN:DAYLIGHT
TZOFFSETFROM:-0800
TZOFFSETTO:-0700
TZNAME:PDT
DTSTART:20260308T100000
END:DAYLIGHT
BEGIN:STANDARD
TZOFFSETFROM:-0700
TZOFFSETTO:-0800
TZNAME:PST
DTSTART:20261101T090000
END:STANDARD
BEGIN:DAYLIGHT
TZOFFSETFROM:-0800
TZOFFSETTO:-0700
TZNAME:PDT
DTSTART:20270314T100000
END:DAYLIGHT
BEGIN:STANDARD
TZOFFSETFROM:-0700
TZOFFSETTO:-0800
TZNAME:PST
DTSTART:20271107T090000
END:STANDARD
END:VTIMEZONE
BEGIN:VEVENT
DTSTART;TZID=America/Los_Angeles:20260404T100000
DTEND;TZID=America/Los_Angeles:20260404T120000
DTSTAMP:20260423T000935
CREATED:20260330T223734Z
LAST-MODIFIED:20260330T223734Z
UID:10013977-1775296800-1775304000@nkctribune.com
SUMMARY:Easter in the Park
DESCRIPTION:Easter in the Park – Free –  Everyone Welcome! \nContinuous egg hunts\, crafts\, games\, prizes\, pancake breakfast \nSaturday\, April 4 \n10:00 a.m. – 12:00 p.m. \nCle Elum City Park on 2nd St by the Skate Park \nHosted by Calvary Chapel Cle Elum
URL:https://nkctribune.com/event/easter-in-the-park/
LOCATION:Cle Elum City Park\, 519 W. Second St.\, Cle Elum\, WA\, 98922\, United States
CATEGORIES:Holiday Celebration,Outdoors,Youth
GEO:47.1969819;-120.949042
X-APPLE-STRUCTURED-LOCATION;VALUE=URI;X-ADDRESS=Cle Elum City Park 519 W. Second St. Cle Elum WA 98922 United States;X-APPLE-RADIUS=500;X-TITLE=519 W. Second St.:geo:-120.949042,47.1969819
END:VEVENT
END:VCALENDAR