BEGIN:VCALENDAR
VERSION:2.0
PRODID:-//Northern Kittitas County Tribune - ECPv6.15.20//NONSGML v1.0//EN
CALSCALE:GREGORIAN
METHOD:PUBLISH
X-WR-CALNAME:Northern Kittitas County Tribune
X-ORIGINAL-URL:https://nkctribune.com
X-WR-CALDESC:Events for Northern Kittitas County Tribune
REFRESH-INTERVAL;VALUE=DURATION:PT1H
X-Robots-Tag:noindex
X-PUBLISHED-TTL:PT1H
BEGIN:VTIMEZONE
TZID:America/Los_Angeles
BEGIN:DAYLIGHT
TZOFFSETFROM:-0800
TZOFFSETTO:-0700
TZNAME:PDT
DTSTART:20240310T100000
END:DAYLIGHT
BEGIN:STANDARD
TZOFFSETFROM:-0700
TZOFFSETTO:-0800
TZNAME:PST
DTSTART:20241103T090000
END:STANDARD
BEGIN:DAYLIGHT
TZOFFSETFROM:-0800
TZOFFSETTO:-0700
TZNAME:PDT
DTSTART:20250309T100000
END:DAYLIGHT
BEGIN:STANDARD
TZOFFSETFROM:-0700
TZOFFSETTO:-0800
TZNAME:PST
DTSTART:20251102T090000
END:STANDARD
BEGIN:DAYLIGHT
TZOFFSETFROM:-0800
TZOFFSETTO:-0700
TZNAME:PDT
DTSTART:20260308T100000
END:DAYLIGHT
BEGIN:STANDARD
TZOFFSETFROM:-0700
TZOFFSETTO:-0800
TZNAME:PST
DTSTART:20261101T090000
END:STANDARD
END:VTIMEZONE
BEGIN:VEVENT
DTSTART;TZID=America/Los_Angeles:20251017T160000
DTEND;TZID=America/Los_Angeles:20251017T210000
DTSTAMP:20260424T004100
CREATED:20250923T012008Z
LAST-MODIFIED:20260106T220756Z
UID:10012300-1760716800-1760734800@nkctribune.com
SUMMARY:Ski Swap Gear Drop Off
DESCRIPTION:Planning to sell equipment at the Ski Swap? You’ll have to do so before the big day! \nBring your clean\, sellable equipment to Dru Bru Cle Elum on a Friday\, Oct 17\, 4-9pm \nAll inventory must be registered and dropped off prior to the event. There is no gear entry at the swap. If you can’t make the drop off date\, please contact kcsscyouth@gmail.com prior to drop off date.
URL:https://nkctribune.com/event/ski-swap-gear-drop-off/
LOCATION:Dru Bru – Cle Elum\, 1015 E 2nd St.\, Cle Elum\, WA\, 98922\, United States
CATEGORIES:Fundraisers
ATTACH;FMTTYPE=image/jpeg:https://nkctribune.com/wp-content/uploads/2025/09/1000003582.jpg
ORGANIZER;CN="KCSSC":MAILTO:kcsscyouth@gmail.com
GEO:47.1936871;-120.9167072
X-APPLE-STRUCTURED-LOCATION;VALUE=URI;X-ADDRESS=Dru Bru – Cle Elum 1015 E 2nd St. Cle Elum WA 98922 United States;X-APPLE-RADIUS=500;X-TITLE=1015 E 2nd St.:geo:-120.9167072,47.1936871
END:VEVENT
END:VCALENDAR