BEGIN:VCALENDAR
VERSION:2.0
PRODID:-//Northern Kittitas County Tribune - ECPv6.15.20//NONSGML v1.0//EN
CALSCALE:GREGORIAN
METHOD:PUBLISH
X-WR-CALNAME:Northern Kittitas County Tribune
X-ORIGINAL-URL:https://nkctribune.com
X-WR-CALDESC:Events for Northern Kittitas County Tribune
REFRESH-INTERVAL;VALUE=DURATION:PT1H
X-Robots-Tag:noindex
X-PUBLISHED-TTL:PT1H
BEGIN:VTIMEZONE
TZID:America/Los_Angeles
BEGIN:DAYLIGHT
TZOFFSETFROM:-0800
TZOFFSETTO:-0700
TZNAME:PDT
DTSTART:20250309T100000
END:DAYLIGHT
BEGIN:STANDARD
TZOFFSETFROM:-0700
TZOFFSETTO:-0800
TZNAME:PST
DTSTART:20251102T090000
END:STANDARD
BEGIN:DAYLIGHT
TZOFFSETFROM:-0800
TZOFFSETTO:-0700
TZNAME:PDT
DTSTART:20260308T100000
END:DAYLIGHT
BEGIN:STANDARD
TZOFFSETFROM:-0700
TZOFFSETTO:-0800
TZNAME:PST
DTSTART:20261101T090000
END:STANDARD
BEGIN:DAYLIGHT
TZOFFSETFROM:-0800
TZOFFSETTO:-0700
TZNAME:PDT
DTSTART:20270314T100000
END:DAYLIGHT
BEGIN:STANDARD
TZOFFSETFROM:-0700
TZOFFSETTO:-0800
TZNAME:PST
DTSTART:20271107T090000
END:STANDARD
END:VTIMEZONE
BEGIN:VEVENT
DTSTART;TZID=America/Los_Angeles:20260207T120000
DTEND;TZID=America/Los_Angeles:20260207T120000
DTSTAMP:20260423T024515
CREATED:20260204T213201Z
LAST-MODIFIED:20260204T213201Z
UID:10013406-1770465600-1770465600@nkctribune.com
SUMMARY:Happy Valentine’s Day Rainbow Tie-Dye Class
DESCRIPTION:Learn to make two tie-dyed heart bandanas with local artist Sarah Stahl \nAges 7+ \nSaturday\, February 7th \n3 classes offered: \n10AM / 11AM / 12PM \nCost is $5/person \nMaximum of 10 people per class \nHeld at: \nRoslyn Creative Center \n103 W Idaho Ave\, Roslyn\, WA
URL:https://nkctribune.com/event/happy-valentines-day-rainbow-tie-dye-class/2026-02-07/3/
LOCATION:Roslyn Creative Center\, 103 W Idaho Ave\, Roslyn\, 98941\, United States
CATEGORIES:Classes,General,Other Events
ATTACH;FMTTYPE=image/png:https://nkctribune.com/wp-content/uploads/2026/02/Valentines-tie-dye-2026-flyer.png
GEO:47.2246322;-120.9954124
X-APPLE-STRUCTURED-LOCATION;VALUE=URI;X-ADDRESS=Roslyn Creative Center 103 W Idaho Ave Roslyn 98941 United States;X-APPLE-RADIUS=500;X-TITLE=103 W Idaho Ave:geo:-120.9954124,47.2246322
END:VEVENT
BEGIN:VEVENT
DTSTART;TZID=America/Los_Angeles:20260207T110000
DTEND;TZID=America/Los_Angeles:20260207T110000
DTSTAMP:20260423T024515
CREATED:20260204T213201Z
LAST-MODIFIED:20260204T213201Z
UID:10013405-1770462000-1770462000@nkctribune.com
SUMMARY:Happy Valentine’s Day Rainbow Tie-Dye Class
DESCRIPTION:Learn to make two tie-dyed heart bandanas with local artist Sarah Stahl \nAges 7+ \nSaturday\, February 7th \n3 classes offered: \n10AM / 11AM / 12PM \nCost is $5/person \nMaximum of 10 people per class \nHeld at: \nRoslyn Creative Center \n103 W Idaho Ave\, Roslyn\, WA
URL:https://nkctribune.com/event/happy-valentines-day-rainbow-tie-dye-class/2026-02-07/2/
LOCATION:Roslyn Creative Center\, 103 W Idaho Ave\, Roslyn\, 98941\, United States
CATEGORIES:Classes,General,Other Events
ATTACH;FMTTYPE=image/png:https://nkctribune.com/wp-content/uploads/2026/02/Valentines-tie-dye-2026-flyer.png
GEO:47.2246322;-120.9954124
X-APPLE-STRUCTURED-LOCATION;VALUE=URI;X-ADDRESS=Roslyn Creative Center 103 W Idaho Ave Roslyn 98941 United States;X-APPLE-RADIUS=500;X-TITLE=103 W Idaho Ave:geo:-120.9954124,47.2246322
END:VEVENT
BEGIN:VEVENT
DTSTART;TZID=America/Los_Angeles:20260207T100000
DTEND;TZID=America/Los_Angeles:20260207T100000
DTSTAMP:20260423T024515
CREATED:20260204T213201Z
LAST-MODIFIED:20260204T213201Z
UID:10013404-1770458400-1770458400@nkctribune.com
SUMMARY:Happy Valentine’s Day Rainbow Tie-Dye Class
DESCRIPTION:Learn to make two tie-dyed heart bandanas with local artist Sarah Stahl \nAges 7+ \nSaturday\, February 7th \n3 classes offered: \n10AM / 11AM / 12PM \nCost is $5/person \nMaximum of 10 people per class \nHeld at: \nRoslyn Creative Center \n103 W Idaho Ave\, Roslyn\, WA
URL:https://nkctribune.com/event/happy-valentines-day-rainbow-tie-dye-class/2026-02-07/1/
LOCATION:Roslyn Creative Center\, 103 W Idaho Ave\, Roslyn\, 98941\, United States
CATEGORIES:Classes,General,Other Events
ATTACH;FMTTYPE=image/png:https://nkctribune.com/wp-content/uploads/2026/02/Valentines-tie-dye-2026-flyer.png
GEO:47.2246322;-120.9954124
X-APPLE-STRUCTURED-LOCATION;VALUE=URI;X-ADDRESS=Roslyn Creative Center 103 W Idaho Ave Roslyn 98941 United States;X-APPLE-RADIUS=500;X-TITLE=103 W Idaho Ave:geo:-120.9954124,47.2246322
END:VEVENT
END:VCALENDAR