BEGIN:VCALENDAR
VERSION:2.0
PRODID:-//Northern Kittitas County Tribune - ECPv6.15.20//NONSGML v1.0//EN
CALSCALE:GREGORIAN
METHOD:PUBLISH
X-ORIGINAL-URL:https://nkctribune.com
X-WR-CALDESC:Events for Northern Kittitas County Tribune
REFRESH-INTERVAL;VALUE=DURATION:PT1H
X-Robots-Tag:noindex
X-PUBLISHED-TTL:PT1H
BEGIN:VTIMEZONE
TZID:America/Los_Angeles
BEGIN:DAYLIGHT
TZOFFSETFROM:-0800
TZOFFSETTO:-0700
TZNAME:PDT
DTSTART:20250309T100000
END:DAYLIGHT
BEGIN:STANDARD
TZOFFSETFROM:-0700
TZOFFSETTO:-0800
TZNAME:PST
DTSTART:20251102T090000
END:STANDARD
BEGIN:DAYLIGHT
TZOFFSETFROM:-0800
TZOFFSETTO:-0700
TZNAME:PDT
DTSTART:20260308T100000
END:DAYLIGHT
BEGIN:STANDARD
TZOFFSETFROM:-0700
TZOFFSETTO:-0800
TZNAME:PST
DTSTART:20261101T090000
END:STANDARD
BEGIN:DAYLIGHT
TZOFFSETFROM:-0800
TZOFFSETTO:-0700
TZNAME:PDT
DTSTART:20270314T100000
END:DAYLIGHT
BEGIN:STANDARD
TZOFFSETFROM:-0700
TZOFFSETTO:-0800
TZNAME:PST
DTSTART:20271107T090000
END:STANDARD
END:VTIMEZONE
BEGIN:VEVENT
DTSTART;TZID=America/Los_Angeles:20260620T100000
DTEND;TZID=America/Los_Angeles:20260620T140000
DTSTAMP:20260421T072429
CREATED:20260420T162344Z
LAST-MODIFIED:20260420T162344Z
UID:10014179-1781949600-1781964000@nkctribune.com
SUMMARY:2026 Roslyn Vintage Trailer Rally Open House
DESCRIPTION:Step back in time at the 13th Annual Roslyn Vintage Trailer Rally!\nPlease join us for our free Open House on Saturday\, June 20\, from 10:00 AM to 2:00 PM. Come explore a curated collection of trailers ranging from the 1930s to the mid-70s. We look forward to seeing you at Roslyn’s Pioneer Park!
URL:https://nkctribune.com/event/2026-roslyn-vintage-trailer-rally-open-house/
LOCATION:Roslyn Pioneer Park\, North 3rd St. and W. Arizona Ave\, Roslyn\, WA\, 98941\, United States
CATEGORIES:Art Shows and Exhibits
GEO:47.2246032;-120.9978585
X-APPLE-STRUCTURED-LOCATION;VALUE=URI;X-ADDRESS=Roslyn Pioneer Park North 3rd St. and W. Arizona Ave Roslyn WA 98941 United States;X-APPLE-RADIUS=500;X-TITLE=North 3rd St. and W. Arizona Ave:geo:-120.9978585,47.2246032
END:VEVENT
END:VCALENDAR