BEGIN:VCALENDAR
VERSION:2.0
PRODID:-//Northern Kittitas County Tribune - ECPv6.15.20//NONSGML v1.0//EN
CALSCALE:GREGORIAN
METHOD:PUBLISH
X-ORIGINAL-URL:https://nkctribune.com
X-WR-CALDESC:Events for Northern Kittitas County Tribune
REFRESH-INTERVAL;VALUE=DURATION:PT1H
X-Robots-Tag:noindex
X-PUBLISHED-TTL:PT1H
BEGIN:VTIMEZONE
TZID:America/Los_Angeles
BEGIN:DAYLIGHT
TZOFFSETFROM:-0800
TZOFFSETTO:-0700
TZNAME:PDT
DTSTART:20240310T100000
END:DAYLIGHT
BEGIN:STANDARD
TZOFFSETFROM:-0700
TZOFFSETTO:-0800
TZNAME:PST
DTSTART:20241103T090000
END:STANDARD
BEGIN:DAYLIGHT
TZOFFSETFROM:-0800
TZOFFSETTO:-0700
TZNAME:PDT
DTSTART:20250309T100000
END:DAYLIGHT
BEGIN:STANDARD
TZOFFSETFROM:-0700
TZOFFSETTO:-0800
TZNAME:PST
DTSTART:20251102T090000
END:STANDARD
BEGIN:DAYLIGHT
TZOFFSETFROM:-0800
TZOFFSETTO:-0700
TZNAME:PDT
DTSTART:20260308T100000
END:DAYLIGHT
BEGIN:STANDARD
TZOFFSETFROM:-0700
TZOFFSETTO:-0800
TZNAME:PST
DTSTART:20261101T090000
END:STANDARD
END:VTIMEZONE
BEGIN:VEVENT
DTSTART;TZID=America/Los_Angeles:20250708T110000
DTEND;TZID=America/Los_Angeles:20250708T120000
DTSTAMP:20260419T093914
CREATED:20250616T174208Z
LAST-MODIFIED:20260106T220809Z
UID:10011781-1751972400-1751976000@nkctribune.com
SUMMARY:Penny's Puppets Show
DESCRIPTION:Join us at the Roslyn Yard for a magical performance by Penny’s Puppets—professional puppetry with heart\, humor\, and a mission to make the world a better place\, one puppet at a time! \nPresented in partnership with the Roslyn and Carpenter Library
URL:https://nkctribune.com/event/pennys-puppets-show/
LOCATION:The Roslyn Yard\, 102 W. Pennsylvania Ave.\, Roslyn\, WA\, 98941\, United States
CATEGORIES:Library & Book Events
ATTACH;FMTTYPE=image/png:https://nkctribune.com/wp-content/uploads/2025/06/Screen-Shot-2025-06-13-at-4.36.05-PM-1.png
ORGANIZER;CN="Roslyn Library":MAILTO:rpl@inlandnet.com
GEO:47.2227836;-120.9937726
X-APPLE-STRUCTURED-LOCATION;VALUE=URI;X-ADDRESS=The Roslyn Yard 102 W. Pennsylvania Ave. Roslyn WA 98941 United States;X-APPLE-RADIUS=500;X-TITLE=102 W. Pennsylvania Ave.:geo:-120.9937726,47.2227836
END:VEVENT
BEGIN:VEVENT
DTSTART;TZID=America/Los_Angeles:20250708T110000
DTEND;TZID=America/Los_Angeles:20250708T120000
DTSTAMP:20260419T093914
CREATED:20250616T165907Z
LAST-MODIFIED:20260106T220809Z
UID:10011778-1751972400-1751976000@nkctribune.com
SUMMARY:Penny's Puppets Special Show
DESCRIPTION:Join us at the Roslyn Yard for a magical performance by Penny’s Puppets—professional puppetry with heart\, humor\, and a mission to make the world a better place\, one puppet at a time! \nPresented by the Roslyn and Carpenter Libraries as part of their Summer Reading Program.
URL:https://nkctribune.com/event/pennys-puppets-special-show/
LOCATION:The Roslyn Yard\, 102 W. Pennsylvania Ave.\, Roslyn\, WA\, 98941\, United States
CATEGORIES:Library & Book Events
ATTACH;FMTTYPE=image/png:https://nkctribune.com/wp-content/uploads/2025/06/Screen-Shot-2025-06-13-at-4.36.05-PM.png
GEO:47.2227836;-120.9937726
X-APPLE-STRUCTURED-LOCATION;VALUE=URI;X-ADDRESS=The Roslyn Yard 102 W. Pennsylvania Ave. Roslyn WA 98941 United States;X-APPLE-RADIUS=500;X-TITLE=102 W. Pennsylvania Ave.:geo:-120.9937726,47.2227836
END:VEVENT
END:VCALENDAR