BEGIN:VCALENDAR
VERSION:2.0
PRODID:-//Northern Kittitas County Tribune - ECPv6.15.20//NONSGML v1.0//EN
CALSCALE:GREGORIAN
METHOD:PUBLISH
X-ORIGINAL-URL:https://nkctribune.com
X-WR-CALDESC:Events for Northern Kittitas County Tribune
REFRESH-INTERVAL;VALUE=DURATION:PT1H
X-Robots-Tag:noindex
X-PUBLISHED-TTL:PT1H
BEGIN:VTIMEZONE
TZID:America/Los_Angeles
BEGIN:DAYLIGHT
TZOFFSETFROM:-0800
TZOFFSETTO:-0700
TZNAME:PDT
DTSTART:20250309T100000
END:DAYLIGHT
BEGIN:STANDARD
TZOFFSETFROM:-0700
TZOFFSETTO:-0800
TZNAME:PST
DTSTART:20251102T090000
END:STANDARD
BEGIN:DAYLIGHT
TZOFFSETFROM:-0800
TZOFFSETTO:-0700
TZNAME:PDT
DTSTART:20260308T100000
END:DAYLIGHT
BEGIN:STANDARD
TZOFFSETFROM:-0700
TZOFFSETTO:-0800
TZNAME:PST
DTSTART:20261101T090000
END:STANDARD
BEGIN:DAYLIGHT
TZOFFSETFROM:-0800
TZOFFSETTO:-0700
TZNAME:PDT
DTSTART:20270314T100000
END:DAYLIGHT
BEGIN:STANDARD
TZOFFSETFROM:-0700
TZOFFSETTO:-0800
TZNAME:PST
DTSTART:20271107T090000
END:STANDARD
END:VTIMEZONE
BEGIN:VEVENT
DTSTART;TZID=America/Los_Angeles:20260226T170000
DTEND;TZID=America/Los_Angeles:20260226T183000
DTSTAMP:20260423T023931
CREATED:20260217T183918Z
LAST-MODIFIED:20260217T183918Z
UID:10013426-1772125200-1772130600@nkctribune.com
SUMMARY:Behind the Screen: Understanding Online Predators (Gore Groups)
DESCRIPTION:Behind the Screen: Understanding Online Predators (Gore Groups) is a presentation for community members\, caregivers\, and parents on Thursday\, February 26\, 5:00-6:30 p.m. at Walter Strom Middle School in Cle Elum. There will be a free dinner from 5:00-5:30 p.m. followed by the presentation from 5:30-6:30 p.m. \nLearn how online predators and violent “gore groups” target youth through social media\, gaming\, and messaging apps from Dr. Elianna Carr\, CICA\, CLEA Crime & Intelligence Analyst. She will share current trends\, warning signs\, and practical tools to help families recognize risks and protect their children online. \nRSVP to Jessica Cranefield at:  jessica.cranefield@esd105.org  or call or text 509-941-7304. \nContent Advisory: This presentation discusses sensitive topics including online exploitation\, predatory behavior\, and exposure to violent online content. Not recommended for children. Childcare will be provided.
URL:https://nkctribune.com/event/behind-the-screen-understanding-online-predators-gore-groups/
LOCATION:Walter Strom Middle School\, WA\, 98922\, United States
CATEGORIES:General,Presentations, Seminars, Talks
ATTACH;FMTTYPE=image/png:https://nkctribune.com/wp-content/uploads/2026/02/Gore-Group-Presentation--scaled.png
GEO:47.2548315;-120.8083774
END:VEVENT
END:VCALENDAR